BEGIN:VCALENDAR
VERSION:2.0
PRODID:-//Guia d&#039;activitats (proves) - ECPv6.15.0.1//NONSGML v1.0//EN
CALSCALE:GREGORIAN
METHOD:PUBLISH
X-ORIGINAL-URL:https://gact2.gact.terrassa.cat
X-WR-CALDESC:Esdeveniments per Guia d&#039;activitats (proves)
REFRESH-INTERVAL;VALUE=DURATION:PT1H
X-Robots-Tag:noindex
X-PUBLISHED-TTL:PT1H
BEGIN:VTIMEZONE
TZID:Europe/Madrid
BEGIN:DAYLIGHT
TZOFFSETFROM:+0100
TZOFFSETTO:+0200
TZNAME:CEST
DTSTART:20260329T010000
END:DAYLIGHT
BEGIN:STANDARD
TZOFFSETFROM:+0200
TZOFFSETTO:+0100
TZNAME:CET
DTSTART:20261025T010000
END:STANDARD
END:VTIMEZONE
BEGIN:VEVENT
DTSTART;TZID=Europe/Madrid:20260216T080000
DTEND;TZID=Europe/Madrid:20260430T120000
DTSTAMP:20260420T204135
CREATED:20250717T174940Z
LAST-MODIFIED:20260205T072602Z
UID:12162-1771228800-1777550400@gact2.gact.terrassa.cat
SUMMARY:Prova Dani esdeveniment recurrent
DESCRIPTION:prova esdeveniment recurrent.
URL:https://gact2.gact.terrassa.cat/activitat/prova-dani-esdeveniment-recurrent/2026-02-16/
ATTACH;FMTTYPE=image/png:https://gact2.gact.terrassa.cat/wp-content/uploads/2023/06/logo-guia-viva-rosa-1.png
END:VEVENT
END:VCALENDAR