BEGIN:VCALENDAR
VERSION:2.0
PRODID:-//Guia d&#039;activitats (proves) - ECPv6.15.0.1//NONSGML v1.0//EN
CALSCALE:GREGORIAN
METHOD:PUBLISH
X-WR-CALNAME:Guia d&#039;activitats (proves)
X-ORIGINAL-URL:https://gact2.gact.terrassa.cat
X-WR-CALDESC:Esdeveniments per Guia d&#039;activitats (proves)
REFRESH-INTERVAL;VALUE=DURATION:PT1H
X-Robots-Tag:noindex
X-PUBLISHED-TTL:PT1H
BEGIN:VTIMEZONE
TZID:Europe/Madrid
BEGIN:DAYLIGHT
TZOFFSETFROM:+0100
TZOFFSETTO:+0200
TZNAME:CEST
DTSTART:20260329T010000
END:DAYLIGHT
BEGIN:STANDARD
TZOFFSETFROM:+0200
TZOFFSETTO:+0100
TZNAME:CET
DTSTART:20261025T010000
END:STANDARD
END:VTIMEZONE
BEGIN:VEVENT
DTSTART;VALUE=DATE:20260420
DTEND;VALUE=DATE:20260421
DTSTAMP:20260420T165455
CREATED:20240701T164813Z
LAST-MODIFIED:20260409T135412Z
UID:11981-1776643200-1776729599@gact2.gact.terrassa.cat
SUMMARY:Prova reserves Dani
DESCRIPTION:DESCRIPCIÓ\n\nAtenció: d’aquesta activitat s’ofereixen 4 sessions/dia. Una escola per sessió. \n Els centres us podeu inscriure fins esgotar el calendari.  Aquesta activitat té un cost d’1€ per infant.\nEls nens i nenes es dirigeixen a la rotonda on es guarden les màquines i els membres del Club Ferroviari tenen el seu material. Aquí se’ls explica com funcionen les locomotores tant les elèctriques com les de vapor. També es parla dels senyals\,  concretament dels semàfors i s’acaba amb el concepte de pila. A continuació\, pugen al trenet i donen unes quantes voltes al circuit per gaudir d’un passeig tranquil\, tot admirant el paisatge que ens ofereix el Parc de Vallparadís.
URL:https://gact2.gact.terrassa.cat/activitat/prova-reserves-dani/2026-04-20/
LOCATION:Parc de Vallparadís\, Parc de Vallparadís\, Terrassa\, Barcelona\, 08221\, Espanya
CATEGORIES:Ciutat i territori
ATTACH;FMTTYPE=image/jpeg:https://gact2.gact.terrassa.cat/wp-content/uploads/2020/07/foto_logo_club_ferroviari-scaled-e1600254833236.jpg
ORGANIZER;CN="Club Ferroviari de Terrassa":MAILTO:jmbtrens@gmail.com
END:VEVENT
END:VCALENDAR