BEGIN:VCALENDAR
VERSION:2.0
PRODID:-//Guia d&#039;activitats (proves) - ECPv6.15.0.1//NONSGML v1.0//EN
CALSCALE:GREGORIAN
METHOD:PUBLISH
X-WR-CALNAME:Guia d&#039;activitats (proves)
X-ORIGINAL-URL:https://gact2.gact.terrassa.cat
X-WR-CALDESC:Esdeveniments per Guia d&#039;activitats (proves)
REFRESH-INTERVAL;VALUE=DURATION:PT1H
X-Robots-Tag:noindex
X-PUBLISHED-TTL:PT1H
BEGIN:VTIMEZONE
TZID:Europe/Madrid
BEGIN:DAYLIGHT
TZOFFSETFROM:+0100
TZOFFSETTO:+0200
TZNAME:CEST
DTSTART:20210328T010000
END:DAYLIGHT
BEGIN:STANDARD
TZOFFSETFROM:+0200
TZOFFSETTO:+0100
TZNAME:CET
DTSTART:20211031T010000
END:STANDARD
BEGIN:DAYLIGHT
TZOFFSETFROM:+0100
TZOFFSETTO:+0200
TZNAME:CEST
DTSTART:20220327T010000
END:DAYLIGHT
BEGIN:STANDARD
TZOFFSETFROM:+0200
TZOFFSETTO:+0100
TZNAME:CET
DTSTART:20221030T010000
END:STANDARD
END:VTIMEZONE
BEGIN:VEVENT
DTSTART;VALUE=DATE:20220124
DTEND;VALUE=DATE:20220223
DTSTAMP:20260420T185506
CREATED:20200907T120146Z
LAST-MODIFIED:20210930T145054Z
UID:1436-1642982400-1645574399@gact2.gact.terrassa.cat
SUMMARY:Juguem amb la poesia
DESCRIPTION:DESCRIPCIÓ\n\nATENCIÓ: Subvenció limitada a 1 curs per centre\, o p4 o p5.\nCada centre educatiu ha d’escollir dia i sessió. Es faran 3 sessions/dia\, a les 9:30 h\, 11:30 h i 15:30 h amb un màxim de 2 grups classe (60 pax/sessió). Divendres a la tarda no hi ha sessió.\nEls centres de més de dos línies heu d’escollir les sessions seguides. En cas contrari la professional es reserva el dret de decidir sobre la realització o no de les activitats.\n1 centre educatiu\, màxim 2 grups classe/sessió (60 pax)\nEl preu és per sessió pràctica.\nNa Rosa Fité ens apropa jugant a l’obra poètica de l’Olga Xirinacs i el seu llibre “Cavall de mar\, Marina”. Amb ella passejarem al costat del mar entre poemes\, petites rimes i cançons\, tot coneixent les aventures i desventures del Pere Pescallunes. \nTot això ajudat per un suport visual atractiu per l’infant. Per acabar d’aprofundir en el tema jugarem a endevinalles per tal de fomentar la participació activa de l’infant amb la poesia de la poetessa Olga Xirinacs. \nwww.rosafite.cat \nObservacions: Al fer l’activitat dins l’escola es necessita un espai on hi pugin cabre els dos grups classe\, si s’escau\, i una mica d’espai per l’escenografia o atrezzo de l’espectacle. Val la mateixa aula si hi ha espai\, o la sala de motricitat o altre alternativa on el mobiliari\, que hi pugui haver\, no impedeixi estar còmodes.
URL:https://gact2.gact.terrassa.cat/activitat/juguem-amb-la-poesia/
LOCATION:Centre Educatiu\, Terrassa\, Barcelona\, Espanya
CATEGORIES:El món de la paraula
ATTACH;FMTTYPE=image/jpeg:https://gact2.gact.terrassa.cat/wp-content/uploads/2020/07/juguem-amb-les-poetes-e1599479671898.jpg
ORGANIZER;CN="Servei d'Educaci%C3%B3":MAILTO:promocio.educativa@terrassa.cat
END:VEVENT
BEGIN:VEVENT
DTSTART;VALUE=DATE:20220110
DTEND;VALUE=DATE:20220415
DTSTAMP:20260420T185506
CREATED:20201129T230051Z
LAST-MODIFIED:20210922T100317Z
UID:1576-1641772800-1649980799@gact2.gact.terrassa.cat
SUMMARY:Llegim policíaca (Egara negra)
DESCRIPTION:DESCRIPCIÓ\n\nLectura d’un llibre de novel•la policíaca adequat a l’edat i el nivell educatiu que proposa la biblioteca. A partir de la lectura\, a l’escola es podran fer diferents activitats al voltant del llibre\, el seu autor o autora i algun tema de fons que es vulgui treballar (per exemple\, el perill de les xarxes socials). Un cop fetes les activitats es farà una trobada amb el propi autor o autora a la bd6. \nObservacions:  Data límit inscripció: 02/12/2021 \n 
URL:https://gact2.gact.terrassa.cat/activitat/llegim-policiaca-egara-negra/
LOCATION:Centre Educatiu\, Terrassa\, Barcelona\, Espanya
CATEGORIES:El món de la paraula
ATTACH;FMTTYPE=image/jpeg:https://gact2.gact.terrassa.cat/wp-content/uploads/2020/07/foto_logo_bct_xarxa.jpg
ORGANIZER;CN="Biblioteques p%C3%BAbliques de Terrassa":MAILTO:bct@terrassa.cat
END:VEVENT
BEGIN:VEVENT
DTSTART;VALUE=DATE:20211001
DTEND;VALUE=DATE:20220601
DTSTAMP:20260420T185506
CREATED:20201129T230010Z
LAST-MODIFIED:20210922T083553Z
UID:1475-1633046400-1654041599@gact2.gact.terrassa.cat
SUMMARY:Conèixer la  bct-xarxa
DESCRIPTION:DESCRIPCIÓ\n\nVisites a la biblioteca \n\nPetits lectors (fins als 5 anys). Explicació breu de l’Àrea infantil\, amb mostra de llibres i narració de conte.\nDe primer a quart de Primària (de 6 a 10 anys). Explicació dels serveis i el funcionament de la biblioteca. Mostra de llibres  de coneixements i d‘imaginació. Coneixement del catàleg i la recerca d’informació en funció de l’edat\nCinquè i sisè de Primària. Explicació dels serveis i el funcionament de la biblioteca. Nocions sobre el sistema de classificació i les fonts d’informació. Mostra de llibres de coneixements i d’imaginació. Adaptació segons l’edat i el curs.\nESO (A partir d’ 12 anys). Explicació dels serveis i el funcionament de la biblioteca . S’aprofundeix en el funcionament del catàleg o bé en l’ús d’enciclopèdies i diccionaris.\n\nVisites organitzades \nAdreçades a tot tipus de públic (adult\, educació especial\, AMPAS\, etc.) i en un horari més flexible que el de les visites escolars. El seu objectiu és el de donar a conèixer la biblioteca\, la seva organització\, els seus espais i el seu funcionament. Ens adaptem als interessos dels diferents grups. \nSessions de treball (les sessions es fan a la bct\, bd2\, bd3\, bd4 i la bd6) \nTreball col·lectiu de tot el grup-classe a la mateixa biblioteca\, amb horari de 10 a 13\, i prèvia reserva de la sala infantil. La biblioteca ofereix l’espai i el fons documental. La sessió ha de ser tutoritzada pels propis mestres. \nPer a poder-ne gaudir el grup-classe haurà hagut de fer prèviament una visita d’introducció a la biblioteca. Aquestes sessions també es poden fer combinades amb la formació en l’ús del catàleg. \nLa biblioteca us recomana… \nTastet de lectures recomanables per als alumnes d’educació infantil\, primària o secundària. \nAltres serveis:  \nLa bct xarxa també ofereix altres serveis a les escoles: assessorament bibliogràfic i préstec de lots de llibres. \nObservacions:  \n\nles visites es poden adaptar a les necessitats del grup classe\nper més detall de la tipologia de visites\, consulteu el dossier “Conèixer la bct xarxa”\, que trobareu al nostre web: www.terrassa.cat/biblioteques\n\n 
URL:https://gact2.gact.terrassa.cat/activitat/coneixer-la-bct-xarxa/
LOCATION:Biblioteca Central de Terrassa -bct
CATEGORIES:El món de la paraula
ATTACH;FMTTYPE=image/jpeg:https://gact2.gact.terrassa.cat/wp-content/uploads/2020/07/foto_logo_bct_xarxa.jpg
ORGANIZER;CN="Biblioteques p%C3%BAbliques de Terrassa":MAILTO:bct@terrassa.cat
END:VEVENT
BEGIN:VEVENT
DTSTART;VALUE=DATE:20211001
DTEND;VALUE=DATE:20220601
DTSTAMP:20260420T185506
CREATED:20201129T230023Z
LAST-MODIFIED:20210922T100144Z
UID:3135-1633046400-1654041599@gact2.gact.terrassa.cat
SUMMARY:Conèixer la bct xarxa i Pràctica Esportiva
DESCRIPTION:DESCRIPCIÓ\n\n•       De primer a tercer de Primària.\na) Explicació dels serveis i el funcionament de la biblioteca. Mostra de llibres de coneixements i d‘imaginació. Coneixement del catàleg i la recerca d’informació. Adaptació segons l’edat i el curs.\nb) Pràctica d’un dels següents esports*: Judo\, natació\, xap polo o hoquei\n•       De quart a sisè de Primària.\na) Explicació dels serveis i el funcionament de la biblioteca. Nocions sobre el sistema de classificació i les fonts d’informació. Mostra de llibres de coneixements o joc “Exploradors de les biblioteques” per aprendre a fer servir el catàleg. Adaptació segons l’edat i el curs\nb) Pràctica d’un dels següents esports: Judo\, natació o waterpolo o hoquei\n•       De primer a quart d’ESO\na) Explicació dels serveis i el funcionament de la biblioteca. Nocions sobre el sistema de classificació i les fonts d’informació. Joc “explora amb l’APP de les biblioteques” per aprendre a fer servir el catàleg. Es requereix dispositiu mòbil i compte de correu electrònic.\nDurada de la Formació : 2 h.\n*Totes les dates dels diferents esports es concretaran un cop iniciat el curs 2021-2022
URL:https://gact2.gact.terrassa.cat/activitat/coneixer-la-bct-xarxa-i-practica-esportiva/
LOCATION:Biblioteca d5\, Jocs Olímpics\, s/n\, Terrassa\, barcelona\, 08225\, Espanya
CATEGORIES:El món de la paraula
ATTACH;FMTTYPE=image/jpeg:https://gact2.gact.terrassa.cat/wp-content/uploads/2020/07/foto_logo_bct_xarxa.jpg
ORGANIZER;CN="Biblioteques p%C3%BAbliques de Terrassa":MAILTO:bct@terrassa.cat
END:VEVENT
BEGIN:VEVENT
DTSTART;VALUE=DATE:20210923
DTEND;VALUE=DATE:20220620
DTSTAMP:20260420T185506
CREATED:20200904T125602Z
LAST-MODIFIED:20210923T123024Z
UID:1634-1632355200-1655683199@gact2.gact.terrassa.cat
SUMMARY:Contes de princeses
DESCRIPTION:DESCRIPCIÓ\n\nTradicionalment les històries de prínceps i princeses acaben amb la frase “ i van viure feliços i van menjar anissos” però\, no sempre és així!  Veniu i gaudiu d’uns contes sorprenents protagonitzats per unes princeses que trenquen amb els estereotips. \nAquesta activitat està basada en el conte “M’han donat carbasses” de l’escriptor Jordi Palet i il·lustracions de l’Ester Llorens. \nEscollir 2 contes del següent llistat:\n– La Bella dorment\n– La princesa del pèsol\n– La Rapunzel\n– La Blancaneus \nCal concretar les característiques de la visita amb el grup sol•licitant (dia\, horari\, continguts…). \n– Preu: 1 sessió: 40 €\n– Forma de pagament: per transferència bancària \nNota: El Castell Cartoixa és accessible per a persones amb mobilitat reduïda només a la planta baixa.  
URL:https://gact2.gact.terrassa.cat/activitat/contes-de-princeses/
LOCATION:Castell Cartoixa de Vallparadís\, Carrer Salmerón\, 17\, Terrassa\, Barcelona\, 08222
CATEGORIES:El món de la paraula
ATTACH;FMTTYPE=image/png:https://gact2.gact.terrassa.cat/wp-content/uploads/2020/07/foto_contes_de_princeses.png
ORGANIZER;CN="Servei d'Educaci%C3%B3":MAILTO:promocio.educativa@terrassa.cat
END:VEVENT
BEGIN:VEVENT
DTSTART;VALUE=DATE:20210909
DTEND;VALUE=DATE:20220327
DTSTAMP:20260420T185506
CREATED:20200714T084744Z
LAST-MODIFIED:20210922T120831Z
UID:715-1631145600-1648339199@gact2.gact.terrassa.cat
SUMMARY:En Bufalletres - 1a sessió pràctica a l'aula
DESCRIPTION:DESCRIPCIÓN\n\nATENCIÓN: Sólo se admite la inscripción de 1 centro por día. Cada centro educativo tiene que escoger día y sesión. Se harán 3 sesiones / día\, a las 9 h\, 11.30 hy 15:30 h con un máximo de 1 grupo clase (30 pax / sesión). \nEs imprescindible hacer la 1ª sesión para participar de la 2ª sesión.  \nPropuesta de lectura en la escuela que va más allá de la simple explicación de un cuento. La estructura del programa es la siguiente: \n1ª sesión en el aula: “Cuentos al oído”. Narración de cuentos en el aula. A partir de un cuento se propondrá un “trabajo-juego”. \n2ª sesión en el aula: Inauguración del Museo de en Bufalletres. Cada niño con su caja-museo explicará los cuentos que habrá leído.
URL:https://gact2.gact.terrassa.cat/activitat/en-bufalletres-1a-sessio/
LOCATION:Centre Educatiu\, Terrassa\, Barcelona\, Espanya
CATEGORIES:El món de la paraula
ATTACH;FMTTYPE=image/jpeg:https://gact2.gact.terrassa.cat/wp-content/uploads/2020/07/IMG_0471-e1594725042427.jpg
ORGANIZER;CN="Servei d'Educaci%C3%B3":MAILTO:promocio.educativa@terrassa.cat
END:VEVENT
BEGIN:VEVENT
DTSTART;VALUE=DATE:20210909
DTEND;VALUE=DATE:20220326
DTSTAMP:20260420T185506
CREATED:20200929T151339Z
LAST-MODIFIED:20210922T120443Z
UID:720-1631145600-1648252799@gact2.gact.terrassa.cat
SUMMARY:En Bufalletres - 2a sessió pràctica a l'aula
DESCRIPTION:DESCRIPCIÓ\n\nATENCIÓ: Només s’admet la inscripció d’1 centre per dia. Cada centre educatiu ha d’escollir dia i sessió. Es faran 3 sessions/dia\, a les 9 h\, 11.30 h i 15:30 h amb un màxim d’1 grup classe (30 pax/sessió). \nPer participar de la 2a sessió és imprescindible haver fet la 1a sessió. \nProposta de lectura a l’escola que va més enllà de la simple explicació d’un conte. L’estructura del programa és la següent: \n1ª sessió a l’aula: “Contes a cau d’orella”. Narració de contes a l’aula. A partir d’un conte es proposarà un “treball-joc”. \n2ª sessió a l’aula: Inauguració del Museu d’en Bufalletres. Cada nen amb la seva capsa-museu explicarà els contes que haurà llegit.
URL:https://gact2.gact.terrassa.cat/activitat/en-bufalletres-2a-sessio-practica-a-laula/
LOCATION:Centre Educatiu\, Terrassa\, Barcelona\, Espanya
CATEGORIES:El món de la paraula
ATTACH;FMTTYPE=image/jpeg:https://gact2.gact.terrassa.cat/wp-content/uploads/2020/07/IMG_0471-e1594725042427.jpg
ORGANIZER;CN="Servei d'Educaci%C3%B3":MAILTO:promocio.educativa@terrassa.cat
END:VEVENT
BEGIN:VEVENT
DTSTART;VALUE=DATE:20210909
DTEND;VALUE=DATE:20220601
DTSTAMP:20260420T185506
CREATED:20200921T131430Z
LAST-MODIFIED:20220113T174502Z
UID:3777-1631145600-1654041599@gact2.gact.terrassa.cat
SUMMARY:Poesia Emocional
DESCRIPTION:DESCRIPCIÓ\n\nActivitat dividida en dos sessions \n1a sessió de gener a març de dilluns a divendres de 10 a 12 hores: «Poesia emocional» és una activitat que integra diversos àmbits de coneixement del currículum competencial\, i que al mateix temps serveix per dinamitzar l’acció tutorial\, obtenir una imatge del perfil emocional de l’aula i reforçar el projecte de convivència del centre. El projecte consisteix en una sessió a la classe de llengua i literatura on es realitzarà per part d’un actor/actriu professional diverses lectures dramatitzades de poemes especialment seleccionats. Després d’aquestes lectures s’analitzarà cada obra poètica\, fent una reflexió personal sobre les emocions i sentiments que s’evoquen i com es gestionen aquestes emocions en el dia a dia dels i les joves. \n2a sessió d’abril a maig de dilluns a divendres de 10 a 12 hores:  Durant una classe de tutoria\, es farà una exposició amb tots aquells elements que s’han tractat i es realitzarà una reflexió personal i grupal al voltant de la gestió emocional. Els professionals del projecte aprofitaran la sessió per elaborar un perfil emocional de l’aula\, basat en els resultats de cada alumne/a i posteriorment donarà eines al professorat per poder fer una bona gestió emocional a l’aula. \n* Una vegada realitzat aquest projecte didàctic\, existeix la opció d’ampliar els continguts i aprofundir el treball realitzat amb un programa d’educació emocional per a l’escola. \nAtenció:  S’ofereixen 15 tallers per a un màxim de 30 pax/taller. Els centres educatius us heu d’inscriure per a cada grup classe/taller. El preu d’un taller és de 97€.
URL:https://gact2.gact.terrassa.cat/activitat/poesia-emocional/
LOCATION:Centre Educatiu\, Terrassa\, Barcelona\, Espanya
CATEGORIES:El món de la paraula,Novetats
ATTACH;FMTTYPE=image/jpeg:https://gact2.gact.terrassa.cat/wp-content/uploads/2020/09/264_256_256_5.jpg
ORGANIZER;CN="Servei d'Educaci%C3%B3":MAILTO:promocio.educativa@terrassa.cat
END:VEVENT
BEGIN:VEVENT
DTSTART;VALUE=DATE:20210909
DTEND;VALUE=DATE:20220618
DTSTAMP:20260420T185506
CREATED:20201119T230019Z
LAST-MODIFIED:20211105T085404Z
UID:1706-1631145600-1655510399@gact2.gact.terrassa.cat
SUMMARY:Com fer un conte
DESCRIPTION:DESCRIPCIÓ\n\nA través de la paraula i a través dels contes del Pere i la Valentina\, explicarem com es crea un fil narratiu\, com passes d’imaginar-te una història a plasmar-la en el paper. Com trobar les fonts d’informació (sobretot fonts provinents de la memòria oral de gent gran)\, com embastar un fil narratiu\, utilitzant la imaginació\, les vivències personals i la informació. \nÉs una sessió molt activa\, dinàmica en que els nens i nenes participen en tot moment\, contestant preguntes\, fent-ne\, proposant fils narratius i creant personatge. \nAtenció:  S’ofereixen 20 tallers per a un màxim de 30 pax/taller. Els centres educatius us heu d’inscriure per a cada grup classe/taller. El preu d’un taller és de 50€.
URL:https://gact2.gact.terrassa.cat/activitat/com-fer-un-conte/
LOCATION:Centre Educatiu\, Terrassa\, Barcelona\, Espanya
CATEGORIES:El món de la paraula
ATTACH;FMTTYPE=image/jpeg:https://gact2.gact.terrassa.cat/wp-content/uploads/2020/07/foto_pereIvaletina-e1599218135875.jpg
ORGANIZER;CN="Edicions la Finestra Blava":MAILTO:nuriarieracarrillo@gmail.com
END:VEVENT
BEGIN:VEVENT
DTSTART;VALUE=DATE:20210909
DTEND;VALUE=DATE:20220618
DTSTAMP:20260420T185506
CREATED:20200904T112915Z
LAST-MODIFIED:20220113T173351Z
UID:2555-1631145600-1655510399@gact2.gact.terrassa.cat
SUMMARY:Com es vivia a Terrassa fa 100 anys
DESCRIPTION:DESCRIPCIÓ\n\nNombre màxim d’alumnat participant a cada sessió: 30 pax. 1 grup classe.\nA través dels contes de la història de Terrassa (Col·lecció Pere i Valentina) ens endinsarem en com era i com es vivia a Terrassa fa 100 anys o fa 1000 anys (a triar).
URL:https://gact2.gact.terrassa.cat/activitat/com-es-vivia-a-terrassa-fa/
LOCATION:Centre Educatiu\, Terrassa\, Barcelona\, Espanya
CATEGORIES:El món de la paraula,Novetats
ATTACH;FMTTYPE=image/jpeg:https://gact2.gact.terrassa.cat/wp-content/uploads/2020/07/foto_pereIvaletina-e1599218135875.jpg
ORGANIZER;CN="Edicions la Finestra Blava":MAILTO:nuriarieracarrillo@gmail.com
END:VEVENT
END:VCALENDAR