BEGIN:VCALENDAR
VERSION:2.0
PRODID:-//Guia d&#039;activitats (proves) - ECPv6.15.0.1//NONSGML v1.0//EN
CALSCALE:GREGORIAN
METHOD:PUBLISH
X-ORIGINAL-URL:https://gact2.gact.terrassa.cat
X-WR-CALDESC:Esdeveniments per Guia d&#039;activitats (proves)
REFRESH-INTERVAL;VALUE=DURATION:PT1H
X-Robots-Tag:noindex
X-PUBLISHED-TTL:PT1H
BEGIN:VTIMEZONE
TZID:Europe/Madrid
BEGIN:DAYLIGHT
TZOFFSETFROM:+0100
TZOFFSETTO:+0200
TZNAME:CEST
DTSTART:20210328T010000
END:DAYLIGHT
BEGIN:STANDARD
TZOFFSETFROM:+0200
TZOFFSETTO:+0100
TZNAME:CET
DTSTART:20211031T010000
END:STANDARD
BEGIN:DAYLIGHT
TZOFFSETFROM:+0100
TZOFFSETTO:+0200
TZNAME:CEST
DTSTART:20220327T010000
END:DAYLIGHT
BEGIN:STANDARD
TZOFFSETFROM:+0200
TZOFFSETTO:+0100
TZNAME:CET
DTSTART:20221030T010000
END:STANDARD
END:VTIMEZONE
BEGIN:VEVENT
DTSTART;VALUE=DATE:20211001
DTEND;VALUE=DATE:20220618
DTSTAMP:20260420T191554
CREATED:20201110T230007Z
LAST-MODIFIED:20210722T120106Z
UID:2723-1633046400-1655510399@gact2.gact.terrassa.cat
SUMMARY:Taller de Ball de bastons
DESCRIPTION:DESCRIPCIÓ\n\nL’Associació dels Bastoners de Terrassa\, amb 40 anys des de la seva recuperació\, ha realitzat centenars de tallers arreu del territori per difondre el ball de bastons i la seva cultura. A través dels nostres tallers podreu conèixer de primera mà les nostres característiques històriques\, artístiques i socials endinsant-vos al món bastoner. \n1. Iniciem l’activitat amb l’activació de coneixements previs sobre el món Bastoner tot enllaçant la presentació de la colla amb una breu història i mostra interactiva del vestuari.\n2. Abans de posar-nos a ballar\, expliquem els objectius d’aprenentatge del taller\, la normativa de seguretat i fem un ball de mostra.\n3. Tot seguit\, repartim bastons i comencem a ensenyar els balls més emblemàtics i coneguts dels Bastoners de Terrassa\, de manera progressiva i adaptant-nos a les necessitats i demandes de cada grup.\n4. Per anar acabant\, els grups de participants fan una mostra dels balls apresos\, amb la música d’acompanyament\, tot simulant un ball a plaça.\n5. Concloem el taller amb l’avaluació dels mateixos alumnes\, compartint sensacions i emocions de l’experiència. L’equip de monis aprofita per parlar dels nostres assajos i proposa de formar part de la colla bastonera. \nEl preu del taller s’ajustarà en funció del nombre de participants i les hores de durada\, adaptant-se a les necessitats de cada centre i pactades per mail.
URL:https://gact2.gact.terrassa.cat/activitat/taller-de-ball-de-bastons/
LOCATION:Centre Educatiu\, Terrassa\, Barcelona\, Espanya
CATEGORIES:Gaudim amb la cultura
ATTACH;FMTTYPE=image/jpeg:https://gact2.gact.terrassa.cat/wp-content/uploads/2020/09/foto_1-1-e1599482415919.jpg
ORGANIZER;CN="Bastoners de Terrassa":MAILTO:monisbdt@gmail.com
END:VEVENT
BEGIN:VEVENT
DTSTART;VALUE=DATE:20210922
DTEND;VALUE=DATE:20220618
DTSTAMP:20260420T191554
CREATED:20200904T130206Z
LAST-MODIFIED:20210927T095945Z
UID:1534-1632268800-1655510399@gact2.gact.terrassa.cat
SUMMARY:Taller de castells
DESCRIPTION:DESCRIPCIÓ\n\nEls castells\, són un element representatiu de la cultura popular del país i que va ser reconegut com a patrimoni immaterial de la humanitat el 16 de novembre de 2010. \nEl fet casteller ens permet treballar aspectes competencials de manera vivencial a través de la cooperació\, l’esforç\, les ganes de superació personal i el treball en equip. Això dóna un valor afegit a l’activitat\, doncs sovint\, aquest són valors difícils de planificar\, treballar\, observar i avaluar en l’entorn escolar. \nOferim activitats adequades a cada etapa lectiva\, des d’infantil\, primària\, secundaria i batxillerats:\nELS PETITS CASTELLERS: Taller de castells pensat per Educació Infantil. Presenta el món dels castells i des castellers a través de la visualització d’un conte amb protagonistes castellers\, així com també amb l’animació d’alguns titelles. També es realitzen a l’exterior activitats i jocs molt pràctics i divertits.\nTASTET CASTELLER: L’estructura del taller consta de dues parts: una teòrica a l’aula i una altra pràctica al pati de l’escola. Els continguts i la metodologia que es treballa està adaptada a l’edat dels alumnes. Es presenten els continguts principals del món casteller: lèxic\, estructures\, les colles\, la música\, la indumentària\, els valors… amb el suport de mitjans audiovisuals. També es posa en pràctica la tècnica castellera. els alumnes es vesteixen amb elements de la indumentària castellerai experimenten les sensacions i les emocionsque tenen els castellers quan estan a plaça\, sempre amb la supervisió dels monitors del taller. Acabarem aquesta sessió amb la simulació d’ una actuació castellera.
URL:https://gact2.gact.terrassa.cat/activitat/taller-de-castells/
LOCATION:Centre Educatiu\, Terrassa\, Barcelona\, Espanya
CATEGORIES:Gaudim amb la cultura
ATTACH;FMTTYPE=image/jpeg:https://gact2.gact.terrassa.cat/wp-content/uploads/2020/09/tallers-300x195-1.jpg
ORGANIZER;CN="Colla Castellera Minyons de Terrassa":MAILTO:minyons@minyons.cat
END:VEVENT
BEGIN:VEVENT
DTSTART;VALUE=DATE:20210910
DTEND;VALUE=DATE:20211211
DTSTAMP:20260420T191554
CREATED:20210720T115934Z
LAST-MODIFIED:20210923T094352Z
UID:9689-1631232000-1639180799@gact2.gact.terrassa.cat
SUMMARY:Els Reis ja venen
DESCRIPTION:DESCRIPCIÓ\n\nL’activitat consisteix en la vivència del Nadal des d’una vessant pedagògica. Els nens assisteixen a l’escenificació d’un conte relacionat amb la tradició popular dels Reis d’Orient. Cada nen/a participa en la decoració d’un rei que posteriorment s’emporta.
URL:https://gact2.gact.terrassa.cat/activitat/els-reis-ja-venen/
LOCATION:Fundació President Amat Roumens – LaFACT\, Carrer Campiones Olímpiques\, 36\, Terrassa\, Barcelona\, 08225\, Espanya
CATEGORIES:Gaudim amb la cultura
ATTACH;FMTTYPE=image/png:https://gact2.gact.terrassa.cat/wp-content/uploads/2020/10/logo-lafact-transp-e1632385053546.png
ORGANIZER;CN="LaFACT - Fundaci%C3%B3 President Amat Roumens":MAILTO:suport07@lafact.cat
END:VEVENT
BEGIN:VEVENT
DTSTART;TZID=Europe/Madrid:20210909T080000
DTEND;TZID=Europe/Madrid:20220616T170000
DTSTAMP:20260420T191554
CREATED:20210924T083350Z
LAST-MODIFIED:20220113T174510Z
UID:10283-1631174400-1655398800@gact2.gact.terrassa.cat
SUMMARY:Agafa la maleta i viatja pel món bastoner!
DESCRIPTION:DESCRIPCIÓ\n\nEn motiu de la celebració de 40 anys de la Recuperació del Ball de Bastons a la ciutat de Terrassa\, hem creat 3 maletes didàctiques adaptades a franges d’edats agrupades per característiques i interessos propis (una de P3 a 1r de Primària\, una altra de 2n a 4t i la darrera de 5è i 6è). Aquestes maletes contenen materials i activitats per tal de descobrir i conèixer millor la colla dels Bastoners de Terrassa. Es tracta d’activitats lúdiques i interactives amb activitats dinàmiques\, cooperatives i amb diversitat de format que engrescaran als nens i nenes per dur-les a terme. \nL’objectiu d’aquestes maletes és viatjar per les escoles de Terrassa\, fent estades d’una setmana per nivell educatiu. Aquesta maleta es pot demanar en préstec a la Colla dels Bastoners de Terrassa. Tots aquests materials poden anar acompanyats per la demanda de l’exposició del 40è aniversari dels Bastoners de Terrassa\, que és de fàcil exposició en espais del centre educatiu.
URL:https://gact2.gact.terrassa.cat/activitat/agafa-la-maleta-i-viatja-pel-mon-bastoner/
LOCATION:Centre Educatiu\, Terrassa\, Barcelona\, Espanya
CATEGORIES:Gaudim amb la cultura,Novetats
ORGANIZER;CN="Bastoners de Terrassa":MAILTO:monisbdt@gmail.com
END:VEVENT
BEGIN:VEVENT
DTSTART;VALUE=DATE:20210909
DTEND;VALUE=DATE:20220701
DTSTAMP:20260420T191554
CREATED:20201110T230023Z
LAST-MODIFIED:20210923T094826Z
UID:3220-1631145600-1656633599@gact2.gact.terrassa.cat
SUMMARY:Les tradicions populars: "La llegenda del Drac de Terrassa"
DESCRIPTION:DESCRIPCIÓ\nCatalunya ha preservat al llarg dels anys costums i tradicions\, encara molt presents en la vida quotidiana.  Fa molts anys\, al Massís de Sant Llorenç del Munt\, vivia un drac que atemoria als habitants de la nostra ciutat. Llegenda\, explicada per uns titelles. \nAl finalitzar la sessió\, els infants acoloreixen i munten un titella del drac per endur-se. \nPreu: 40 €\n– Forma de pagament: per transferència bancària \nNota: El Castell Cartoixa és accessible per a persones amb mobilitat reduïda només a la planta baixa.
URL:https://gact2.gact.terrassa.cat/activitat/les-tradicions-populars-la-llegenda-del-drac-de-terrassa/
LOCATION:Castell Cartoixa de Vallparadís\, Carrer Salmerón\, 17\, Terrassa\, Barcelona\, 08222
CATEGORIES:Gaudim amb la cultura
ATTACH;FMTTYPE=image/png:https://gact2.gact.terrassa.cat/wp-content/uploads/2020/09/Sense-títol-1.png
ORGANIZER;CN="Servei d'Educaci%C3%B3":MAILTO:promocio.educativa@terrassa.cat
END:VEVENT
BEGIN:VEVENT
DTSTART;VALUE=DATE:20210909
DTEND;VALUE=DATE:20220618
DTSTAMP:20260420T191554
CREATED:20200902T124053Z
LAST-MODIFIED:20210922T083633Z
UID:1398-1631145600-1655510399@gact2.gact.terrassa.cat
SUMMARY:Enganxa't a contrapunt
DESCRIPTION:DESCRIPCIÓ\n\nLa colla sardanista Amunt i Crits ha elaborat diferents materials pedagògics (dossiers; contes; jocs; vídeos; música…) adaptats a cada edat per donar a conèixer el món de la sardana a l’alumnat. També es dóna a conèixer la cobla; els instruments que la formen i la composició.\nTaller: Es pot realitzar en una sessió o en tres sessions.\nLa realització del taller consta d’una part introductòria per descobrir que és i d’una part pràctica ballant una sardana.
URL:https://gact2.gact.terrassa.cat/activitat/enganxat-a-contrapunt/
LOCATION:Centre Educatiu\, Terrassa\, Barcelona\, Espanya
CATEGORIES:Educació artística,Gaudim amb la cultura
ATTACH;FMTTYPE=image/jpeg:https://gact2.gact.terrassa.cat/wp-content/uploads/2020/07/unnamed-e1595505900128.jpg
ORGANIZER;CN="Colla Sardanista Amunt i Crits":MAILTO:nuriescude@hotmail.com
END:VEVENT
END:VCALENDAR