BEGIN:VCALENDAR
VERSION:2.0
PRODID:-//Guia d&#039;activitats (proves) - ECPv6.15.0.1//NONSGML v1.0//EN
CALSCALE:GREGORIAN
METHOD:PUBLISH
X-ORIGINAL-URL:https://gact2.gact.terrassa.cat
X-WR-CALDESC:Esdeveniments per Guia d&#039;activitats (proves)
REFRESH-INTERVAL;VALUE=DURATION:PT1H
X-Robots-Tag:noindex
X-PUBLISHED-TTL:PT1H
BEGIN:VTIMEZONE
TZID:Europe/Madrid
BEGIN:DAYLIGHT
TZOFFSETFROM:+0100
TZOFFSETTO:+0200
TZNAME:CEST
DTSTART:20210328T010000
END:DAYLIGHT
BEGIN:STANDARD
TZOFFSETFROM:+0200
TZOFFSETTO:+0100
TZNAME:CET
DTSTART:20211031T010000
END:STANDARD
BEGIN:DAYLIGHT
TZOFFSETFROM:+0100
TZOFFSETTO:+0200
TZNAME:CEST
DTSTART:20220327T010000
END:DAYLIGHT
BEGIN:STANDARD
TZOFFSETFROM:+0200
TZOFFSETTO:+0100
TZNAME:CET
DTSTART:20221030T010000
END:STANDARD
BEGIN:DAYLIGHT
TZOFFSETFROM:+0100
TZOFFSETTO:+0200
TZNAME:CEST
DTSTART:20230326T010000
END:DAYLIGHT
BEGIN:STANDARD
TZOFFSETFROM:+0200
TZOFFSETTO:+0100
TZNAME:CET
DTSTART:20231029T010000
END:STANDARD
BEGIN:DAYLIGHT
TZOFFSETFROM:+0100
TZOFFSETTO:+0200
TZNAME:CEST
DTSTART:20240331T010000
END:DAYLIGHT
BEGIN:STANDARD
TZOFFSETFROM:+0200
TZOFFSETTO:+0100
TZNAME:CET
DTSTART:20241027T010000
END:STANDARD
BEGIN:DAYLIGHT
TZOFFSETFROM:+0100
TZOFFSETTO:+0200
TZNAME:CEST
DTSTART:20250330T010000
END:DAYLIGHT
BEGIN:STANDARD
TZOFFSETFROM:+0200
TZOFFSETTO:+0100
TZNAME:CET
DTSTART:20251026T010000
END:STANDARD
END:VTIMEZONE
BEGIN:VEVENT
DTSTART;VALUE=DATE:20241001
DTEND;VALUE=DATE:20250602
DTSTAMP:20260420T223709
CREATED:20201115T230037Z
LAST-MODIFIED:20250606T110617Z
UID:1698-1727740800-1748822399@gact2.gact.terrassa.cat
SUMMARY:L’hora del codi\, programació a les aules
DESCRIPTION:DESCRIPCIÓ\n\nL’Hora del Codi és un moviment global d’aprenentatge de la programació\, que arriba a desenes de milions d’estudiants a més de 180 països. A través d’un sistema gamificat\, s’explicarà uns coneixements bàsics de programació amb LOGO i llavors podran fer fins a 15 exercicis de programació. \nEls nens i nenes a banda d’aprendre programació\, aprenen altres conceptes matemàtics com funcions o variables\, el serveix de complement per l’anglés i poden dur a terme els seus coneixements artístics\, qualsevol assignatura escolar pot ser enfocada des de la programació. \nDesenvolupament del pensament lògic: Amb la programació\, un nen/nena no veu un problema com una cosa gran\, sinó que aprèn a separar el mateix en petites parts. \nActivitat limitada a 1 sessió per curs i per grup. \nInscripció per ordre d’arribada.\nActivitat limitada a 40 sessions en total. \n 
URL:https://gact2.gact.terrassa.cat/activitat/lhora-del-codi/
LOCATION:Centre Educatiu\, Terrassa\, Barcelona\, Espanya
CATEGORIES:STEM
ATTACH;FMTTYPE=image/png:https://gact2.gact.terrassa.cat/wp-content/uploads/2020/09/baixa.png
ORGANIZER;CN="Servei d'Educaci%C3%B3":MAILTO:promocio.educativa@terrassa.cat
END:VEVENT
BEGIN:VEVENT
DTSTART;VALUE=DATE:20220321
DTEND;VALUE=DATE:20220324
DTSTAMP:20260420T223709
CREATED:20200715T075915Z
LAST-MODIFIED:20210927T110015Z
UID:855-1647820800-1648079999@gact2.gact.terrassa.cat
SUMMARY:El Nàufrag: teatre científic en anglès
DESCRIPTION:DESCRIPCIÓ\n\nInscripció limitada a 1 sol curs per centre.\nL’alumnat gaudirà de les “boges” ocurrències dels nostres científics\, els quals\, just arribats després del seu naufragi a una illa perduda\, els hi explicaran com varen aconseguir sobreviure mitjançant els seus ingenis\, aconseguint amb molta diversió que els nens s’apropin a la ciència descobrint les seves utilitats. \nhttps://activitum.cat/actividades/2271_teatre-cientific-el-naufrag-funbrain/ \nIndicacions sobre les mesures d’accés als espais culturals gestionats per l’Ajuntament de Terrassa:\n\n• Aportar el document de registre d’assistents on heu de fer constar totes les dades del document model. Són les dades mínimes. Han d’aparèixer registrades totes les persones assistents per part del vostre centre:  Registre_TraÇavilitat (1)\n• Queda prohibida l’entrada al hall abans de l’obertura de les portes de la sala. Els grups escolars hauran d’esperar fora del recinte de forma ordenada i respectant la distància física de seguretat\, inclús en cas de pluja.\n• Ús de la mascareta obligatòria per a totes les persones majors de 6 anys\, independentment del manteniment de la distància física interpersonal de seguretat.\n• Posada de gel hidroalcohòlic.\n• Seguir les indicacions de la persona cap de sala alhora de fer ús dels seients.
URL:https://gact2.gact.terrassa.cat/activitat/el-naufrag-teatre-cientific-en-angles/
LOCATION:Teatre Principal\, Plaça Pi i Maragall\, 2\, Terrassa\, Barcelona\, 08221\, Espanya
CATEGORIES:Educació artística,STEM
ATTACH;FMTTYPE=image/png:https://gact2.gact.terrassa.cat/wp-content/uploads/2020/07/img_mrubal_20170613-173132_imagenes_lv_terceros_captura_de_pantalla_2016-04-07_a_les_204857-kwwF-U42337489645-e1594385581499.png
ORGANIZER;CN="Servei d'Educaci%C3%B3":MAILTO:promocio.educativa@terrassa.cat
END:VEVENT
BEGIN:VEVENT
DTSTART;VALUE=DATE:20211014
DTEND;VALUE=DATE:20220601
DTSTAMP:20260420T223709
CREATED:20201115T230047Z
LAST-MODIFIED:20211014T125611Z
UID:5704-1634169600-1654041599@gact2.gact.terrassa.cat
SUMMARY:Taller de Volums
DESCRIPTION:DESCRIPCIÓ\n\nVOLUMS: es mostraran diferents cossos geomètrics plans i amb volum\, i es convida als infants a comentar  les seves característiques. A continuació es passarà a la part d’experimentació\, on amb diferents materials hauran de construir cossos geomètrics del plà al volum i observar que passa i que cal per passar del plà al volum. \nAtenció: S’ofereixen 8 tallers per a un màxim de 30 pax/taller. Els centres educatius us heu d’inscriure per a cada grup classe/taller. \nDe l’oferta de 3 tallers que ofereix n’ha Cristina Trias: Ombres\, Volums i Magnetisme\,  els centres educatius només us podeu inscriure-us a 1 dels 3 i per a una sola línia. 
URL:https://gact2.gact.terrassa.cat/activitat/taller-de-volums/
LOCATION:Centre Educatiu\, Terrassa\, Barcelona\, Espanya
CATEGORIES:STEM
ATTACH;FMTTYPE=image/jpeg:https://gact2.gact.terrassa.cat/wp-content/uploads/2020/07/foto_ombres_volums_magnetismes-e1603297489881.jpg
ORGANIZER;CN="Servei d'Educaci%C3%B3":MAILTO:promocio.educativa@terrassa.cat
END:VEVENT
BEGIN:VEVENT
DTSTART;VALUE=DATE:20211014
DTEND;VALUE=DATE:20220601
DTSTAMP:20260420T223709
CREATED:20201115T230012Z
LAST-MODIFIED:20211014T131009Z
UID:1659-1634169600-1654041599@gact2.gact.terrassa.cat
SUMMARY:Taller d'Ombres
DESCRIPTION:DESCRIPCIÓ\n\nOMBRES: narració d’un conte i diàleg amb els infants sobre allò que han observat. en aquest moment es plantegen les preguntes i els reptes que motivaran l’experimentació\, a la realització de l’activitat. \nAtenció: S’ofereixen 8 tallers per a un màxim de 30 pax/taller. Els centres educatius us heu d’inscriure per a cada grup classe/taller. \nDe l’oferta de 3 tallers que ofereix n’ha Cristina Trias: Ombres\, Volums i Magnetisme\,  els centres educatius només us podeu inscriure-us a 1 dels 3 i per a una sola línia. 
URL:https://gact2.gact.terrassa.cat/activitat/taller-dombres/
LOCATION:Centre Educatiu\, Terrassa\, Barcelona\, Espanya
CATEGORIES:STEM
ATTACH;FMTTYPE=image/jpeg:https://gact2.gact.terrassa.cat/wp-content/uploads/2020/07/foto_ombres_volums_magnetismes-e1603297489881.jpg
ORGANIZER;CN="Servei d'Educaci%C3%B3":MAILTO:promocio.educativa@terrassa.cat
END:VEVENT
BEGIN:VEVENT
DTSTART;VALUE=DATE:20211014
DTEND;VALUE=DATE:20220601
DTSTAMP:20260420T223709
CREATED:20201115T230009Z
LAST-MODIFIED:20211014T131345Z
UID:5707-1634169600-1654041599@gact2.gact.terrassa.cat
SUMMARY:Taller de Magnetisme
DESCRIPTION:DESCRIPCIÓ\n\nMAGNETISME: proposta de reptes\, jocs i construccions amb imans. Exploració i experimentació a través de la manipulació de múltiples materials adients\, distribuïts en diferents propostes. A través d’aquesta experimentació estimularem el procés de descoberta amb preguntes i suggeriments i respostes. \nAtenció: S’ofereixen 8 tallers per a un màxim de 30 pax/taller. Els centres educatius us heu d’inscriure per a cada grup classe/taller. \nDe l’oferta de 3 tallers que ofereix n’ha Cristina Trias: Ombres\, Volums i Magnetisme\,  els centres educatius només us podeu inscriure-us a 1 dels 3 i per a una sola línia. 
URL:https://gact2.gact.terrassa.cat/activitat/taller-de-magnetisme/
LOCATION:Centre Educatiu\, Terrassa\, Barcelona\, Espanya
CATEGORIES:STEM
ATTACH;FMTTYPE=image/jpeg:https://gact2.gact.terrassa.cat/wp-content/uploads/2020/07/MagnetEZ.jpg
ORGANIZER;CN="Servei d'Educaci%C3%B3":MAILTO:promocio.educativa@terrassa.cat
END:VEVENT
BEGIN:VEVENT
DTSTART;VALUE=DATE:20210909
DTEND;VALUE=DATE:20220618
DTSTAMP:20260420T223709
CREATED:20210114T230048Z
LAST-MODIFIED:20211007T085042Z
UID:858-1631145600-1655510399@gact2.gact.terrassa.cat
SUMMARY:Atreveix-te a Experimentar
DESCRIPTION:DESCRIPCIÓ\n\nProjecte per impulsar la cultura Científica de l’alumnat per tal de desenvolupar un esperit crític i promoure vocacions científiques. \nLlistat de tallers a escollir segons el cicle educatiu. \n1. L’aventura de la posició secreta (P-4 i P-5).\n2. Ciència i Música (P-4 i P-5).\n3. Art i Ciència. (cicle inicial).\n4. Descobrim la ciència (cicle inicial).\n5. Reacciona… tenim química! (cicle mitjà).\n6. Matèria\, en quin estat está? (cicle mitjà).\n7. Ciència i dona (cicle mitjà)\n8. La cèl·lula i l’ADN (cicle superior).\n9. La vida secreta del PH (cicle superior).\n10. Nano ciència: nano…què? (cicle superior). \nConsulteu el Catàleg:  www.funbrain.cat \nDossier: \nhttps://drive.google.com/file/d/1bvrWL7MC91bjf7qcBh4PVVOEAEUCnClP/view?usp=sharing \nAtenció: S’ofereixen 80 tallers per un grup classe. Els centres educatius heu de concertar dia i hora a info@funbrain.cat . El preu d’un taller és de 55€.\nMàxim de tallers que es subvencionen:  4 tallers per centre educatiu  (amb excepció dels centres de 3 línies)
URL:https://gact2.gact.terrassa.cat/activitat/atreveix-te-a-experimentar/
LOCATION:Centre Educatiu\, Terrassa\, Barcelona\, Espanya
CATEGORIES:STEM
ATTACH;FMTTYPE=image/png:https://gact2.gact.terrassa.cat/wp-content/uploads/2020/07/slide3-e1594386669346.png
ORGANIZER;CN="Funbrain%2C SL":MAILTO:csanz@funbrain.cat
END:VEVENT
BEGIN:VEVENT
DTSTART;VALUE=DATE:20210909
DTEND;VALUE=DATE:20220618
DTSTAMP:20260420T223709
CREATED:20201115T230020Z
LAST-MODIFIED:20211006T114438Z
UID:888-1631145600-1655510399@gact2.gact.terrassa.cat
SUMMARY:Obre els ulls a la ciència
DESCRIPTION:DESCRIPCIÓ\n\nProjecte per impulsar la cultura científica de l’alumnat per tal de desenvolupar un esperit crític i promoure vocacions científiques. \n1. Il·lumina els teus circuits!. Descobrir el funcionament dels elements que componen un circuit elèctric i fabricar un generador eòlic. \n2. Meteorologia. Entendre els factors que intervenen en la formació dels fenomens atmosfèrics. Comprendre el concepte de pressió atmosfèrica. Es farà la previsió del temps. \n3. Biomedicina forense. Descriurem les diferències que hi ha entre cèl·lules animals i vegetals. Comprendrem com són els cromosomes i els gens\, com es duplica el material genètic i com es produeix la divisió cel·lular: la mitosi. \n4. Nanociència\, el món de la -9. Entendrem quina és la naturalesa dels processos químics. Coneixerem que és la Nanociència i les propietats canviants dels materials a escola nanomètrica i experimentarem amb aplicacions pròpies de la nanociència. \n5. La revolució dels anticossos. Comprendre els mecanismes immunològics que succeeixen a l’organisme. Identificaran els diferents grups sanguinis i les seves interaccions a les transfusions. \n  \nConsulteu el Catàleg: https://www.funbrain.cat/centres-educatius/ \n  \nhttps://drive.google.com/file/d/14XxTAldPhfRmdSVGZOOJbBGAS27pa8Kp/view?usp=sharing \n  \nAtenció: S’ofereixen 10 tallers per a un màxim de 30 pax/taller. Els centres educatius us heu d’inscriure a info@funbrain.cat. El preu d’un taller és de 55€.\nMàxim de tallers que es subvencionen: 1 taller per cicle i curs\, amb un màxim de 2 tallers per centre educatiu.  
URL:https://gact2.gact.terrassa.cat/activitat/obre-els-ulls-a-la-ciencia/
LOCATION:Centre Educatiu\, Terrassa\, Barcelona\, Espanya
CATEGORIES:STEM
ATTACH;FMTTYPE=image/png:https://gact2.gact.terrassa.cat/wp-content/uploads/2020/07/slide3-e1594386669346.png
ORGANIZER;CN="Servei d'Educaci%C3%B3":MAILTO:promocio.educativa@terrassa.cat
END:VEVENT
BEGIN:VEVENT
DTSTART;VALUE=DATE:20210909
DTEND;VALUE=DATE:20220601
DTSTAMP:20260420T223709
CREATED:20201115T230005Z
LAST-MODIFIED:20211018T114843Z
UID:1539-1631145600-1654041599@gact2.gact.terrassa.cat
SUMMARY:Introducció a la impressió 3D
DESCRIPTION:DESCRIPCIÓ\n\nEndinsar-se al món 3D\,  conèixer materials\, extrusors\,  impressió de cases en 3D\, com funcionen i que hem de fer perquè funcionin correctament! Tinker card i CURA són unes eines gratuïtes i de codi obert molt adients per un tastet al disseny 3D. L’alumnat podrà dissenyar escultures o edificis de la ciutat i si no finalitza la seva creació durant el temps del taller ho podrà fer a casa de forma fàcil. Cada centre tindrà un record del millor dels seus dissenys impressos en 3D. \nMàxim participants:  ve donat pel nombre d’ordinadors dels que disposi el centre. Cada alumne ha de tenir un ordinador. \nActivitat limitada a 1 sessió per curs i per grup.
URL:https://gact2.gact.terrassa.cat/activitat/introduccio-a-la-impressio-3d/
LOCATION:Centre Educatiu\, Terrassa\, Barcelona\, Espanya
CATEGORIES:STEM
ATTACH;FMTTYPE=image/png:https://gact2.gact.terrassa.cat/wp-content/uploads/2020/09/baixa.png
ORGANIZER;CN="Servei d'Educaci%C3%B3":MAILTO:promocio.educativa@terrassa.cat
END:VEVENT
BEGIN:VEVENT
DTSTART;VALUE=DATE:20210909
DTEND;VALUE=DATE:20220618
DTSTAMP:20260420T223709
CREATED:20201020T120146Z
LAST-MODIFIED:20211105T091754Z
UID:5472-1631145600-1655510399@gact2.gact.terrassa.cat
SUMMARY:Planetari Digital Virtual - Activitat online
DESCRIPTION:DESCRIPCIÓ\n\nActivitat online d’una sessió gravada del planetari digital on treballar els diferents conceptes d’astronomia curricular de cada etapa. Hi ha disponibles 3 sessions\, 1 per a cada cicle. \nEs podrà fer una videoconferència amb la persona professional per a resoldre dubtes i interaccionar. \nObservacions:\nConsultar preus amb entitat organitzadora.
URL:https://gact2.gact.terrassa.cat/activitat/planetari-digital-virtual-activitat-online/
LOCATION:Centre Educatiu\, Terrassa\, Barcelona\, Espanya
CATEGORIES:STEM
ATTACH;FMTTYPE=image/png:https://gact2.gact.terrassa.cat/wp-content/uploads/2020/07/logo_explora360.png
ORGANIZER;CN="Explora 360":MAILTO:isabel.rius@explora360.com
END:VEVENT
BEGIN:VEVENT
DTSTART;VALUE=DATE:20210909
DTEND;VALUE=DATE:20220618
DTSTAMP:20260420T223709
CREATED:20201020T114143Z
LAST-MODIFIED:20211105T091559Z
UID:1560-1631145600-1655510399@gact2.gact.terrassa.cat
SUMMARY:Explorem els planetes
DESCRIPTION:DESCRIPCIÓ\n\nTallers a escollir que es realitzen a l’escola \n3\, 2\, 1… de la Terra a l’Espai.\nViatgem pels Planetes.\nEl color del Sol i l’energia solar.\nEl Sol i observació del Sol amb Telescopi solar. \nObservacions:\nConsultar preus amb entitat organitzadora:  110€ – 120€ (depenent del taller). Mínim 2 per Escola.
URL:https://gact2.gact.terrassa.cat/activitat/explorem-els-planetes/
LOCATION:Centre Educatiu\, Terrassa\, Barcelona\, Espanya
CATEGORIES:STEM
ATTACH;FMTTYPE=image/png:https://gact2.gact.terrassa.cat/wp-content/uploads/2020/07/logo_explora360.png
ORGANIZER;CN="Explora 360":MAILTO:isabel.rius@explora360.com
END:VEVENT
BEGIN:VEVENT
DTSTART;VALUE=DATE:20210909
DTEND;VALUE=DATE:20220618
DTSTAMP:20260420T223709
CREATED:20201019T104309Z
LAST-MODIFIED:20220113T173617Z
UID:5345-1631145600-1655510399@gact2.gact.terrassa.cat
SUMMARY:Ja mai mirem el cel – Primària i Secundària
DESCRIPTION:DESCRIPCIÓ\n\nDonada la gran amplitud d’edats a les quals va adreçada l’activitat\, l’activitat en sí s’adaptarà a les diferents edats i al grau de coneixements i competències que tenen i s’espera que assoleixin.\nL’activitat s’adaptarà sempre a l’enfocament (més explicació\, més observació) que es vulgui\, o es pugui donar des del centre\, dins de les següents premises:\n1) L’activitat s’inicia amb preguntes als alumnes que serveixin per a centrar la temàtica i posar de relleu els coneixements previs\n2) Explicació que inclou els següents continguts: \na) Els astres han influït en la nostra cultura i el nostre calendari\nb) El cel es mirava més abans que ara. Perquè?\nc) Dates del nostre calendari lligades a la posició dels astres; solsticis\, equinoccis…\nd) La contaminació lumínica\n3) Observació de nit o diürna amb continguts ben diferents segons la possiblitat; on són les estrelles aquesta nit\, o el Sol com a rellotge de sol…
URL:https://gact2.gact.terrassa.cat/activitat/la-descoberta-de-lunivers-primaria-secundaria/
LOCATION:Agrupació Astronòmica de Terrassa\, Carrer de Martí Díez\, 7\, 3ª planta\, Terrassa\, Barcelona\, 08224\, Espanya
CATEGORIES:Novetats,STEM
ATTACH;FMTTYPE=image/png:https://gact2.gact.terrassa.cat/wp-content/uploads/2020/10/logoAAT.png
ORGANIZER;CN="Agrupaci%C3%B3 Astron%C3%B2mica de Terrassa":MAILTO:aat.terrassa@gmail.com
END:VEVENT
BEGIN:VEVENT
DTSTART;VALUE=DATE:20210909
DTEND;VALUE=DATE:20220618
DTSTAMP:20260420T223709
CREATED:20201019T103608Z
LAST-MODIFIED:20220113T173535Z
UID:1467-1631145600-1655510399@gact2.gact.terrassa.cat
SUMMARY:La descoberta de l'Univers - Infantil
DESCRIPTION:DESCRIPCIÓ\n\nXerrades-observacions interactives a escollir sobre temes d’astronomia: \n1- El Sol\, el nostre estel\n2- La Lluna\, la nostre satèl·lit
URL:https://gact2.gact.terrassa.cat/activitat/la-descoberta-de-lunivers-amb-ulls-petits/
LOCATION:Agrupació Astronòmica de Terrassa\, Carrer de Martí Díez\, 7\, 3ª planta\, Terrassa\, Barcelona\, 08224\, Espanya
CATEGORIES:Novetats,STEM
ATTACH;FMTTYPE=image/png:https://gact2.gact.terrassa.cat/wp-content/uploads/2020/10/logoAAT.png
ORGANIZER;CN="Agrupaci%C3%B3 Astron%C3%B2mica de Terrassa":MAILTO:aat.terrassa@gmail.com
END:VEVENT
BEGIN:VEVENT
DTSTART;TZID=Europe/Madrid:20210514T100000
DTEND;TZID=Europe/Madrid:20210514T120000
DTSTAMP:20260420T223709
CREATED:20201115T230025Z
LAST-MODIFIED:20210616T132555Z
UID:3930-1620986400-1620993600@gact2.gact.terrassa.cat
SUMMARY:Dia Internacional de la Llum: Històries fetes de llum
DESCRIPTION:DESCRIPCIÓ\n\nVisita al Parc Audiovisual amb introducció a la narració audiovisual. \nActivitat  que s’emmarca en els actes de la celebració de l’Acte Central a Espanya de la commemoració del Dia Internacional de la Llum declarat per la UNESCO el dia 15 de maig\, i que es farà a Terrassa. \nL’assignació de l’activitat es realitzarà per ordre d’arribada de les sol·licituds\, fins a ocupar-ne les sessions disponibles. \nSi cal transport per arribar al lloc de l’activitat\, el Centre Educatiu s’ha de fer càrrec d’aquesta despesa.
URL:https://gact2.gact.terrassa.cat/activitat/dia-internacional-de-la-llum-histories-fetes-de-llum/
LOCATION:Parc Audiovisual de Catalunya\, Carretera BV-1274\, Km. 1\,\, Terrassa\, Barcelona\, 08225\, Espanya
CATEGORIES:STEM
ATTACH;FMTTYPE=image/jpeg:https://gact2.gact.terrassa.cat/wp-content/uploads/2020/09/Logo_foot-300x154-1.jpg
ORGANIZER;CN="Servei d'Educaci%C3%B3":MAILTO:promocio.educativa@terrassa.cat
END:VEVENT
BEGIN:VEVENT
DTSTART;VALUE=DATE:20210514
DTEND;VALUE=DATE:20210515
DTSTAMP:20260420T223709
CREATED:20201115T230044Z
LAST-MODIFIED:20210616T132432Z
UID:3941-1620950400-1621036799@gact2.gact.terrassa.cat
SUMMARY:Dia Internacional de la Llum: La Llum Eina Narrativa Audiovisual
DESCRIPTION:DESCRIPCIÓ\n\nTaller pràctic d’il·luminació a les instal•lacions de l’escola amb personal de l’ESCAC. \nActivitat  que s’emmarca en els actes de la celebració de l’Acte Central a Espanya de la commemoració del Dia Internacional de la Llum declarat per la UNESCO el dia 15 de maig\, i que es farà a Terrassa. \nL’assignació de l’activitat es realitzarà per ordre d’arribada de les sol·licituds\, fins a ocupar-ne les sessions disponibles. \nSi cal transport per arribar al lloc de l’activitat\, el Centre Educatiu s’ha de fer càrrec d’aquesta despesa.
URL:https://gact2.gact.terrassa.cat/activitat/dia-internacional-de-la-llum-la-llum-eina-narrativa-audiovisual/
LOCATION:ESCAC\, Escola Superior de Cinema i Audivisuals de Catalunya\, Plaça de la Farinera\, 9\, Terrassa\, Barcelona\, 08222
CATEGORIES:STEM
ATTACH;FMTTYPE=image/jpeg:https://gact2.gact.terrassa.cat/wp-content/uploads/2020/09/Logo_foot-300x154-1.jpg
ORGANIZER;CN="Servei d'Educaci%C3%B3":MAILTO:promocio.educativa@terrassa.cat
END:VEVENT
BEGIN:VEVENT
DTSTART;VALUE=DATE:20210514
DTEND;VALUE=DATE:20210515
DTSTAMP:20260420T223709
CREATED:20201115T230037Z
LAST-MODIFIED:20210616T132811Z
UID:3936-1620950400-1621036799@gact2.gact.terrassa.cat
SUMMARY:Dia Internacional de la Llum: La Llum a la Televisió
DESCRIPTION:DESCRIPCIÓ\n\nVisita a les instal•lacions de Canal Terrassa i la Ràdio Municipal de Terrassa\, per veure el procés de producció de notícies i programes\, amb especial atenció a aspectes pràctics vinculats a la importància de la llum en l’àmbit audiovisual. \nActivitat  que s’emmarca en els actes de la celebració de l’Acte Central a Espanya de la commemoració del Dia Internacional de la Llum declarat per la UNESCO el dia 15 de maig\, i que es farà a Terrassa. \nL’assignació de l’activitat es realitzarà per ordre d’arribada de les sol·licituds\, fins a ocupar-ne les sessions disponibles. \nSi cal transport per arribar al lloc de l’activitat\, el Centre Educatiu s’ha de fer càrrec d’aquesta despesa.
URL:https://gact2.gact.terrassa.cat/activitat/dia-internacional-de-la-llum-la-llum-a-la-televisio/
LOCATION:Canal Terrassa Vallès\, Plaça de la Farinera\, 5\, Terrassa\, Barcelona\, 08222
CATEGORIES:STEM
ATTACH;FMTTYPE=image/jpeg:https://gact2.gact.terrassa.cat/wp-content/uploads/2020/09/Logo_foot-300x154-1.jpg
ORGANIZER;CN="Universitat Polit%C3%A8cnica de Catalunya d'%C3%92ptica i Optometria":MAILTO:elisabet.perez@upc.edu
END:VEVENT
BEGIN:VEVENT
DTSTART;VALUE=DATE:20210514
DTEND;VALUE=DATE:20210515
DTSTAMP:20260420T223709
CREATED:20201115T230010Z
LAST-MODIFIED:20210616T132515Z
UID:3948-1620950400-1621036799@gact2.gact.terrassa.cat
SUMMARY:Dia Internacional de la Llum: Visita a l'Empresa Òptica PRATS
DESCRIPTION:DESCRIPCIÓ\n\nVisita de les instal·lacions de l’empresa de lents oftàlmiques Òptica Prats\, situada a Sant Boi de Llobregat\, una de les més innovadores amb automatització de la major part dels processos que es porten a terme. \nActivitat  que s’emmarca en els actes de la celebració de l’Acte Central a Espanya de la commemoració del Dia Internacional de la Llum declarat per la UNESCO el dia 15 de maig\, i que es farà a Terrassa. \nL’assignació de l’activitat es realitzarà per ordre d’arribada de les sol·licituds\, fins a ocupar-ne les sessions disponibles. \nSi cal transport per arribar al lloc de l’activitat\, el Centre Educatiu s’ha de fer càrrec d’aquesta despesa.
URL:https://gact2.gact.terrassa.cat/activitat/dia-internacional-de-la-llum-visita-a-lempresa-optica-prats/
LOCATION:Òptica Prats\, C/ Doctor Josep Castells Nº4\, Sant Boi de Llobregat\, Barcelona\, 08830\, Espanya
CATEGORIES:STEM
ATTACH;FMTTYPE=image/jpeg:https://gact2.gact.terrassa.cat/wp-content/uploads/2020/09/Logo_foot-300x154-1.jpg
ORGANIZER;CN="Universitat Polit%C3%A8cnica de Catalunya d'%C3%92ptica i Optometria":MAILTO:elisabet.perez@upc.edu
END:VEVENT
BEGIN:VEVENT
DTSTART;VALUE=DATE:20210514
DTEND;VALUE=DATE:20210515
DTSTAMP:20260420T223709
CREATED:20201115T230013Z
LAST-MODIFIED:20210616T132728Z
UID:3919-1620950400-1621036799@gact2.gact.terrassa.cat
SUMMARY:Dia Internacional de la Llum: Com veuen els cecs?
DESCRIPTION:DESCRIPCIÓ\n\nSi una persona “aparentment cega” s’acosta a una pas de vianants: Què he de fer? Si una persona “aparentment cega” es posa a llegir el seu mòbil: Què pensaré d’ella? Les limitacions que pot provocar una discapacitat visual són tan diverses i variades com persones existeixen. Això genera molta incomprensió social. L’ objectiu d’aquesta xerrada és doble\, per una banda que\, a partir d’exercici de simulació l’alumnat conegui les diverses discapacitats i entengui les limitacions que suposen per a les persones que les pateixen. I per altra banda\, que conegui quins són els principals aspectes en el tracte a les persones amb discapacitat visual. \nActivitat  que s’emmarca en els actes de la celebració de l’Acte Central a Espanya de la commemoració del Dia Internacional de la Llum declarat per la UNESCO el dia 15 de maig\, i que es farà a Terrassa. \nL’assignació de l’activitat es realitzarà per ordre d’arribada de les sol·licituds\, fins a ocupar-ne les sessions disponibles. \nSi cal transport per arribar al lloc de l’activitat\, el Centre Educatiu s’ha de fer càrrec d’aquesta despesa.
URL:https://gact2.gact.terrassa.cat/activitat/dia-internacional-de-la-llum-com-veuen-els-cecs/
LOCATION:Facultat d’Òptica i Optometria de Terrrassa\, Violinista Vellsolà\, 37\, Terrassa\, Barcelona\, 08222\, Espanya
CATEGORIES:STEM
ATTACH;FMTTYPE=image/jpeg:https://gact2.gact.terrassa.cat/wp-content/uploads/2020/09/Logo_foot-300x154-1.jpg
ORGANIZER;CN="Universitat Polit%C3%A8cnica de Catalunya d'%C3%92ptica i Optometria":MAILTO:elisabet.perez@upc.edu
END:VEVENT
BEGIN:VEVENT
DTSTART;VALUE=DATE:20210514
DTEND;VALUE=DATE:20210515
DTSTAMP:20260420T223709
CREATED:20201115T230013Z
LAST-MODIFIED:20210616T132647Z
UID:3925-1620950400-1621036799@gact2.gact.terrassa.cat
SUMMARY:Dia Internacional de la Llum: Fotònica a la UPC: Docència i Centres de Recerca CD6 i DONLL
DESCRIPTION:DESCRIPCIÓ\n\nPresentació del màster de fotònica que imparteix la UPC conjuntament amb la UB\, la UAB i l’ICFO i visita a centres i laboratoris que realitzen recerca en l’àmbit de la fotònica\, és a dir\, la ciència i tecnologia de la llum: el CD6 (Centre de Desenvolupament de Sensors\, Instrumentació i Sistemes) i el DONLL (Grup de Dinàmica no lineal\, ÒpBca no lineal i Làsers). \nActivitat  que s’emmarca en els actes de la celebració de l’Acte Central a Espanya de la commemoració del Dia Internacional de la Llum declarat per la UNESCO el dia 15 de maig\, i que es farà a Terrassa. \nL’assignació de l’activitat es realitzarà per ordre d’arribada de les sol·licituds\, fins a ocupar-ne les sessions disponibles. \nSi cal transport per arribar al lloc de l’activitat\, el Centre Educatiu s’ha de fer càrrec d’aquesta despesa.
URL:https://gact2.gact.terrassa.cat/activitat/dia-internacional-de-la-llum-fotonica-a-la-upc-docencia-i-centres-de-recerca-cd6-i-donll/
LOCATION:Campus UPC de Terrassa (edificis TR11 i Gaia)\, Sant Nebridi\, 10-22\, Terrassa\, Barcelona\, 08222\, Espanya
CATEGORIES:STEM
ATTACH;FMTTYPE=image/jpeg:https://gact2.gact.terrassa.cat/wp-content/uploads/2020/09/Logo_foot-300x154-1.jpg
ORGANIZER;CN="Servei d'Educaci%C3%B3":MAILTO:promocio.educativa@terrassa.cat
END:VEVENT
BEGIN:VEVENT
DTSTART;VALUE=DATE:20210514
DTEND;VALUE=DATE:20210515
DTSTAMP:20260420T223709
CREATED:20201115T230011Z
LAST-MODIFIED:20210616T132351Z
UID:1729-1620950400-1621036799@gact2.gact.terrassa.cat
SUMMARY:Dia Internacional de la Llum: La màgia de la llum a l'escenari
DESCRIPTION:DESCRIPCIÓ\n\nXerrada i taller pràctic de luminotècnia per conèixer les possibilitats que ofereix la il·luminació en un espectacle. Activitat  que s’emmarca en els actes de la celebració de l’Acte Central a Espanya de la commemoració del Dia Internacional de la Llum declarat per la UNESCO el dia 15 de maig\, i que es farà a Terrassa. \nLes entitats i persones que realitzen els tallers/visites ofereixen les seves instal·lacions i el seu temps gratuïtament perquè en puguin gaudir els Centres Educatius de la ciutat. \nL’assignació de l’activitat es realitzarà per ordre d’arribada de les sol·licituds\, fins a ocupar-ne les sessions disponibles. \nSi cal transport per arribar al lloc de l’activitat\, el Centre Educatiu s’ha de fer càrrec d’aquesta despesa.
URL:https://gact2.gact.terrassa.cat/activitat/dia-internacional-de-la-llum-la-magia-de-la-llum-a-lescenari/
LOCATION:Institut del Teatre Centre del Valles\, Plaça Didó\, 1\, Terrassa\, Barcelona\, 08221\, Espanya
CATEGORIES:STEM
ATTACH;FMTTYPE=image/jpeg:https://gact2.gact.terrassa.cat/wp-content/uploads/2020/09/Logo_foot-300x154-1.jpg
ORGANIZER;CN="Servei d'Educaci%C3%B3":MAILTO:promocio.educativa@terrassa.cat
END:VEVENT
END:VCALENDAR