BEGIN:VCALENDAR
VERSION:2.0
PRODID:-//Guia d&#039;activitats (proves) - ECPv6.15.0.1//NONSGML v1.0//EN
CALSCALE:GREGORIAN
METHOD:PUBLISH
X-ORIGINAL-URL:https://gact2.gact.terrassa.cat
X-WR-CALDESC:Esdeveniments per Guia d&#039;activitats (proves)
REFRESH-INTERVAL;VALUE=DURATION:PT1H
X-Robots-Tag:noindex
X-PUBLISHED-TTL:PT1H
BEGIN:VTIMEZONE
TZID:Europe/Madrid
BEGIN:DAYLIGHT
TZOFFSETFROM:+0100
TZOFFSETTO:+0200
TZNAME:CEST
DTSTART:20200329T010000
END:DAYLIGHT
BEGIN:STANDARD
TZOFFSETFROM:+0200
TZOFFSETTO:+0100
TZNAME:CET
DTSTART:20201025T010000
END:STANDARD
BEGIN:DAYLIGHT
TZOFFSETFROM:+0100
TZOFFSETTO:+0200
TZNAME:CEST
DTSTART:20210328T010000
END:DAYLIGHT
BEGIN:STANDARD
TZOFFSETFROM:+0200
TZOFFSETTO:+0100
TZNAME:CET
DTSTART:20211031T010000
END:STANDARD
END:VTIMEZONE
BEGIN:VEVENT
DTSTART;VALUE=DATE:20210111
DTEND;VALUE=DATE:20210601
DTSTAMP:20260423T040546
CREATED:20201026T093606Z
LAST-MODIFIED:20201026T093809Z
UID:5862-1610323200-1622505599@gact2.gact.terrassa.cat
SUMMARY:Creus que ho puc fer?
DESCRIPTION:DESCRIPCIÓ\n\nTot i la legislació existent\, la realitat demostra que es continuen produint situacions de discriminació i vulneració dels drets de les persones amb discapacitat en el seu dia a dia. Aquest taller proposa una reflexió conjunta sobre els drets de les persones amb discapacitat i com són exercits en la vida quotidiana.\nEl taller que està dinamitzat per una persona amb discapacitat consisteix en la lectura d’una sèrie d’afirmacions que es corresponen amb situacions quotidianes dels àmbits de l’educació\, la salut\, la feina\, l’autonomia personal\, etc. A continuació\, l’alumnat s’hauran de posicionar segons si estan d’acord o en desacord amb cada afirmació. La persona dinamitzadora demanarà que una persona de cada posició expliqui què l’ha motivat a decidir la seva opció i\, a continuació\, s’obrirà un debat entre les dues posicions amb l’objectiu de relacionar aquesta situació del dia a dia amb un dret determinat.
URL:https://gact2.gact.terrassa.cat/activitat/creus-que-ho-puc-fer/
LOCATION:Centre Educatiu\, Terrassa\, Barcelona\, Espanya
CATEGORIES:Educació en valors
ATTACH;FMTTYPE=image/png:https://gact2.gact.terrassa.cat/wp-content/uploads/2020/07/foto_federacio_ecom.png
ORGANIZER;CN="Federaci%C3%B3 ECOM":MAILTO:sensibilitzacio@ecom.cat
END:VEVENT
BEGIN:VEVENT
DTSTART;VALUE=DATE:20210111
DTEND;VALUE=DATE:20210619
DTSTAMP:20260423T040546
CREATED:20201026T071748Z
LAST-MODIFIED:20210615T074059Z
UID:5835-1610323200-1624060799@gact2.gact.terrassa.cat
SUMMARY:Tast esportiu del CEVO
DESCRIPTION:DESCRIPCIÓ\n\nEl Consell Esportiu del Vallès Occidental -CEVO- ens presenta una àmplia gama d’esports en els que l’alumnat pot iniciar-se. \nConcretar amb el CEVO les condicions de la pràctica\, el nivell educatiu a qui van dirigides\, els horaris i preus de les activitats. \nLlistat d’esports que s’ofereixen:  \nSoftbol\nBMX\nAtletisme\nBoccia\nFutbol Flag\nGimnàstica artística\nGolf\nGoalball\nHandbol\nHoquei al pati\nHoquei gespa\nJudo\nVoleibol\nNatació\nKorfbal\nRugbi\nXap polo
URL:https://gact2.gact.terrassa.cat/activitat/tast-esportiu-del-cevo/
LOCATION:Barcelona
CATEGORIES:Educació per la salut
ATTACH;FMTTYPE=image/png:https://gact2.gact.terrassa.cat/wp-content/uploads/2020/10/Logo_consell_esportiu.png
ORGANIZER;CN="Consell Esportiu Vall%C3%A8s Occidental Terrassa":MAILTO:consell.esportiu@ceterrassa.com
END:VEVENT
BEGIN:VEVENT
DTSTART;TZID=Europe/Madrid:20210101T100000
DTEND;TZID=Europe/Madrid:20210101T103000
DTSTAMP:20260423T040546
CREATED:20201014T103710Z
LAST-MODIFIED:20230615T173142Z
UID:1497-1609495200-1609497000@gact2.gact.terrassa.cat
SUMMARY:Trobada de corals de secundària
DESCRIPTION:Prèvia preparació per part de les directores de les diferents corals; es realitzaran dues sessions:\n1a sessió a l’Auditori Municipal. Consistent en:\n. Assaig de les obres que s’interpretaran en la part comuna.\n. Actuació individual de les diferents corals.\n. Assaig d’una cançó nova per interpretar-la com a cloenda.\n. Actuació comuna de totes les corals assistents. \n2a sessió a l’atri de l’Ajuntament el dia 13 de desembre i on les diferents corals realitzaran la seva actuació individual i la interpretació de les peces treballades en la primera sessió.
URL:https://gact2.gact.terrassa.cat/activitat/__trashed-98/
LOCATION:Barcelona
CATEGORIES:Educació artística
END:VEVENT
BEGIN:VEVENT
DTSTART;TZID=Europe/Madrid:20210101T100000
DTEND;TZID=Europe/Madrid:20210101T100000
DTSTAMP:20260423T040546
CREATED:20200723T131337Z
LAST-MODIFIED:20210614T123219Z
UID:1689-1609495200-1609495200@gact2.gact.terrassa.cat
SUMMARY:LAB (tred). Laboratori de Transferència Educativa
DESCRIPTION:El LAB(Tred) pretén un treball al voltant de la pràctica educativa; basat en l’observació directa; presencial; de bones pràctiques i les immediates reflexions en petits grups en els centres on es duen a terme pràctiques pedagògiques innovadores i d’èxit.\nUn camí i un treball que tenen com a base les 18 edicions de la Setmana de l’Ensenyament; que han servit per posar en valor els projectes de les nostres escoles i han suposat consolidar un espai i un temps per a la reflexió i debat sobre temes del món de l’ensenyament; intervenint tota la comunitat educativa. \nEstructura:\n. Identificació dels centres de referència com a Nuclis LAB(Tred).\n. Formació dels equips cooperatius de recerca en funció dels interessos o necessitats.\n. Seguiment presencial de les activitats i observació planificada a cada centre durant el temps necessari i suficient.\n. Anàlisi cooperativa dels registres elaborats i de la documentació pertinent.\n. Difusió multimèdia; presentació i debat dels resultats del LAB(Tred) a la comunitat educativa i a les entitats socials. \nCalendari: abril-maig.
URL:https://gact2.gact.terrassa.cat/activitat/__trashed-91/
LOCATION:Barcelona
END:VEVENT
BEGIN:VEVENT
DTSTART;TZID=Europe/Madrid:20210101T100000
DTEND;TZID=Europe/Madrid:20210101T100000
DTSTAMP:20260423T040546
CREATED:20200723T125059Z
LAST-MODIFIED:20210603T112816Z
UID:1670-1609495200-1609495200@gact2.gact.terrassa.cat
SUMMARY:Visita l'estació de FGC
DESCRIPTION:Visita guiada a l’estació de FGC. Es detalla el coneixement necessari per moure’s en l’interior d’una estació de tren i manipular els seu elements: l’adquisició de bitllet; validació; accés andanes i totes les mesures de seguretat fins accedir al tren. Embarcament en un tren de línia fins a una altra estació i tornada al punt d’origen.L’activitat s’organitza en 4 grans eixos:\n. Civisme i conducta\n. Civisme i convivència\n. Civisme i seguretat\n. Civisme i sostenibilitat
URL:https://gact2.gact.terrassa.cat/activitat/__trashed-44/
LOCATION:Barcelona
CATEGORIES:Ciutat i territori
END:VEVENT
BEGIN:VEVENT
DTSTART;TZID=Europe/Madrid:20210101T100000
DTEND;TZID=Europe/Madrid:20210101T100000
DTSTAMP:20260423T040546
CREATED:20200723T125039Z
LAST-MODIFIED:20210603T112644Z
UID:1619-1609495200-1609495200@gact2.gact.terrassa.cat
SUMMARY:Vine al Funicular de Vallvidrera
DESCRIPTION:Ens traslladarem en tren fins a l’estació de Peu Funicular; observarem el funicular i viatjarem a Vallvidrera. A la sala de màquines del funicular; podran veure el funcionament de la maquinaria i en una maqueta faran una pràctica del funcionament del funicular. Des de la terrassa observaran la circulació i el creuament del funicular.
URL:https://gact2.gact.terrassa.cat/activitat/__trashed-43/
LOCATION:Barcelona
CATEGORIES:Ciutat i territori
END:VEVENT
BEGIN:VEVENT
DTSTART;TZID=Europe/Madrid:20210101T100000
DTEND;TZID=Europe/Madrid:20210101T100000
DTSTAMP:20260423T040546
CREATED:20200723T125024Z
LAST-MODIFIED:20210603T112723Z
UID:1394-1609495200-1609495200@gact2.gact.terrassa.cat
SUMMARY:Secrets del Cremallera de Montserrat
DESCRIPTION:Mitjançant els materials que s’enviaran a l’escola; es podran estudiar aquests mitjans de transport per fer adonar a l’alumnat de com l’home; a través de la tecnologia; ha anat adaptant els mitjans de transport per vèncer les dificultats imposades pel terreny. També s’estudiarà la configuració geològica i la formació del massís de Montserrat i la seva història.A Monistrol de Montserrat es realitzen uns tallers on es treballa per grups i de manera rotativa: la formació de Montserrat; el desnivell; el cremallera; el funicular; els mitjans de transport i el medi ambient.\nEn acabar el taller es puja a Montserrat amb el cremallera. Hi ha l’opció d’agafar el funicular de Sant Joan.
URL:https://gact2.gact.terrassa.cat/activitat/__trashed-42/
LOCATION:Barcelona
CATEGORIES:Ciutat i territori
END:VEVENT
BEGIN:VEVENT
DTSTART;TZID=Europe/Madrid:20210101T100000
DTEND;TZID=Europe/Madrid:20210101T100000
DTSTAMP:20260423T040546
CREATED:20200723T124405Z
LAST-MODIFIED:20210603T112532Z
UID:1392-1609495200-1609495200@gact2.gact.terrassa.cat
SUMMARY:L'evolució del ferrocarril
DESCRIPTION:Coneixement del tren i la seva història. Activitat guiada al Centre d’Interpretació del Ferrocarril de l’estació de Martorell Enllaç; on es treballa la història i evolució del tren; així com la repercussió que va tenir en la transformació de la societat per a l’adquisició d’hàbits que portin a utilitzar el tren i el transport públic en general; respectant les normes de civisme i seguretat. Visita a una estació de FGC de la línia Llobregat-Anoia.\nViatge amb tren. Opcional pujar a Montserrat amb el cremallera.\nExposició al Centre d’Interpretació del Ferrocarril.
URL:https://gact2.gact.terrassa.cat/activitat/__trashed-27/
LOCATION:Barcelona
CATEGORIES:Ciutat i territori
END:VEVENT
BEGIN:VEVENT
DTSTART;TZID=Europe/Madrid:20210101T100000
DTEND;TZID=Europe/Madrid:20210101T100000
DTSTAMP:20260423T040546
CREATED:20200723T124145Z
LAST-MODIFIED:20210603T112445Z
UID:1391-1609495200-1609495200@gact2.gact.terrassa.cat
SUMMARY:Funcionament del ferrocarril des de dins
DESCRIPTION:Activitat guiada al Centre de Comandament Integrat (CCI) i al Centre Operatiu de Rubí (COR).Al CCI es mostra com es planifica; ordena i controla la xarxa de trens de les línies d’FGC; així com els sistemes de seguretat i informació.\nAl COR l’alumnat coneix els diferents tipus de manteniment i reparacions que es porten a terme diàriament per tenir els trens sempre a punt. Se’ls fa reflexionar sobre l’esforç i la despesa de diner públic que suposa.
URL:https://gact2.gact.terrassa.cat/activitat/__trashed-22/
LOCATION:Barcelona
CATEGORIES:Ciutat i territori
END:VEVENT
BEGIN:VEVENT
DTSTART;TZID=Europe/Madrid:20210101T100000
DTEND;TZID=Europe/Madrid:20210101T100000
DTSTAMP:20260423T040546
CREATED:20200723T123601Z
LAST-MODIFIED:20210524T075242Z
UID:1548-1609495200-1609495200@gact2.gact.terrassa.cat
SUMMARY:Escolta les meves mans
DESCRIPTION:Activitat on els infants desenvoluparan la psicomotricitat; l’expressió corporal i facial; la coordinació manual i la memòria visual.Es fomenta el treball en equip i s’estimula l’interès per aprendre a comunicar-se amb les persones sordes gràcies a la seva llengua gesto-visual; la Llengua de Signes Catalana (LSC).\nAprendran vocabulari bàsic de forma divertida i es donaran estratègies de comunicació amb persones sordes. \nInfantil. S’explicarà un conte o es cantarà una cançó en llengua oral i en llengua de signes. També es faran tallers d’alfabet dactilològic i colors. \nPrimària. Joc de preguntes per conèixer a aquesta comunitat i role-playing per explicar les barreres de comunicació i d’accés a la informació de les persones sordes. \nDurada: 1 h \nCalendari: de setembre a juny en horari de matí.
URL:https://gact2.gact.terrassa.cat/activitat/__trashed-8/
LOCATION:Barcelona
CATEGORIES:Educació en valors
END:VEVENT
BEGIN:VEVENT
DTSTART;VALUE=DATE:20201016
DTEND;VALUE=DATE:20201017
DTSTAMP:20260423T040546
CREATED:20200907T065153Z
LAST-MODIFIED:20200907T071826Z
UID:1905-1602806400-1602892799@gact2.gact.terrassa.cat
SUMMARY:TNT - Lo Pequeño (Streaming)
DESCRIPTION:DESCRIPCIÓ\n\nEspectacle inclòs al programa Terrassa Noves Tendències – TNT- que consisteix en la projeccció de la peça i col·loqui posterior amb els artistes via streming. \nLo pequeño és mentir descaradament i creure tot descaradament. Ensenyar que és obvi\, fer mini espectacles\, acceptar-tot\, sublimar l’absurd\, fer callar un gos\, aguantar el riure\, suportar una tempesta\, fer espectacular el mínim i el petit. El petit parteix d’una situació\, un espai i un temps poc definits\, com suspesos\, en els quals es van construint petites situacions\, creant diferents capes d’artifici\, realitat i ficció\, jugant amb la expectació\, l’expectativa i l’espectacularitat.
URL:https://gact2.gact.terrassa.cat/activitat/tnt-lo-pequeno-streaming/
LOCATION:Centre Educatiu\, Terrassa\, Barcelona\, Espanya
CATEGORIES:Educació artística
ATTACH;FMTTYPE=image/jpeg:https://gact2.gact.terrassa.cat/wp-content/uploads/2020/07/HOHm6yMF_400x400.jpg
ORGANIZER;CN="Centre d'Arts Esc%C3%A8niques de Terrassa- CAET":MAILTO:caet@terrassa.cat
END:VEVENT
END:VCALENDAR