BEGIN:VCALENDAR
VERSION:2.0
PRODID:-//Guia d&#039;activitats (proves) - ECPv6.15.0.1//NONSGML v1.0//EN
CALSCALE:GREGORIAN
METHOD:PUBLISH
X-ORIGINAL-URL:https://gact2.gact.terrassa.cat
X-WR-CALDESC:Esdeveniments per Guia d&#039;activitats (proves)
REFRESH-INTERVAL;VALUE=DURATION:PT1H
X-Robots-Tag:noindex
X-PUBLISHED-TTL:PT1H
BEGIN:VTIMEZONE
TZID:Europe/Madrid
BEGIN:DAYLIGHT
TZOFFSETFROM:+0100
TZOFFSETTO:+0200
TZNAME:CEST
DTSTART:20210328T010000
END:DAYLIGHT
BEGIN:STANDARD
TZOFFSETFROM:+0200
TZOFFSETTO:+0100
TZNAME:CET
DTSTART:20211031T010000
END:STANDARD
BEGIN:DAYLIGHT
TZOFFSETFROM:+0100
TZOFFSETTO:+0200
TZNAME:CEST
DTSTART:20220327T010000
END:DAYLIGHT
BEGIN:STANDARD
TZOFFSETFROM:+0200
TZOFFSETTO:+0100
TZNAME:CET
DTSTART:20221030T010000
END:STANDARD
END:VTIMEZONE
BEGIN:VEVENT
DTSTART;VALUE=DATE:20210921
DTEND;VALUE=DATE:20220209
DTSTAMP:20260421T000948
CREATED:20201014T115300Z
LAST-MODIFIED:20210921T084953Z
UID:5112-1632182400-1644364799@gact2.gact.terrassa.cat
SUMMARY:“Cua de Sirena”: Qui diu que estem obligades a escollir?
DESCRIPTION:DESCRIPCIÓ\n\n“Cua de Sirena” és un espectacle de petit format de titelles i objectes que posa potes enlaire els estereotips i el binarisme de gènere. \nEn Roc estava més marejat que un allioli. No entenia res de res del que el cranc li havia dit… No entenia per què era una cosa que s’havia de convertir en una altra. A més a més\, per sempre més! Una cosa o l’altra. Blanc o negre. Carn o peix. Nen o nena\, humà o sirena… Com si només hi hagués dues opcions! No pot ser que una decisió sigui també que no vols prendre una decisió?
URL:https://gact2.gact.terrassa.cat/activitat/cua-de-sirena-qui-diu-que-estem-obligades-a-escollir/
LOCATION:Centre Educatiu\, Terrassa\, Barcelona\, Espanya
CATEGORIES:Educació en valors
ATTACH;FMTTYPE=image/jpeg:https://gact2.gact.terrassa.cat/wp-content/uploads/2020/10/colaboracion-swim-and-actuavalles.jpg
ORGANIZER;CN="Servei de Salut Comunit%C3%A0ria":MAILTO:salut.comunitaria@terrassa.cat
END:VEVENT
END:VCALENDAR