BEGIN:VCALENDAR
VERSION:2.0
PRODID:-//Guia d&#039;activitats (proves) - ECPv6.15.0.1//NONSGML v1.0//EN
CALSCALE:GREGORIAN
METHOD:PUBLISH
X-ORIGINAL-URL:https://gact2.gact.terrassa.cat
X-WR-CALDESC:Esdeveniments per Guia d&#039;activitats (proves)
REFRESH-INTERVAL;VALUE=DURATION:PT1H
X-Robots-Tag:noindex
X-PUBLISHED-TTL:PT1H
BEGIN:VTIMEZONE
TZID:Europe/Madrid
BEGIN:DAYLIGHT
TZOFFSETFROM:+0100
TZOFFSETTO:+0200
TZNAME:CEST
DTSTART:20210328T010000
END:DAYLIGHT
BEGIN:STANDARD
TZOFFSETFROM:+0200
TZOFFSETTO:+0100
TZNAME:CET
DTSTART:20211031T010000
END:STANDARD
BEGIN:DAYLIGHT
TZOFFSETFROM:+0100
TZOFFSETTO:+0200
TZNAME:CEST
DTSTART:20220327T010000
END:DAYLIGHT
BEGIN:STANDARD
TZOFFSETFROM:+0200
TZOFFSETTO:+0100
TZNAME:CET
DTSTART:20221030T010000
END:STANDARD
END:VTIMEZONE
BEGIN:VEVENT
DTSTART;VALUE=DATE:20210909
DTEND;VALUE=DATE:20220618
DTSTAMP:20260421T001209
CREATED:20210928T072233Z
LAST-MODIFIED:20220113T174453Z
UID:10330-1631145600-1655510399@gact2.gact.terrassa.cat
SUMMARY:La Lluna\, el nostre satel·lit
DESCRIPTION:DESCRIPCIÓ\n\nL’activitat s’inicia amb preguntes als nens sobre la Lluna per a estimular la curiositat i posar de relleu els coneixements previs.\nPosteriorment s’expliquen aspectes bàsics del satèl·lit. Aquesta part de l’activitat està ajudada per la projecció d’imatges i si s’escau de material manipulatiu.\nEl taller es molt interessant que inclogui una part d’observació de la Lluna amb telescopi\, per la qual cosa és necessari un acord amb l’AFA\, o amb els pares dels alumnes de les classes que hi participin. L’observació es pot fer a la seu de l’aaT o al pati de l’escola.\nEn la part de l’observació mirarem el cel\, quina forma té la Lluna aquell dia\, en quin lloc del cel la veiem\, i prendrem consciència que a vegades té una forma i altres vegades una altra.\nEn l’observació a través del telescopi tots els participants\, infants i adults\, podran observar la Lluna\, identificar-hi la forma dels cràters i les diferents tonalitats de blancs\, i grisos que en marquen la fisonomia.
URL:https://gact2.gact.terrassa.cat/activitat/la-lluna-el-nostre-satellit/
LOCATION:Agrupació Astronòmica de Terrassa\, Carrer de Martí Díez\, 7\, 3ª planta\, Terrassa\, Barcelona\, 08224\, Espanya
CATEGORIES:Novetats
ATTACH;FMTTYPE=image/png:https://gact2.gact.terrassa.cat/wp-content/uploads/2020/10/logoAAT.png
ORGANIZER;CN="Agrupaci%C3%B3 Astron%C3%B2mica de Terrassa":MAILTO:aat.terrassa@gmail.com
END:VEVENT
BEGIN:VEVENT
DTSTART;VALUE=DATE:20210909
DTEND;VALUE=DATE:20220618
DTSTAMP:20260421T001209
CREATED:20210928T071710Z
LAST-MODIFIED:20220113T174449Z
UID:10324-1631145600-1655510399@gact2.gact.terrassa.cat
SUMMARY:El Sol\, el nostre estel
DESCRIPTION:DESCRIPCIÓ\n\nL’activitat s’inicia amb preguntes als nens sobre el Sol i se n’expliquen aspectes bàsics; què és\, com es belluga en el cel durant el dia\, quina importància té per a la vida a la terra… Aquesta part de l’activitat està ajudada per la projecció d’imatges i si escau materials manipulatius.\nSempre que és possible es fa una activitat pràctica al pati que es planteja com a joc\, observant l’ombra\, veient com depèn d’on és el Sol\, tant pel que fa a la inclinació com a la llargada de l’ombra.
URL:https://gact2.gact.terrassa.cat/activitat/el-sol-el-nostre-estel-2/
LOCATION:Agrupació Astronòmica de Terrassa\, Carrer de Martí Díez\, 7\, 3ª planta\, Terrassa\, Barcelona\, 08224\, Espanya
CATEGORIES:Novetats
ATTACH;FMTTYPE=image/png:https://gact2.gact.terrassa.cat/wp-content/uploads/2020/10/logoAAT.png
ORGANIZER;CN="Agrupaci%C3%B3 Astron%C3%B2mica de Terrassa":MAILTO:aat.terrassa@gmail.com
END:VEVENT
BEGIN:VEVENT
DTSTART;VALUE=DATE:20210909
DTEND;VALUE=DATE:20220618
DTSTAMP:20260421T001209
CREATED:20210917T124413Z
LAST-MODIFIED:20220113T174118Z
UID:9836-1631145600-1655510399@gact2.gact.terrassa.cat
SUMMARY:El Sol\, la nostra Estrella
DESCRIPTION:DESCRIPCIÓ\n\nDonada la gran amplitud d’edats a les quals va adreçada l’activitat\, l’activitat en sí s’adaptarà a les diferents edats i al grau de coneixements i competències que tenen i que s’espera que assoleixin.\nL’activitat s’adaptarà sempre a l’enfocament (més explicació\, més observació\, continguts prioritaris) que es vulgui\, o es pugui donar des del centre\, dins de les següents premisses:\n1) L’activitat s’inicia amb preguntes als alumnes que serveixin per a centrar la temàtica i posar de relleu els coneixements previs\n2) Explicació que inclou els següents continguts:\na) La formació del sistema solar\nb) El sistema solar\, el Sol\, els planetes\, la Terra i la posició del sistema solar a la galàxia i a l’Univers.\nc) El Sol\, central de fusió\, creació d’elements químics.\nd) L’evolució dels estels\ne) La contaminació a la Terra\nf) El moviment de la Terra al voltant del Sol\, i el moviment del Sol vist quan l’observem des de la Terra. El transcurs del dia.\n3) Plantejament de l’observació i observació. El moviment del Sol durant el dia. Com es mou i la seva relació amb l’horari. Si és possible es pot fer una observació del Sol amb telescopi solar.
URL:https://gact2.gact.terrassa.cat/activitat/el-sol-el-nostre-estel/
LOCATION:Agrupació Astronòmica de Terrassa\, Carrer de Martí Díez\, 7\, 3ª planta\, Terrassa\, Barcelona\, 08224\, Espanya
CATEGORIES:Novetats
ATTACH;FMTTYPE=image/png:https://gact2.gact.terrassa.cat/wp-content/uploads/2020/10/logoAAT.png
ORGANIZER;CN="Agrupaci%C3%B3 Astron%C3%B2mica de Terrassa":MAILTO:aat.terrassa@gmail.com
END:VEVENT
BEGIN:VEVENT
DTSTART;VALUE=DATE:20210909
DTEND;VALUE=DATE:20220618
DTSTAMP:20260421T001209
CREATED:20201019T104309Z
LAST-MODIFIED:20220113T173617Z
UID:5345-1631145600-1655510399@gact2.gact.terrassa.cat
SUMMARY:Ja mai mirem el cel – Primària i Secundària
DESCRIPTION:DESCRIPCIÓ\n\nDonada la gran amplitud d’edats a les quals va adreçada l’activitat\, l’activitat en sí s’adaptarà a les diferents edats i al grau de coneixements i competències que tenen i s’espera que assoleixin.\nL’activitat s’adaptarà sempre a l’enfocament (més explicació\, més observació) que es vulgui\, o es pugui donar des del centre\, dins de les següents premises:\n1) L’activitat s’inicia amb preguntes als alumnes que serveixin per a centrar la temàtica i posar de relleu els coneixements previs\n2) Explicació que inclou els següents continguts: \na) Els astres han influït en la nostra cultura i el nostre calendari\nb) El cel es mirava més abans que ara. Perquè?\nc) Dates del nostre calendari lligades a la posició dels astres; solsticis\, equinoccis…\nd) La contaminació lumínica\n3) Observació de nit o diürna amb continguts ben diferents segons la possiblitat; on són les estrelles aquesta nit\, o el Sol com a rellotge de sol…
URL:https://gact2.gact.terrassa.cat/activitat/la-descoberta-de-lunivers-primaria-secundaria/
LOCATION:Agrupació Astronòmica de Terrassa\, Carrer de Martí Díez\, 7\, 3ª planta\, Terrassa\, Barcelona\, 08224\, Espanya
CATEGORIES:Novetats,STEM
ATTACH;FMTTYPE=image/png:https://gact2.gact.terrassa.cat/wp-content/uploads/2020/10/logoAAT.png
ORGANIZER;CN="Agrupaci%C3%B3 Astron%C3%B2mica de Terrassa":MAILTO:aat.terrassa@gmail.com
END:VEVENT
BEGIN:VEVENT
DTSTART;VALUE=DATE:20210909
DTEND;VALUE=DATE:20220618
DTSTAMP:20260421T001209
CREATED:20201019T103608Z
LAST-MODIFIED:20220113T173535Z
UID:1467-1631145600-1655510399@gact2.gact.terrassa.cat
SUMMARY:La descoberta de l'Univers - Infantil
DESCRIPTION:DESCRIPCIÓ\n\nXerrades-observacions interactives a escollir sobre temes d’astronomia: \n1- El Sol\, el nostre estel\n2- La Lluna\, la nostre satèl·lit
URL:https://gact2.gact.terrassa.cat/activitat/la-descoberta-de-lunivers-amb-ulls-petits/
LOCATION:Agrupació Astronòmica de Terrassa\, Carrer de Martí Díez\, 7\, 3ª planta\, Terrassa\, Barcelona\, 08224\, Espanya
CATEGORIES:Novetats,STEM
ATTACH;FMTTYPE=image/png:https://gact2.gact.terrassa.cat/wp-content/uploads/2020/10/logoAAT.png
ORGANIZER;CN="Agrupaci%C3%B3 Astron%C3%B2mica de Terrassa":MAILTO:aat.terrassa@gmail.com
END:VEVENT
END:VCALENDAR