BEGIN:VCALENDAR
VERSION:2.0
PRODID:-//Guia d&#039;activitats (proves) - ECPv6.15.0.1//NONSGML v1.0//EN
CALSCALE:GREGORIAN
METHOD:PUBLISH
X-ORIGINAL-URL:https://gact2.gact.terrassa.cat
X-WR-CALDESC:Esdeveniments per Guia d&#039;activitats (proves)
REFRESH-INTERVAL;VALUE=DURATION:PT1H
X-Robots-Tag:noindex
X-PUBLISHED-TTL:PT1H
BEGIN:VTIMEZONE
TZID:Europe/Madrid
BEGIN:DAYLIGHT
TZOFFSETFROM:+0100
TZOFFSETTO:+0200
TZNAME:CEST
DTSTART:20210328T010000
END:DAYLIGHT
BEGIN:STANDARD
TZOFFSETFROM:+0200
TZOFFSETTO:+0100
TZNAME:CET
DTSTART:20211031T010000
END:STANDARD
BEGIN:DAYLIGHT
TZOFFSETFROM:+0100
TZOFFSETTO:+0200
TZNAME:CEST
DTSTART:20220327T010000
END:DAYLIGHT
BEGIN:STANDARD
TZOFFSETFROM:+0200
TZOFFSETTO:+0100
TZNAME:CET
DTSTART:20221030T010000
END:STANDARD
END:VTIMEZONE
BEGIN:VEVENT
DTSTART;TZID=Europe/Madrid:20210909T080000
DTEND;TZID=Europe/Madrid:20220617T170000
DTSTAMP:20260422T094558
CREATED:20210722T105733Z
LAST-MODIFIED:20210726T125706Z
UID:9730-1631174400-1655485200@gact2.gact.terrassa.cat
SUMMARY:Bioblitz
DESCRIPTION:DESCRIPCIÓ\n\nEl BIOBLITZ és una proposta participativa de ciència ciutadana\, Servei comunitari i Aprenentatge i Servei amb l’objectiu d’observar i de registrar tantes espècies d’éssers vius com sigui possible en un espai i un temps determinats.( Parc de Vallparadís )\nL’activitat consisteix en unes sessions preparatòries de la fauna\, flora i geologia del Parc de Vallparadís\, per poder col·laborar en la recerca científica de les espècies del Parc amb uns petits coneixements bàsics per recollir les dades mitjançant Apps.( Natursfera)\n3 Sessions preparatòries:\n1-De jaciment prehistòric a parc urbà\n2 -Fauna\, flora i altres éssers vius a Vallparadís\n3 -Ciència ciutadana: compteu amb mi ( activitat matinal d’observació i comptatge al Parc)\n1 Sessió de treball de camp en grup escolar\, familiar…
URL:https://gact2.gact.terrassa.cat/activitat/bioblitz/
LOCATION:Centre Educatiu\, Terrassa\, Barcelona\, Espanya
ATTACH;FMTTYPE=image/jpeg:https://gact2.gact.terrassa.cat/wp-content/uploads/2021/06/amagali-40-anys.jpg
ORGANIZER;CN="Associaci%C3%B3 de Mestre Alexandre Gal%C3%AD":MAILTO:am.alexandre.gali@gmail.com
END:VEVENT
END:VCALENDAR