BEGIN:VCALENDAR
VERSION:2.0
PRODID:-//Guia d&#039;activitats (proves) - ECPv6.15.0.1//NONSGML v1.0//EN
CALSCALE:GREGORIAN
METHOD:PUBLISH
X-WR-CALNAME:Guia d&#039;activitats (proves)
X-ORIGINAL-URL:https://gact2.gact.terrassa.cat
X-WR-CALDESC:Esdeveniments per Guia d&#039;activitats (proves)
REFRESH-INTERVAL;VALUE=DURATION:PT1H
X-Robots-Tag:noindex
X-PUBLISHED-TTL:PT1H
BEGIN:VTIMEZONE
TZID:Europe/Madrid
BEGIN:DAYLIGHT
TZOFFSETFROM:+0100
TZOFFSETTO:+0200
TZNAME:CEST
DTSTART:20210328T010000
END:DAYLIGHT
BEGIN:STANDARD
TZOFFSETFROM:+0200
TZOFFSETTO:+0100
TZNAME:CET
DTSTART:20211031T010000
END:STANDARD
BEGIN:DAYLIGHT
TZOFFSETFROM:+0100
TZOFFSETTO:+0200
TZNAME:CEST
DTSTART:20220327T010000
END:DAYLIGHT
BEGIN:STANDARD
TZOFFSETFROM:+0200
TZOFFSETTO:+0100
TZNAME:CET
DTSTART:20221030T010000
END:STANDARD
END:VTIMEZONE
BEGIN:VEVENT
DTSTART;TZID=Europe/Madrid:20210909T080000
DTEND;TZID=Europe/Madrid:20220617T170000
DTSTAMP:20260420T224216
CREATED:20210924T085803Z
LAST-MODIFIED:20210924T092231Z
UID:10285-1631174400-1655485200@gact2.gact.terrassa.cat
SUMMARY:Taller del mestre pelut
DESCRIPTION:DESCRIPCIÓ\n\nXerrades de conscienciació sobre tinença responsable d’animals dirigida a infants. Gràcies a la presencia de un gos (Mestre Pelut) els nens aprendran les responsabilitats que comporta tenir un gos\, sabran com actuar en situacions de risc i podran entendre una mica de la comunicació canina. Gràcies a la presencia de un Mestre Pelut\, els infants coneixeran com es comuniquen els animals\, els seus estats d’ànim i poder avançar-nos per evitar situacions de risc on estan implicats els gossos i els nens. També aprendran quins son els passos que s’han de seguir alhora d’adquirir un animal domèstic: necessitats de l’animal\, obligacions com a bon ciutadà\,… Finalment ensenyarem quins tipus de gossos hi ha (de treball\, de servei\, pigall\,…) i com se’ls educa per a que facin aquestes feines. S’entregaran materials didàctic i obsequis per a l’infant i la seva família. A més\, la mestra responsable de la classe haurà d’omplir una avaluació que ens servirà per valorar la qualitat de les xerrades.
URL:https://gact2.gact.terrassa.cat/activitat/taller-del-mestre-pelut/
LOCATION:Centre Educatiu\, Terrassa\, Barcelona\, Espanya
CATEGORIES:Medi ambient i sostenibilitat
END:VEVENT
END:VCALENDAR