BEGIN:VCALENDAR
VERSION:2.0
PRODID:-//Guia d&#039;activitats (proves) - ECPv6.15.0.1//NONSGML v1.0//EN
CALSCALE:GREGORIAN
METHOD:PUBLISH
X-ORIGINAL-URL:https://gact2.gact.terrassa.cat
X-WR-CALDESC:Esdeveniments per Guia d&#039;activitats (proves)
REFRESH-INTERVAL;VALUE=DURATION:PT1H
X-Robots-Tag:noindex
X-PUBLISHED-TTL:PT1H
BEGIN:VTIMEZONE
TZID:Europe/Madrid
BEGIN:DAYLIGHT
TZOFFSETFROM:+0100
TZOFFSETTO:+0200
TZNAME:CEST
DTSTART:20210328T010000
END:DAYLIGHT
BEGIN:STANDARD
TZOFFSETFROM:+0200
TZOFFSETTO:+0100
TZNAME:CET
DTSTART:20211031T010000
END:STANDARD
END:VTIMEZONE
BEGIN:VEVENT
DTSTART;VALUE=DATE:20210111
DTEND;VALUE=DATE:20210601
DTSTAMP:20260421T021258
CREATED:20201119T230003Z
LAST-MODIFIED:20210524T072625Z
UID:5887-1610323200-1622505599@gact2.gact.terrassa.cat
SUMMARY:Malalties hepàtiques
DESCRIPTION:DESCRIPCIÓ\n\nSensibilitzar sobre les malalties hepàtiques i la importància de la donació d’òrgans i els trasplantaments.
URL:https://gact2.gact.terrassa.cat/activitat/malalties-hepatiques/
LOCATION:Centre Educatiu\, Terrassa\, Barcelona\, Espanya
CATEGORIES:Educació per la salut
ATTACH;FMTTYPE=image/jpeg:https://gact2.gact.terrassa.cat/wp-content/uploads/2020/07/9.-Logo-Cataluña-scaled-e1603709477843.jpg
ORGANIZER;CN="Associaci%C3%B3 Malats Transplantaments Hep%C3%A0tics de Catalunya":MAILTO:athc@ath.cat
END:VEVENT
END:VCALENDAR