BEGIN:VCALENDAR
VERSION:2.0
PRODID:-//Guia d&#039;activitats (proves) - ECPv6.15.0.1//NONSGML v1.0//EN
CALSCALE:GREGORIAN
METHOD:PUBLISH
X-WR-CALNAME:Guia d&#039;activitats (proves)
X-ORIGINAL-URL:https://gact2.gact.terrassa.cat
X-WR-CALDESC:Esdeveniments per Guia d&#039;activitats (proves)
REFRESH-INTERVAL;VALUE=DURATION:PT1H
X-Robots-Tag:noindex
X-PUBLISHED-TTL:PT1H
BEGIN:VTIMEZONE
TZID:Europe/Madrid
BEGIN:DAYLIGHT
TZOFFSETFROM:+0100
TZOFFSETTO:+0200
TZNAME:CEST
DTSTART:20210328T010000
END:DAYLIGHT
BEGIN:STANDARD
TZOFFSETFROM:+0200
TZOFFSETTO:+0100
TZNAME:CET
DTSTART:20211031T010000
END:STANDARD
BEGIN:DAYLIGHT
TZOFFSETFROM:+0100
TZOFFSETTO:+0200
TZNAME:CEST
DTSTART:20220327T010000
END:DAYLIGHT
BEGIN:STANDARD
TZOFFSETFROM:+0200
TZOFFSETTO:+0100
TZNAME:CET
DTSTART:20221030T010000
END:STANDARD
END:VTIMEZONE
BEGIN:VEVENT
DTSTART;VALUE=DATE:20220110
DTEND;VALUE=DATE:20220415
DTSTAMP:20260421T021023
CREATED:20201129T230051Z
LAST-MODIFIED:20210922T100317Z
UID:1576-1641772800-1649980799@gact2.gact.terrassa.cat
SUMMARY:Llegim policíaca (Egara negra)
DESCRIPTION:DESCRIPCIÓ\n\nLectura d’un llibre de novel•la policíaca adequat a l’edat i el nivell educatiu que proposa la biblioteca. A partir de la lectura\, a l’escola es podran fer diferents activitats al voltant del llibre\, el seu autor o autora i algun tema de fons que es vulgui treballar (per exemple\, el perill de les xarxes socials). Un cop fetes les activitats es farà una trobada amb el propi autor o autora a la bd6. \nObservacions:  Data límit inscripció: 02/12/2021 \n 
URL:https://gact2.gact.terrassa.cat/activitat/llegim-policiaca-egara-negra/
LOCATION:Centre Educatiu\, Terrassa\, Barcelona\, Espanya
CATEGORIES:El món de la paraula
ATTACH;FMTTYPE=image/jpeg:https://gact2.gact.terrassa.cat/wp-content/uploads/2020/07/foto_logo_bct_xarxa.jpg
ORGANIZER;CN="Biblioteques p%C3%BAbliques de Terrassa":MAILTO:bct@terrassa.cat
END:VEVENT
BEGIN:VEVENT
DTSTART;TZID=Europe/Madrid:20211101T090000
DTEND;TZID=Europe/Madrid:20220410T140000
DTSTAMP:20260421T021023
CREATED:20210722T091953Z
LAST-MODIFIED:20210722T093525Z
UID:9718-1635757200-1649599200@gact2.gact.terrassa.cat
SUMMARY:Filoteca
DESCRIPTION:DESCRIPCIÓ\n\nGener 2022: “Antígona”\, de Sòfocles \, a càrrec d’Anna Mòdenes\, INS Can Roca. Biblioteca D6. Material de suport https://books.google.es/books/about/Ant%C3%ADgona.html?id=Wg6-LapmrS0C&redir_esc=y \nFebrer 2022: La proposta política de J.Rawls\, a càrrec de Dani Martínez\, INS Terrassa. Biblioteca bct. Material de suport https://books.google.es/books?id=vU0oSgAACAAJ&dq=teoria+de+la+just%C3%ADcia&hl=ca&sa=X&redir_esc=y \nMarç 2022: “L’home a la recerca del sentit\, “del V. Frankl\, a càrrec d’en Jordi Sáez\, INS Matadepera. Biblioteca D4. Material de suport https://books.google.es/books?id=6DB-AAAACAAJ&dq=L%27home+a+la+recerca+de+sentit&hl=ca&sa=X&redir_esc=y \nAbril 2022: L’ètica de la desobediencia\, a càrrec de Ana Diego\, INS Blanxart. Biblioteca D6. Material de suport https://books.google.es/books?id=vVWtDwAAQBAJ&printsec=frontcover&dq=desobedi%C3%A8ncia&hl=ca&sa=X&redir_esc=y#v=onepage&q=desobedi%C3%A8ncia&f=false
URL:https://gact2.gact.terrassa.cat/activitat/filoteca/
LOCATION:Centre Educatiu\, Terrassa\, Barcelona\, Espanya
ATTACH;FMTTYPE=image/png:https://gact2.gact.terrassa.cat/wp-content/uploads/2021/07/Logo_Filoteca-02.png
ORGANIZER;CN="Biblioteques p%C3%BAbliques de Terrassa":MAILTO:bct@terrassa.cat
END:VEVENT
BEGIN:VEVENT
DTSTART;VALUE=DATE:20211001
DTEND;VALUE=DATE:20220601
DTSTAMP:20260421T021023
CREATED:20201129T230010Z
LAST-MODIFIED:20210922T083553Z
UID:1475-1633046400-1654041599@gact2.gact.terrassa.cat
SUMMARY:Conèixer la  bct-xarxa
DESCRIPTION:DESCRIPCIÓ\n\nVisites a la biblioteca \n\nPetits lectors (fins als 5 anys). Explicació breu de l’Àrea infantil\, amb mostra de llibres i narració de conte.\nDe primer a quart de Primària (de 6 a 10 anys). Explicació dels serveis i el funcionament de la biblioteca. Mostra de llibres  de coneixements i d‘imaginació. Coneixement del catàleg i la recerca d’informació en funció de l’edat\nCinquè i sisè de Primària. Explicació dels serveis i el funcionament de la biblioteca. Nocions sobre el sistema de classificació i les fonts d’informació. Mostra de llibres de coneixements i d’imaginació. Adaptació segons l’edat i el curs.\nESO (A partir d’ 12 anys). Explicació dels serveis i el funcionament de la biblioteca . S’aprofundeix en el funcionament del catàleg o bé en l’ús d’enciclopèdies i diccionaris.\n\nVisites organitzades \nAdreçades a tot tipus de públic (adult\, educació especial\, AMPAS\, etc.) i en un horari més flexible que el de les visites escolars. El seu objectiu és el de donar a conèixer la biblioteca\, la seva organització\, els seus espais i el seu funcionament. Ens adaptem als interessos dels diferents grups. \nSessions de treball (les sessions es fan a la bct\, bd2\, bd3\, bd4 i la bd6) \nTreball col·lectiu de tot el grup-classe a la mateixa biblioteca\, amb horari de 10 a 13\, i prèvia reserva de la sala infantil. La biblioteca ofereix l’espai i el fons documental. La sessió ha de ser tutoritzada pels propis mestres. \nPer a poder-ne gaudir el grup-classe haurà hagut de fer prèviament una visita d’introducció a la biblioteca. Aquestes sessions també es poden fer combinades amb la formació en l’ús del catàleg. \nLa biblioteca us recomana… \nTastet de lectures recomanables per als alumnes d’educació infantil\, primària o secundària. \nAltres serveis:  \nLa bct xarxa també ofereix altres serveis a les escoles: assessorament bibliogràfic i préstec de lots de llibres. \nObservacions:  \n\nles visites es poden adaptar a les necessitats del grup classe\nper més detall de la tipologia de visites\, consulteu el dossier “Conèixer la bct xarxa”\, que trobareu al nostre web: www.terrassa.cat/biblioteques\n\n 
URL:https://gact2.gact.terrassa.cat/activitat/coneixer-la-bct-xarxa/
LOCATION:Biblioteca Central de Terrassa -bct
CATEGORIES:El món de la paraula
ATTACH;FMTTYPE=image/jpeg:https://gact2.gact.terrassa.cat/wp-content/uploads/2020/07/foto_logo_bct_xarxa.jpg
ORGANIZER;CN="Biblioteques p%C3%BAbliques de Terrassa":MAILTO:bct@terrassa.cat
END:VEVENT
BEGIN:VEVENT
DTSTART;VALUE=DATE:20211001
DTEND;VALUE=DATE:20220601
DTSTAMP:20260421T021023
CREATED:20201129T230023Z
LAST-MODIFIED:20210922T100144Z
UID:3135-1633046400-1654041599@gact2.gact.terrassa.cat
SUMMARY:Conèixer la bct xarxa i Pràctica Esportiva
DESCRIPTION:DESCRIPCIÓ\n\n•       De primer a tercer de Primària.\na) Explicació dels serveis i el funcionament de la biblioteca. Mostra de llibres de coneixements i d‘imaginació. Coneixement del catàleg i la recerca d’informació. Adaptació segons l’edat i el curs.\nb) Pràctica d’un dels següents esports*: Judo\, natació\, xap polo o hoquei\n•       De quart a sisè de Primària.\na) Explicació dels serveis i el funcionament de la biblioteca. Nocions sobre el sistema de classificació i les fonts d’informació. Mostra de llibres de coneixements o joc “Exploradors de les biblioteques” per aprendre a fer servir el catàleg. Adaptació segons l’edat i el curs\nb) Pràctica d’un dels següents esports: Judo\, natació o waterpolo o hoquei\n•       De primer a quart d’ESO\na) Explicació dels serveis i el funcionament de la biblioteca. Nocions sobre el sistema de classificació i les fonts d’informació. Joc “explora amb l’APP de les biblioteques” per aprendre a fer servir el catàleg. Es requereix dispositiu mòbil i compte de correu electrònic.\nDurada de la Formació : 2 h.\n*Totes les dates dels diferents esports es concretaran un cop iniciat el curs 2021-2022
URL:https://gact2.gact.terrassa.cat/activitat/coneixer-la-bct-xarxa-i-practica-esportiva/
LOCATION:Biblioteca d5\, Jocs Olímpics\, s/n\, Terrassa\, barcelona\, 08225\, Espanya
CATEGORIES:El món de la paraula
ATTACH;FMTTYPE=image/jpeg:https://gact2.gact.terrassa.cat/wp-content/uploads/2020/07/foto_logo_bct_xarxa.jpg
ORGANIZER;CN="Biblioteques p%C3%BAbliques de Terrassa":MAILTO:bct@terrassa.cat
END:VEVENT
END:VCALENDAR