BEGIN:VCALENDAR
VERSION:2.0
PRODID:-//Guia d&#039;activitats (proves) - ECPv6.15.0.1//NONSGML v1.0//EN
CALSCALE:GREGORIAN
METHOD:PUBLISH
X-ORIGINAL-URL:https://gact2.gact.terrassa.cat
X-WR-CALDESC:Esdeveniments per Guia d&#039;activitats (proves)
REFRESH-INTERVAL;VALUE=DURATION:PT1H
X-Robots-Tag:noindex
X-PUBLISHED-TTL:PT1H
BEGIN:VTIMEZONE
TZID:Europe/Madrid
BEGIN:DAYLIGHT
TZOFFSETFROM:+0100
TZOFFSETTO:+0200
TZNAME:CEST
DTSTART:20210328T010000
END:DAYLIGHT
BEGIN:STANDARD
TZOFFSETFROM:+0200
TZOFFSETTO:+0100
TZNAME:CET
DTSTART:20211031T010000
END:STANDARD
END:VTIMEZONE
BEGIN:VEVENT
DTSTART;TZID=Europe/Madrid:20210603T093000
DTEND;TZID=Europe/Madrid:20210603T123000
DTSTAMP:20260421T023222
CREATED:20201115T230006Z
LAST-MODIFIED:20210518T103724Z
UID:1699-1622712600-1622723400@gact2.gact.terrassa.cat
SUMMARY:Toca - Toca Percussió
DESCRIPTION:DESCRIPCIÓ\n\nLa música forma part de la nostra vida diària\, d’aquest teixit social cada vegada més complex i en procés de canvi permanent. El sistema educatiu\, per tant\, no pot estar tancat o aïllat a tot allò que passa al seu voltant\, ha de posseir intrínsecament una flexibilitat que permeti orientar i proporcionar als seus alumnes els instruments per jutjar\, analitzar i comprendre\, per si mateixos\, la realitat que ens envolta. \nEn aquest escenari de tu a tu amb els alumnes\, el professor té la música\, el moviment\, el joc\, l’expressió corporal i la creativitat com a bases per un abordatge psicosocial d’un alt valor pedagògic. \nAquest projecte dóna molta importància a la creativitat i al llenguatge rítmic expressat amb el nostre cos. És en aquesta experiència sensorial on es reforça tot el vincle emocional\, tots els aspectes socials i socialitzadors de la música\, tot el potencial estètic i pedagògic dels processos d’aprenentatge a partir del ritme\, i tota la gestió emocional del treball físic i intel·lectual de les disciplines esportives i artístiques. \nEs fan 4 sessions de formació presencial en El Vapor\, espai de creació musical de Casa de la Música\, les dates previstes: \nDijous 15 d’octubre de 17:30 a 19:30 h en El Vapor \nDijous 22 d’octubre de 17:30 a 19:30 h en El Vapor \nDijous 29 d’octubre de 17:30 a 19:30 h en El Vapor \nDijous 5 de novembre de 17:30 a 19:30 h en El Vapor \nLes places s’atorguen per rigorós ordre d’inscripció.\nEn cas excepcional si l’activitat no es pot fer al Teatre Principal l’entitat l’organitzadora informarà de com procedir.\n 
URL:https://gact2.gact.terrassa.cat/activitat/toca-toca-percussio/
LOCATION:Plaça Nova\, Terrassa\, Barcelona\, 08221\, Espanya
CATEGORIES:Educació artística
ATTACH;FMTTYPE=image/jpeg:https://gact2.gact.terrassa.cat/wp-content/uploads/2020/07/TOCA-TOCA_1-e1596025371250.jpg
ORGANIZER;CN="Casa de la M%C3%BAsica":MAILTO:activitats.cmt@gmail.com
END:VEVENT
END:VCALENDAR