BEGIN:VCALENDAR
VERSION:2.0
PRODID:-//Guia d&#039;activitats (proves) - ECPv6.15.0.1//NONSGML v1.0//EN
CALSCALE:GREGORIAN
METHOD:PUBLISH
X-WR-CALNAME:Guia d&#039;activitats (proves)
X-ORIGINAL-URL:https://gact2.gact.terrassa.cat
X-WR-CALDESC:Esdeveniments per Guia d&#039;activitats (proves)
REFRESH-INTERVAL;VALUE=DURATION:PT1H
X-Robots-Tag:noindex
X-PUBLISHED-TTL:PT1H
BEGIN:VTIMEZONE
TZID:Europe/Madrid
BEGIN:DAYLIGHT
TZOFFSETFROM:+0100
TZOFFSETTO:+0200
TZNAME:CEST
DTSTART:20210328T010000
END:DAYLIGHT
BEGIN:STANDARD
TZOFFSETFROM:+0200
TZOFFSETTO:+0100
TZNAME:CET
DTSTART:20211031T010000
END:STANDARD
BEGIN:DAYLIGHT
TZOFFSETFROM:+0100
TZOFFSETTO:+0200
TZNAME:CEST
DTSTART:20220327T010000
END:DAYLIGHT
BEGIN:STANDARD
TZOFFSETFROM:+0200
TZOFFSETTO:+0100
TZNAME:CET
DTSTART:20221030T010000
END:STANDARD
END:VTIMEZONE
BEGIN:VEVENT
DTSTART;VALUE=DATE:20210910
DTEND;VALUE=DATE:20220618
DTSTAMP:20260421T003300
CREATED:20201005T085311Z
LAST-MODIFIED:20211118T125353Z
UID:1435-1631232000-1655510399@gact2.gact.terrassa.cat
SUMMARY:M'ensenyes? T'ensenyo?
DESCRIPTION:DESCRIPCIÓ\n\nNomés es podrà fer 1 taller al dia i per a un mateix centre i amb un màxim de 50 alumnes.\nEscoltarem el cant d’havaneres del grup Bona Mar. Viatjarem en el temps en barca i ens deixarem acaronar per unes històries i fets que les persones del Casal ens volen explicar tot transportant-nos en un món ja passat pels infants però encara molt viu per a ells i elles.\nJugarem a tennis taula i/o petanca amb les persones del Casal\, i en acabar farem una visita guiada per conèixer la resta d’activitats que es fan regularment al Casal de Gent Gran Anna Murià.
URL:https://gact2.gact.terrassa.cat/activitat/mensenyes-tensenyo/
LOCATION:Casal de Gent Gran Anna Murià\, Carrer de Sant Ildefons\, 8\, Terrassa\, Barcelona\, 08221\, Espanya
CATEGORIES:Educació en valors
ATTACH;FMTTYPE=image/jpeg:https://gact2.gact.terrassa.cat/wp-content/uploads/2020/10/IMG_20190101_1205201.jpg
ORGANIZER;CN="Casal Gent Gran Anna Muri%C3%A0":MAILTO:gentgran@terrassa.cat / carmen.blanco@terrassa.cat
END:VEVENT
END:VCALENDAR