BEGIN:VCALENDAR
VERSION:2.0
PRODID:-//Guia d&#039;activitats (proves) - ECPv6.15.0.1//NONSGML v1.0//EN
CALSCALE:GREGORIAN
METHOD:PUBLISH
X-WR-CALNAME:Guia d&#039;activitats (proves)
X-ORIGINAL-URL:https://gact2.gact.terrassa.cat
X-WR-CALDESC:Esdeveniments per Guia d&#039;activitats (proves)
REFRESH-INTERVAL;VALUE=DURATION:PT1H
X-Robots-Tag:noindex
X-PUBLISHED-TTL:PT1H
BEGIN:VTIMEZONE
TZID:Europe/Madrid
BEGIN:DAYLIGHT
TZOFFSETFROM:+0100
TZOFFSETTO:+0200
TZNAME:CEST
DTSTART:20210328T010000
END:DAYLIGHT
BEGIN:STANDARD
TZOFFSETFROM:+0200
TZOFFSETTO:+0100
TZNAME:CET
DTSTART:20211031T010000
END:STANDARD
BEGIN:DAYLIGHT
TZOFFSETFROM:+0100
TZOFFSETTO:+0200
TZNAME:CEST
DTSTART:20220327T010000
END:DAYLIGHT
BEGIN:STANDARD
TZOFFSETFROM:+0200
TZOFFSETTO:+0100
TZNAME:CET
DTSTART:20221030T010000
END:STANDARD
END:VTIMEZONE
BEGIN:VEVENT
DTSTART;VALUE=DATE:20210909
DTEND;VALUE=DATE:20220618
DTSTAMP:20260420T224201
CREATED:20201117T230036Z
LAST-MODIFIED:20210921T125030Z
UID:1434-1631145600-1655510399@gact2.gact.terrassa.cat
SUMMARY:La dentista\, la meva amiga
DESCRIPTION:DESCRIPCIÓ\n\n\nAquesta activitat es desenvolupa en dues parts:\n1 part:  una xerrada i classe pràctica sobre la tècnica del raspallat. Els dijous a les 10h\, la dentista us visita a l’escola \n2 part: Visita a la seu de la clínica dental on l’alumnat podrà veure in situ els espais de la recepció\, sala d’espera i els gabinets de treball propis de la dentista. Es repassaran els conceptes tractats a la visita de la dentista a l’escola. \nS’han de realitzar les dues parts de l’activitat. Cal fer la reserva per correu electrònic i deixar un telèfon de contacte.
URL:https://gact2.gact.terrassa.cat/activitat/la-dentista-la-meva-amiga/
LOCATION:Centre Educatiu\, Terrassa\, Barcelona\, Espanya
CATEGORIES:Educació per la salut
ATTACH;FMTTYPE=image/jpeg:https://gact2.gact.terrassa.cat/wp-content/uploads/2020/10/clinica_dental-180x180-1.jpg
ORGANIZER;CN="Centre Dental Les Escoles":MAILTO:comptabilitat@lesescoles.com
END:VEVENT
END:VCALENDAR