BEGIN:VCALENDAR
VERSION:2.0
PRODID:-//Guia d&#039;activitats (proves) - ECPv6.15.0.1//NONSGML v1.0//EN
CALSCALE:GREGORIAN
METHOD:PUBLISH
X-ORIGINAL-URL:https://gact2.gact.terrassa.cat
X-WR-CALDESC:Esdeveniments per Guia d&#039;activitats (proves)
REFRESH-INTERVAL;VALUE=DURATION:PT1H
X-Robots-Tag:noindex
X-PUBLISHED-TTL:PT1H
BEGIN:VTIMEZONE
TZID:Europe/Madrid
BEGIN:DAYLIGHT
TZOFFSETFROM:+0100
TZOFFSETTO:+0200
TZNAME:CEST
DTSTART:20210328T010000
END:DAYLIGHT
BEGIN:STANDARD
TZOFFSETFROM:+0200
TZOFFSETTO:+0100
TZNAME:CET
DTSTART:20211031T010000
END:STANDARD
BEGIN:DAYLIGHT
TZOFFSETFROM:+0100
TZOFFSETTO:+0200
TZNAME:CEST
DTSTART:20220327T010000
END:DAYLIGHT
BEGIN:STANDARD
TZOFFSETFROM:+0200
TZOFFSETTO:+0100
TZNAME:CET
DTSTART:20221030T010000
END:STANDARD
END:VTIMEZONE
BEGIN:VEVENT
DTSTART;TZID=Europe/Madrid:20210909T080000
DTEND;TZID=Europe/Madrid:20220617T170000
DTSTAMP:20260420T223847
CREATED:20210922T074327Z
LAST-MODIFIED:20210922T075118Z
UID:10221-1631174400-1655485200@gact2.gact.terrassa.cat
SUMMARY:Coneix els ratpenats
DESCRIPTION:DESCRIPCIÓ\n\nFer una descripció d’aquest grup d’animals mamífers voladors. Mostrar la importància dels ratpenats per la natura.\nPosar en valor els petits refugis d’aquests i altres animals que conviuen amb nosaltres.
URL:https://gact2.gact.terrassa.cat/activitat/coneix-els-ratpenats/
LOCATION:Centre Educatiu\, Terrassa\, Barcelona\, Espanya
ATTACH;FMTTYPE=image/jpeg:https://gact2.gact.terrassa.cat/wp-content/uploads/2021/09/img129-e1632296557959.jpg
ORGANIZER;CN="Centre Excursionista de Terrassa":MAILTO:direcciotecnica@ce-terrassa.cat
END:VEVENT
BEGIN:VEVENT
DTSTART;TZID=Europe/Madrid:20210909T080000
DTEND;TZID=Europe/Madrid:20220617T170000
DTSTAMP:20260420T223847
CREATED:20210922T073148Z
LAST-MODIFIED:20210922T075039Z
UID:10218-1631174400-1655485200@gact2.gact.terrassa.cat
SUMMARY:Els ocells de la plana del Vallès
DESCRIPTION:DESCRIPCIÓ\n\nFer la descoberta de la biodiversitat ens dóna informació per a poder explicar i exemplificar les relacions entre ecosistemes.\nEns fa participar d’un projecte de ciència ciutadana en que anem aplicant nous mètodes (apps de natura)\, per a classificar en nombres els animals i plantes.\nPodem després aplicar les dades per a remarcar la importància dels espais naturals.
URL:https://gact2.gact.terrassa.cat/activitat/els-ocells-de-la-plana-del-valles/
LOCATION:Anella Verda\, Anella Verda\, Terrassa\, Barcelona\, Espanya
ATTACH;FMTTYPE=image/jpeg:https://gact2.gact.terrassa.cat/wp-content/uploads/2021/09/img109.jpg
ORGANIZER;CN="Centre Excursionista de Terrassa":MAILTO:direcciotecnica@ce-terrassa.cat
END:VEVENT
BEGIN:VEVENT
DTSTART;VALUE=DATE:20210909
DTEND;VALUE=DATE:20220618
DTSTAMP:20260420T223847
CREATED:20210721T095937Z
LAST-MODIFIED:20210922T082754Z
UID:9704-1631145600-1655510399@gact2.gact.terrassa.cat
SUMMARY:Descoberta de l'espeleologia i excursió al cim del Montcau
DESCRIPTION:DESCRIPCIÓ\n\nDescoberta de l’espeleologia a la Cova Simanya i cim del Montcau.\nAnimeu-vos a descobrir el món subterrani\, sales\, galeries\, formacions\, estalactites… Una activitat adaptada a tots els nivells i orientada a la formació i el coneixement del medi natural.\nUs proposem aquesta magnífica activitat formativa orientada a la descoberta de l’espeleologia amb l’entrada i exploració de la cova Simanya combinada amb l’ascensió del cim del Montcau on gaudirem d’unes meravelloses vistes dels cims i formacions rocoses del Parc Natural de Sant Llorenç. Podràs conèixer de primera mà diferents temes geològics\, biològics\, hidrològics\, climàtics i arqueològic que amaga el Parc Natural. \n 
URL:https://gact2.gact.terrassa.cat/activitat/descoberta-de-lespeleologia-i-excursio-al-cim-del-montcau/
LOCATION:Parc Natural de Sant Llorenç del Munt i l’Obac\, Coll d'Estenalles\, Ctra. BV-1221 de Terrassa a Navarcles\, km 14\,8\, Terrassa\, Barcelona\, Espanya
CATEGORIES:Medi ambient i sostenibilitat
ATTACH;FMTTYPE=image/jpeg:https://gact2.gact.terrassa.cat/wp-content/uploads/2021/07/Espeleo-1.jpg
ORGANIZER;CN="Centre Excursionista de Terrassa":MAILTO:direcciotecnica@ce-terrassa.cat
END:VEVENT
END:VCALENDAR