BEGIN:VCALENDAR
VERSION:2.0
PRODID:-//Guia d&#039;activitats (proves) - ECPv6.15.0.1//NONSGML v1.0//EN
CALSCALE:GREGORIAN
METHOD:PUBLISH
X-WR-CALNAME:Guia d&#039;activitats (proves)
X-ORIGINAL-URL:https://gact2.gact.terrassa.cat
X-WR-CALDESC:Esdeveniments per Guia d&#039;activitats (proves)
REFRESH-INTERVAL;VALUE=DURATION:PT1H
X-Robots-Tag:noindex
X-PUBLISHED-TTL:PT1H
BEGIN:VTIMEZONE
TZID:Europe/Madrid
BEGIN:DAYLIGHT
TZOFFSETFROM:+0100
TZOFFSETTO:+0200
TZNAME:CEST
DTSTART:20210328T010000
END:DAYLIGHT
BEGIN:STANDARD
TZOFFSETFROM:+0200
TZOFFSETTO:+0100
TZNAME:CET
DTSTART:20211031T010000
END:STANDARD
BEGIN:DAYLIGHT
TZOFFSETFROM:+0100
TZOFFSETTO:+0200
TZNAME:CEST
DTSTART:20220327T010000
END:DAYLIGHT
BEGIN:STANDARD
TZOFFSETFROM:+0200
TZOFFSETTO:+0100
TZNAME:CET
DTSTART:20221030T010000
END:STANDARD
END:VTIMEZONE
BEGIN:VEVENT
DTSTART;VALUE=DATE:20210917
DTEND;VALUE=DATE:20220618
DTSTAMP:20260421T003349
CREATED:20201002T125726Z
LAST-MODIFIED:20211118T140628Z
UID:1580-1631836800-1655510399@gact2.gact.terrassa.cat
SUMMARY:El món rural
DESCRIPTION:DESCRIPCIÓ\n\nEls alumnes s’aproparan al coneixement del món rural tradicional mitjançant un itinerari per la vida a les masies i pel treball al camp. Amb la visita a la masia\, descobriran les tècniques constructives\, la distribució dels espais i les condicions de vida a pagès a través dels estris i mobiliaris quotidians. \nAl recorregut per l’hort\, prendran contacte directe amb les hortalisses de temporada\, n’identificaran les parts comestibles i acabaran recreant les tasques de manteniment de l’hort. \nEIXOS TRANSVERSALS DEL CURRICULUM \nEducació a favor del medi ambient \nRELACIONS AMB LES DISCIPLINES DEL CURRÍCULUM \nMedi Natural i Social:  coneixement i interacció amb el món físic\, social i ciutadana. \nEl lloc és accessible per a persones amb mobilitat reduïda\, excepte durant 15 minuts\, en què es puja al 1r pis. Els monitors poden ajudar a facilitar-hi l’accés. \n168 €/grup classe (amb descomptes d’un 15% per a clients del BBVA\, d’un 20% per a centres de màxima complexitat i d’un 7% per activitats realitzades al gener o febrer).
URL:https://gact2.gact.terrassa.cat/activitat/el-mon-rural/
LOCATION:Espai Natura Sabadell\, Carrer del Bosc s/n\, Sabadell\, Barcelona\, 08201\, Espanya
CATEGORIES:Medi ambient i sostenibilitat
ATTACH;FMTTYPE=image/png:https://gact2.gact.terrassa.cat/wp-content/uploads/2020/07/foto_logo_cimae-e1601643322583.png
ORGANIZER;CN="CIMAE%2C SCCL - Cooperativa d'Iniciatives Mediambientals i Educatives":MAILTO:cimae@cimae.coop
END:VEVENT
BEGIN:VEVENT
DTSTART;VALUE=DATE:20210913
DTEND;VALUE=DATE:20220623
DTSTAMP:20260421T003349
CREATED:20201116T230029Z
LAST-MODIFIED:20210922T100229Z
UID:1460-1631491200-1655942399@gact2.gact.terrassa.cat
SUMMARY:El paisatge\, de mar a muntanya
DESCRIPTION:DESCRIPCIÓ\n\nEls alumnes construiran diferents paisatges sobre el suport d’una maqueta per conèixer com és el conjunt del nostre territori i descobrir les interrelacions que s’estableixen entre els diferents elements que en formen part. \nD’aquesta manera\, simular un paisatge de costa\, amb els elements inerts (relleu\, hidrologia\, clima)\, els éssers vius (vegetació i fauna) i el tipus de poblament i l’activitat econòmica que el caracteritzen\, servirà de punt de partida per poder conèixer\, de manera sintètica\, com és un dels nostres paisatge i poder així\, pronosticar possibles evolucions d’aquests. \nATENCIÓ: S’ofereixen 40 tallers. Només se subvenciona un cicle i un curs per cicle. Els centres escolars d’una sola línia podran participar tot el cicle. Els centres escolars de més d’una línia hauran d’escollir quin dels dos cursos de cada cicle participarà de l’activitat.\nNombre màxim d’alumnat participant a cada sessió: 30 pax (1 grup classe)\nEl cost de l’activitat és: 1 grup 80 €\, 2 grups 125 € i 3 grups 180 €.\n 
URL:https://gact2.gact.terrassa.cat/activitat/el-paisatge-de-mar-a-muntanya/
LOCATION:Centre Educatiu\, Terrassa\, Barcelona\, Espanya
CATEGORIES:Medi ambient i sostenibilitat
ATTACH;FMTTYPE=image/png:https://gact2.gact.terrassa.cat/wp-content/uploads/2020/07/foto_logo_cimae-e1601643322583.png
ORGANIZER;CN="CIMAE%2C SCCL - Cooperativa d'Iniciatives Mediambientals i Educatives":MAILTO:cimae@cimae.coop
END:VEVENT
BEGIN:VEVENT
DTSTART;VALUE=DATE:20210913
DTEND;VALUE=DATE:20220623
DTSTAMP:20260421T003349
CREATED:20201029T141227Z
LAST-MODIFIED:20210715T075036Z
UID:1546-1631491200-1655942399@gact2.gact.terrassa.cat
SUMMARY:Els animals de la granja i l'hort
DESCRIPTION:DESCRIPCIÓ\n\nL’activitat consisteix en un itinerari guiat per la granja de la masia de Can Deu\, on hi ha exemplars de les 10 espècies típiques de les granges catalanes tradicionals: l’ase\, el cavall\, la vaca\, els porcs\, les gallines\, els ànecs\, l’oca\, les cabres\, les ovelles i els conills. Es pren contacte directe amb el bestiar\, els podran tocar i alimentar\, i se’n descobreix la seva biologia\, així com el seu aprofitament. \nPosteriorment\, de manera opcional\, es realitza un recorregut per l’hort per identificar les hortalisses i s’acaba fent les principals feines de manteniment: cavar\, adobar\, plantar i regar. \nhttps://www.youtube.com/watch?v=nG7RYmEc1MQ \nhttps://www.youtube.com/watch?v=t4DVu5jFtrM \nNombre màxim d’alumnat que pot participar: 3 grups/classe alhora.
URL:https://gact2.gact.terrassa.cat/activitat/els-animals-de-la-granja-i-lhort/
LOCATION:Espai Natura Sabadell\, Carrer del Bosc s/n\, Sabadell\, Barcelona\, 08201\, Espanya
CATEGORIES:Medi ambient i sostenibilitat
ATTACH;FMTTYPE=image/png:https://gact2.gact.terrassa.cat/wp-content/uploads/2020/07/foto_logo_cimae-e1601643322583.png
ORGANIZER;CN="CIMAE%2C SCCL - Cooperativa d'Iniciatives Mediambientals i Educatives":MAILTO:cimae@cimae.coop
END:VEVENT
END:VCALENDAR