BEGIN:VCALENDAR
VERSION:2.0
PRODID:-//Guia d&#039;activitats (proves) - ECPv6.15.0.1//NONSGML v1.0//EN
CALSCALE:GREGORIAN
METHOD:PUBLISH
X-ORIGINAL-URL:https://gact2.gact.terrassa.cat
X-WR-CALDESC:Esdeveniments per Guia d&#039;activitats (proves)
REFRESH-INTERVAL;VALUE=DURATION:PT1H
X-Robots-Tag:noindex
X-PUBLISHED-TTL:PT1H
BEGIN:VTIMEZONE
TZID:Europe/Madrid
BEGIN:DAYLIGHT
TZOFFSETFROM:+0100
TZOFFSETTO:+0200
TZNAME:CEST
DTSTART:20210328T010000
END:DAYLIGHT
BEGIN:STANDARD
TZOFFSETFROM:+0200
TZOFFSETTO:+0100
TZNAME:CET
DTSTART:20211031T010000
END:STANDARD
BEGIN:DAYLIGHT
TZOFFSETFROM:+0100
TZOFFSETTO:+0200
TZNAME:CEST
DTSTART:20220327T010000
END:DAYLIGHT
BEGIN:STANDARD
TZOFFSETFROM:+0200
TZOFFSETTO:+0100
TZNAME:CET
DTSTART:20221030T010000
END:STANDARD
END:VTIMEZONE
BEGIN:VEVENT
DTSTART;VALUE=DATE:20210909
DTEND;VALUE=DATE:20220601
DTSTAMP:20260421T001325
CREATED:20201112T230056Z
LAST-MODIFIED:20211028T075140Z
UID:1400-1631145600-1654041599@gact2.gact.terrassa.cat
SUMMARY:Coneix el Consell Comarcal del Vallès Occidental
DESCRIPTION:DESCRIPCIÓ\n\nOpció A: Visita a la seu del Consell Comarcal del Vallès Occidental. Rebuda a la porta del Consell Comarcal del Vallès Occidental. Acompanyament a la primera planta\, on es podrà veure un mapa relleu de la comarca i els aspectes geogràfics i poblacionals més destacats. Sessió explicativa d’una persona representant de la institució a la Sala de Plens del Consell Comarcal i una presentació sobre l’organització de la institució com a administració supramunicipal\, les seves competències\, el suport que ofereix als ajuntaments i els serveis que presta a la ciutadania. En finalitzar s’obre un torn de paraules. \nOpció B: Activitat realitzada a l’escola. Explicació de la comarca i de les seves característiques. Presentació sobre l’organització de la institució com a administració supramunicipal\, les seves competències\, el suport que ofereix als ajuntaments i els serveis que presta. \nPossibilitat de fer-ho mitjançant webinar (online) si fos necessari.
URL:https://gact2.gact.terrassa.cat/activitat/coneix-el-consell-comarcal-del-valles-occidental/
LOCATION:Consell Comarcal del Vallès Occidental\, Disseminat Mancomunitat\, 2\, Terrassa\, Barcelona\, 08227\, Espanya
CATEGORIES:Ciutat i territori
ATTACH;FMTTYPE=image/png:https://gact2.gact.terrassa.cat/wp-content/uploads/2020/09/foto_logo_ccvo-e1600343471973.png
ORGANIZER;CN="Consell Comarcal del Vall%C3%A8s Occidental":MAILTO:ccvoc@ccvoc.cat
END:VEVENT
BEGIN:VEVENT
DTSTART;VALUE=DATE:20210909
DTEND;VALUE=DATE:20220618
DTSTAMP:20260421T001326
CREATED:20201001T112546Z
LAST-MODIFIED:20211118T140744Z
UID:1421-1631145600-1655510399@gact2.gact.terrassa.cat
SUMMARY:Descobrir el Vallès Occidental
DESCRIPTION:DESCRIPCIÓ\n\nTallers participatius sobre els principals recursos i atractius turístics de la comarca: històrics\, artístics\, naturals i culturals. A partir d’històries i llegendes\, els nens i les nenes coneixeran alguns dels principals elements turístics de la nostra comarca. \nVeure reportatge de l’activitat:\nhttps://www.youtube.com/watch?v=_gefi9HIUtA&feature=youtu.be \n 
URL:https://gact2.gact.terrassa.cat/activitat/descobrir-el-valles-occidental/
LOCATION:Centre Educatiu\, Terrassa\, Barcelona\, Espanya
CATEGORIES:Medi ambient i sostenibilitat
ATTACH;FMTTYPE=image/png:https://gact2.gact.terrassa.cat/wp-content/uploads/2020/09/foto_logo_ccvo-e1600343471973.png
ORGANIZER;CN="Consell Comarcal del Vall%C3%A8s Occidental":MAILTO:ccvoc@ccvoc.cat
END:VEVENT
BEGIN:VEVENT
DTSTART;VALUE=DATE:20210112
DTEND;VALUE=DATE:20210605
DTSTAMP:20260421T001326
CREATED:20201112T230015Z
LAST-MODIFIED:20210614T131352Z
UID:1415-1610409600-1622851199@gact2.gact.terrassa.cat
SUMMARY:Visita a Mercavallès
DESCRIPTION:DESCRIPCIÓ\n\nVisita a Mercavallès\, mercat comarcal que ofereix una gran varietat de productes frescos i elaborats per proveir comerços minoristes\, empreses d’hostaleria\, restauració\, servei d’àpats i botigues d’alimentació especialitzades. \nXerrada sobre alimentació sana i saludable i sobre els productes alimentaris. \n 
URL:https://gact2.gact.terrassa.cat/activitat/visita-a-mercavalles/
LOCATION:Mercavallès\, Carretera nacional 150\, km 15\, Sabadell\, Barcelona\, 08227\, Espanya
CATEGORIES:Ciutat i territori
ATTACH;FMTTYPE=image/png:https://gact2.gact.terrassa.cat/wp-content/uploads/2020/09/foto_logo_ccvo-e1600343471973.png
ORGANIZER;CN="Consell Comarcal del Vall%C3%A8s Occidental":MAILTO:ccvoc@ccvoc.cat
END:VEVENT
END:VCALENDAR