BEGIN:VCALENDAR
VERSION:2.0
PRODID:-//Guia d&#039;activitats (proves) - ECPv6.15.0.1//NONSGML v1.0//EN
CALSCALE:GREGORIAN
METHOD:PUBLISH
X-ORIGINAL-URL:https://gact2.gact.terrassa.cat
X-WR-CALDESC:Esdeveniments per Guia d&#039;activitats (proves)
REFRESH-INTERVAL;VALUE=DURATION:PT1H
X-Robots-Tag:noindex
X-PUBLISHED-TTL:PT1H
BEGIN:VTIMEZONE
TZID:Europe/Madrid
BEGIN:DAYLIGHT
TZOFFSETFROM:+0100
TZOFFSETTO:+0200
TZNAME:CEST
DTSTART:20210328T010000
END:DAYLIGHT
BEGIN:STANDARD
TZOFFSETFROM:+0200
TZOFFSETTO:+0100
TZNAME:CET
DTSTART:20211031T010000
END:STANDARD
BEGIN:DAYLIGHT
TZOFFSETFROM:+0100
TZOFFSETTO:+0200
TZNAME:CEST
DTSTART:20220327T010000
END:DAYLIGHT
BEGIN:STANDARD
TZOFFSETFROM:+0200
TZOFFSETTO:+0100
TZNAME:CET
DTSTART:20221030T010000
END:STANDARD
END:VTIMEZONE
BEGIN:VEVENT
DTSTART;VALUE=DATE:20220510
DTEND;VALUE=DATE:20220511
DTSTAMP:20260421T023534
CREATED:20200922T152305Z
LAST-MODIFIED:20210730T083629Z
UID:3887-1652140800-1652227199@gact2.gact.terrassa.cat
SUMMARY:Vine al Catalunya: PELÉ: BIRTH OF A LEGEND (Pelé\, el naixement d'una llegenda)
DESCRIPTION:DESCRIPCIÓ\n\nVersió original en anglès subtitulada en castellà \nDirecció: Michael Zimbalist\, Jeff Zimbalist. Interpretació: Leonardo Lima Carvalho\, Kevin de Paula\, Vincent D’Onofrio\, Rodrigo Santoro. Gènere: drama\, biogràfic\, esportiu País: EUA\, Brasil. Any: 2016. Durada: 107 min. \nSinopsi: \nRodada íntegrament al Brasil\, el film explica l’emocionant i inspiradora història de Pelé\, un noi que vivia en una favela i que va ser capaç de superar la seva precària existència fins a convertir-se en el somni i l’esperança de tot un país quan el 1958 va liderar l’equip brasiler a la Copa del Món de Futbol. La pel·lícula ha comptat amb la participació del mateix Pelé\, que no ha dubtat a mostrar al món els més profunds records de la seva infància i els d’un Brasil ple de problemes racials i de misèria. El seu treball\, esperit de superació i aquesta forma tan especial de jugar (la Jinga) van unir aquell grup de jugadors i tot el seu país d’una manera inoblidable. \nTRÀILER: https://youtu.be/XBrfxHOXsDE \nInscripcions:\n• Les inscripcions a les projeccions de “VINE AL CATALUNYA” es poden fer al llarg de tot el curs (sense una data límit) omplint i enviant el formulari següent: http://www.cinemaperaestudiants.cat/cat/cicle-de-cinema/inscripcions/\n• Si el nombre d’inscripcions supera la capacitat de la sala per a la hora i data inicialment programades\, s’organitzaran altres sessions en horaris i/o dates diferents. Un cop sapiguem el número final d’inscrits\, us informaríem del dia i horari de la vostra sessió. \nSubvenció de l’activitat:\n• El Servei d’Educació subvenciona una pel·lícula per cicle a cada centre d’entre totes les que formen part del programa de cinema “Vine al Catalunya”.\n• L’import subvencionat és d’ 1\,50€ per alumne/pel·lícula. El preu per als centres amb subvenció és de 3€/per alumne/pel·lícula. El preu sense subvenció és de 4.50€/alumne/pel·lícula.\n• Les places subvencionades són limitades i per a la subvenció de l’activitat només es tindran en compte les inscripcions rebudes els dies que indiqui el Servei que romandrà oberta la Guia d’Activitats Educatives.\n• Un cop finalitzat aquest termini es valoraran les inscripcions rebudes i s’enviarà a cada centre una notificació amb els grups i número d’alumnat subvencionat.
URL:https://gact2.gact.terrassa.cat/activitat/vine-al-catalunya-mia-and-the-white-lion-mia-i-el-lleo-blanc/
LOCATION:Cinema Catalunya\, Carrer Sant Pere\, 9\, Terrassa\, Barcelona\, 08221\, Espanya
CATEGORIES:Educació artística
ATTACH;FMTTYPE=image/jpeg:https://gact2.gact.terrassa.cat/wp-content/uploads/2020/09/PeleANG.jpg
ORGANIZER;CN="Servei d'Educaci%C3%B3":MAILTO:promocio.educativa@terrassa.cat
END:VEVENT
BEGIN:VEVENT
DTSTART;VALUE=DATE:20220426
DTEND;VALUE=DATE:20220427
DTSTAMP:20260421T023534
CREATED:20210730T094754Z
LAST-MODIFIED:20210730T094754Z
UID:9886-1650931200-1651017599@gact2.gact.terrassa.cat
SUMMARY:Vine al Catalunya: BLINKY BILL\, EL COALA (Blinky Bill the Movie)
DESCRIPTION:DESCRIPCIÓ\n\nVersió doblada al català.  \nDirecció: Deane Taylor\, Noel Cleary. Guió: Fin Edquist\, basat en els contes de Dorothy Wall. Producció: Barbara Stephan. Gènere: animació\, aventures\, fantàstic. País: Austràlia\, EUA. Any: 2015. Durada: 87 min. \nSinopsi: \nBasat en els contes de Dorothy Wall. El Blinky Bill és un coala amb una gran imaginació que somia a deixar la petita ciutat de Green Patch i seguir els passos del seu pare\, un gran explorador que va desaparèixer fa un temps. El Blinky és l’únic que creu que segueix amb vida\, per això quan descobreix una nova pista sobre el seu parador decideix embarcar-se en una gran aventura que el portarà més enllà de les fronteres de Green Patch. Aviat coneixerà la Nutsy\, una coala del zoo\, i el Jacko\, un llangardaix molt especial i d’allò més nerviós. Perseguits per un gat venjatiu que els té mania\, els tres hauran d’aprendre a treballar junts si volen sobreviure a l’Austràlia més salvatge i trobar el pare del Blinky. \nTRÀILER: https://youtu.be/ikMdpVaGPrs \nInscripcions:\n• Les inscripcions a les projeccions de “VINE AL CATALUNYA” es poden fer al llarg de tot el curs (sense una data límit) omplint i enviant el formulari següent: http://www.cinemaperaestudiants.cat/cat/cicle-de-cinema/inscripcions/\n• Si el nombre d’inscripcions supera la capacitat de la sala per a la hora i data inicialment programades\, s’organitzaran altres sessions en horaris i/o dates diferents. Un cop sapiguem el número final d’inscrits\, us informaríem del dia i horari de la vostra sessió. \nSubvenció de l’activitat:\n• El Servei d’Educació subvenciona una pel·lícula per cicle a cada centre d’entre totes les que formen part del programa de cinema “Vine al Catalunya”.\n• L’import subvencionat és d’ 1\,50€ per alumne/pel·lícula. El preu per als centres amb subvenció és de 3€/per alumne/pel·lícula. El preu sense subvenció és de 4.50€/alumne/pel·lícula.\n• Les places subvencionades són limitades i per a la subvenció de l’activitat només es tindran en compte les inscripcions rebudes els dies que indiqui el Servei que romandrà oberta la Guia d’Activitats Educatives.\n• Un cop finalitzat aquest termini es valoraran les inscripcions rebudes i s’enviarà a cada centre una notificació amb els grups i número d’alumnat subvencionat.
URL:https://gact2.gact.terrassa.cat/activitat/vine-al-catalunya-blinky-bill-el-coala-blinky-bill-the-movie/
LOCATION:Cinema Catalunya\, Carrer Sant Pere\, 9\, Terrassa\, Barcelona\, 08221\, Espanya
ATTACH;FMTTYPE=image/jpeg:https://gact2.gact.terrassa.cat/wp-content/uploads/2021/07/blinky_bill_el_koala-cartel.jpg
ORGANIZER;CN="Servei d'Educaci%C3%B3":MAILTO:promocio.educativa@terrassa.cat
END:VEVENT
BEGIN:VEVENT
DTSTART;VALUE=DATE:20220324
DTEND;VALUE=DATE:20220325
DTSTAMP:20260421T023534
CREATED:20200922T150407Z
LAST-MODIFIED:20210730T091924Z
UID:3866-1648080000-1648166399@gact2.gact.terrassa.cat
SUMMARY:Vine al Catalunya: WHAT WE DID ON OUR HOLIDAY (El nostre últim estiu a Escòcia)
DESCRIPTION:DESCRIPCIÓ\n\nVersió original en anglès subtitulada en castellà.  \nDirecció i guió: Andy Hamilton i Guy Jenkin. Interpretació: D. Tennant\, R. Pike\, B. Connolly\, B. Miller\, C. Imrie\, E. Jones. Gènere: comèdia dramàtica. País: Regne Unit. Any: 2014. Durada: 95 min \nSinopsi: \nEn Doug i l’Abi són dos pares normals que tenen tres fills encantadors encara que molt excèntrics. Quan l’estrès de ser pares posa en perill la seva estabilitat mental\, decideixen realitzar un viatge a Escòcia i participar en una gran reunió familiar. Allà es retrobaran amb l’extravagant pare d’en Doug. \nInscripcions:\n• Les inscripcions a les projeccions de “VINE AL CATALUNYA” es poden fer al llarg de tot el curs (sense una data límit) omplint i enviant el formulari següent: http://www.cinemaperaestudiants.cat/cat/cicle-de-cinema/inscripcions/\n• Si el nombre d’inscripcions supera la capacitat de la sala per a la hora i data inicialment programades\, s’organitzaran altres sessions en horaris i/o dates diferents. Un cop sapiguem el número final d’inscrits\, us informaríem del dia i horari de la vostra sessió. \nTRÀILER: https://youtu.be/GSRE6bkvGwM  \nSubvenció de l’activitat:\n• El Servei d’Educació subvenciona una pel·lícula per cicle a cada centre d’entre totes les que formen part del programa de cinema “Vine al Catalunya”.\n• L’import subvencionat és d’ 1\,50€ per alumne/pel·lícula. El preu per als centres amb subvenció és de 3€/per alumne/pel·lícula. El preu sense subvenció és de 4.50€/alumne/pel·lícula.\n• Les places subvencionades són limitades i per a la subvenció de l’activitat només es tindran en compte les inscripcions rebudes els dies que indiqui el Servei que romandrà oberta la Guia d’Activitats Educatives.\n• Un cop finalitzat aquest termini es valoraran les inscripcions rebudes i s’enviarà a cada centre una notificació amb els grups i número d’alumnat subvencionat.
URL:https://gact2.gact.terrassa.cat/activitat/vine-al-catalunya-suffragette-sufragistes/
LOCATION:Cinema Catalunya\, Carrer Sant Pere\, 9\, Terrassa\, Barcelona\, 08221\, Espanya
CATEGORIES:Educació artística
ATTACH;FMTTYPE=image/jpeg:https://gact2.gact.terrassa.cat/wp-content/uploads/2020/09/Imagen3.jpg
ORGANIZER;CN="Servei d'Educaci%C3%B3":MAILTO:promocio.educativa@terrassa.cat
END:VEVENT
BEGIN:VEVENT
DTSTART;VALUE=DATE:20220301
DTEND;VALUE=DATE:20220302
DTSTAMP:20260421T023534
CREATED:20200922T151127Z
LAST-MODIFIED:20210730T091508Z
UID:3869-1646092800-1646179199@gact2.gact.terrassa.cat
SUMMARY:Vine al Catalunya: EN SOLITAIRE (En solitari)
DESCRIPTION:DESCRIPCIÓ\n\nVersió original en francès subtitulada en català.  \nDirecció: Christophe Offenstein. Països: França i Espanya. Any: 2013. Durada: 96 min. Gènere: drama. Interpretació: François Cluzet\, Samy Seghir\, Virginie Efira\, Guillaume Canet\, José Coronado\, Arly Jover. Guió: Jean Cottin i Christophe Offenstein\, basat en un argument de Fréderic Petit Jean. Producció: Jean Cottin\, Sidonie Dumas i Laurent Taïeb. Música: Víctor Reyes\, amb la col·laboració de Patrice Renson. Fotografia: Guillaume Schiffman. Muntatge: Véronique Lange. Direcció artística: Olivier Radot i Thierry Chavenon. Vestuari: Muriel Legrand. \nSinopsi: \nEn Yann aconsegueix fer realitat el seu somni quan participa inesperadament a la Vendée Globe\, la volta al món a vela en solitari i sense escales. Després de diversos dies de competició\, en Yann descobreix a bord un jove polissó que fuig de l’Àfrica per trobar una vida millor a Europa. Davant del risc de ser desqualificat\, decideix amagar el noi i per aquest motiu el viatge es convertirà en una aventura inoblidable. \nInscripcions:\n• Les inscripcions a les projeccions de “VINE AL CATALUNYA” es poden fer al llarg de tot el curs (sense una data límit) omplint i enviant el formulari següent: http://www.cinemaperaestudiants.cat/cat/cicle-de-cinema/inscripcions/\n• Si el nombre d’inscripcions supera la capacitat de la sala per a la hora i data inicialment programades\, s’organitzaran altres sessions en horaris i/o dates diferents. Un cop sapiguem el número final d’inscrits\, us informaríem del dia i horari de la vostra sessió. \nTRÀILER: https://youtu.be/mLG-fssRDio  \nSubvenció de l’activitat:\n• El Servei d’Educació subvenciona una pel·lícula per cicle a cada centre d’entre totes les que formen part del programa de cinema “Vine al Catalunya”.\n• L’import subvencionat és d’ 1\,50€ per alumne/pel·lícula. El preu per als centres amb subvenció és de 3€/per alumne/pel·lícula. El preu sense subvenció és de 4.50€/alumne/pel·lícula.\n• Les places subvencionades són limitades i per a la subvenció de l’activitat només es tindran en compte les inscripcions rebudes els dies que indiqui el Servei que romandrà oberta la Guia d’Activitats Educatives.\n• Un cop finalitzat aquest termini es valoraran les inscripcions rebudes i s’enviarà a cada centre una notificació amb els grups i número d’alumnat subvencionat.
URL:https://gact2.gact.terrassa.cat/activitat/vine-al-catalunya-les-grands-esprits-el-bon-mestre/
LOCATION:Cinema Catalunya\, Carrer Sant Pere\, 9\, Terrassa\, Barcelona\, 08221\, Espanya
CATEGORIES:Educació artística
ATTACH;FMTTYPE=image/jpeg:https://gact2.gact.terrassa.cat/wp-content/uploads/2020/09/EnSolitaire-FR.jpg
END:VEVENT
BEGIN:VEVENT
DTSTART;VALUE=DATE:20220215
DTEND;VALUE=DATE:20220216
DTSTAMP:20260421T023534
CREATED:20201117T085940Z
LAST-MODIFIED:20220204T120352Z
UID:6724-1644883200-1644969599@gact2.gact.terrassa.cat
SUMMARY:Vine al Catalunya: LES AVENTURES DELS CINC
DESCRIPTION:DESCRIPCIÓ\n\nVersió doblada al català\nDirecció: Mike Marzuk Interpretació: Valeria Eisenbart\, Quirin Oettl\, Justus Schlingensiepen\, Neele-Marie Nickel Gènere: aventures\, comèdia País: Alemanya Any: 2012 Durada: 93 min \nSinopsi: \nAquesta pel·lícula és l’adaptació del primer llibre de la sèrie “Els Cinc”\, d’Enid Blyton\, que narra com es coneixen els cinc protagonistes durant unes vacances d’estiu i com es veuen embolicats en una perillosa intriga internacional en què diversos bàndols lluiten per aconseguir una nova font d’energia que ha descobert l’Oncle Quentin (pare del George i oncle del Julian\, el Dick i l’Anne)\, el qual fins i tot arriben a segrestar. Però cap dels dolents compta amb la irrupció en escena dels qui\, a partir d’aquest moment\, passaran a ser coneguts com Els Cinc. \nNivells: cicles mitjà i superior de primària / 1r i 2n d’ESO \nÀrees: llengua catalana i literatura / coneixement del medi natural\, social i cultural / educació per al desenvolupament personal i la ciutadania / ciències de la naturalesa / ciències socials\, geografia i història / educació per a la ciutadania i els drets humans / literatura universal \nTemes: educació en valors / adaptació cinematogràfica d’obra literària / món animal i animals de companyia / família · relacions familiars \nTRÀILER: https://youtu.be/xckJh-S4k9o \nInscripcions:\n• Les inscripcions a les projeccions de “VINE AL CATALUNYA” es poden fer al llarg de tot el curs (sense una data límit) omplint i enviant el formulari següent: http://www.cinemaperaestudiants.cat/cat/cicle-de-cinema/inscripcions/\n• Si el nombre d’inscripcions supera la capacitat de la sala per a la hora i data inicialment programades\, s’organitzaran altres sessions en horaris i/o dates diferents. Un cop sapiguem el número final d’inscrits\, us informaríem del dia i horari de la vostra sessió. \nSubvenció de l’activitat:\n• El Servei d’Educació subvenciona una pel·lícula per cicle a cada centre d’entre totes les que formen part del programa de cinema “Vine al Catalunya”.\n• L’import subvencionat és d’ 1\,50€ per alumne/pel·lícula. El preu per als centres amb subvenció és de 3€/per alumne/pel·lícula. El preu sense subvenció és de 4.50€/alumne/pel·lícula.\n• Les places subvencionades són limitades i per a la subvenció de l’activitat només es tindran en compte les inscripcions rebudes els dies que indiqui el Servei que romandrà oberta la Guia d’Activitats Educatives.\n• Un cop finalitzat aquest termini es valoraran les inscripcions rebudes i s’enviarà a cada centre una notificació amb els grups i número d’alumnat subvencionat.
URL:https://gact2.gact.terrassa.cat/activitat/vine-al-catalunya-lesaventuresdelscinc/
LOCATION:Cinema Catalunya\, Carrer Sant Pere\, 9\, Terrassa\, Barcelona\, 08221\, Espanya
CATEGORIES:Educació artística
ATTACH;FMTTYPE=image/jpeg:https://gact2.gact.terrassa.cat/wp-content/uploads/2020/11/las-aventuras-de-los-cinco.jpg
END:VEVENT
BEGIN:VEVENT
DTSTART;VALUE=DATE:20220201
DTEND;VALUE=DATE:20220202
DTSTAMP:20260421T023534
CREATED:20200922T112107Z
LAST-MODIFIED:20210730T092841Z
UID:3851-1643673600-1643759999@gact2.gact.terrassa.cat
SUMMARY:Vine al Catalunya: SILVER LININGS PLAYBOOK (El costat bo de les coses)
DESCRIPTION:DESCRIPCIÓ\n\nVersió original en anglès subtitulada en castellà\nDirecció: David O. Russell.  Interpretació: Bradley Cooper\, Jennifer Lawrence\, Robert De Niro\, Jacki Weaver\,  Guió: David O. Russell; basat en la novel·la de Matthew Quick. Gènere: comèdia dramática País: EUA. Any: 2012. Durada: 122 min. \nSinopsi: \nBasada en una novel·la de Matthew Quick. Després de passar vuit mesos en un centre de salut mental per agredir l’amant de la seva dona\, Pat torna a casa dels seus pares. Encara que està decidit a fer tot el possible per recuperar la seva exdona\, la situació canvia quan coneix Tiffany\, una noia amb problemes i mala reputació. \nTRÀILER: https://youtu.be/p4DZ4wiRwNc  \nInscripcions:\n• Les inscripcions a les projeccions de “VINE AL CATALUNYA” es poden fer al llarg de tot el curs (sense una data límit) omplint i enviant el formulari següent: http://www.cinemaperaestudiants.cat/cat/cicle-de-cinema/inscripcions/\n• Si el nombre d’inscripcions supera la capacitat de la sala per a la hora i data inicialment programades\, s’organitzaran altres sessions en horaris i/o dates diferents. Un cop sapiguem el número final d’inscrits\, us informaríem del dia i horari de la vostra sessió. \nSubvenció de l’activitat:\n• El Servei d’Educació subvenciona una pel·lícula per cicle a cada centre d’entre totes les que formen part del programa de cinema “Vine al Catalunya”.\n• L’import subvencionat és d’ 1\,50€ per alumne/pel·lícula. El preu per als centres amb subvenció és de 3€/per alumne/pel·lícula. El preu sense subvenció és de 4.50€/alumne/pel·lícula.\n• Les places subvencionades són limitades i per a la subvenció de l’activitat només es tindran en compte les inscripcions rebudes els dies que indiqui el Servei que romandrà oberta la Guia d’Activitats Educatives.\n• Un cop finalitzat aquest termini es valoraran les inscripcions rebudes i s’enviarà a cada centre una notificació amb els grups i número d’alumnat subvencionat.
URL:https://gact2.gact.terrassa.cat/activitat/vine-al-catalunya-the-walk-el-desafiament/
LOCATION:Cinema Catalunya\, Carrer Sant Pere\, 9\, Terrassa\, Barcelona\, 08221\, Espanya
CATEGORIES:Educació artística
ATTACH;FMTTYPE=image/jpeg:https://gact2.gact.terrassa.cat/wp-content/uploads/2020/09/SilverLining.jpg
ORGANIZER;CN="Servei d'Educaci%C3%B3":MAILTO:promocio.educativa@terrassa.cat
END:VEVENT
BEGIN:VEVENT
DTSTART;VALUE=DATE:20211209
DTEND;VALUE=DATE:20211210
DTSTAMP:20260421T023534
CREATED:20200922T151609Z
LAST-MODIFIED:20210730T085615Z
UID:3881-1639008000-1639094399@gact2.gact.terrassa.cat
SUMMARY:Vine al Catalunya: LA FAMILLE BÉLIER (La família Belier)
DESCRIPTION:DESCRIPCIÓ\n\nVersió original en francès subtitulada en castellà \nDirecció: Eric Lartigau. Interpretació: Louane Emera\, Karin Viard\, François Damiens\, Luca Gelberg. Gènere: comèdia dramàtica. Països: França i Bèlgica. Any: 2014. Durada: 105 min. \nSinopsi: \nEn la peculiar família Bélier\, tots són sords menys la Paula\, que té 16 anys. Ella és indispensable per als seus pares en el dia a dia. Animada pel seu professor de música\, la noia decideix preparar la prova per a un concurs de ràdio. Aquesta elecció que pot significar allunyar-se de la seva família i un pas inevitable cap a l’edat adulta. \nTRÀILER : https://youtu.be/y36W7P1FxJI \nInscripcions:\n• Les inscripcions a les projeccions de “VINE AL CATALUNYA” es poden fer al llarg de tot el curs (sense una data límit) omplint i enviant el formulari següent: http://www.cinemaperaestudiants.cat/cat/cicle-de-cinema/inscripcions/\n• Si el nombre d’inscripcions supera la capacitat de la sala per a la hora i data inicialment programades\, s’organitzaran altres sessions en horaris i/o dates diferents. Un cop sapiguem el número final d’inscrits\, us informaríem del dia i horari de la vostra sessió. \nSubvenció de l’activitat:\n• El Servei d’Educació subvenciona una pel·lícula per cicle a cada centre d’entre totes les que formen part del programa de cinema “Vine al Catalunya”.\n• L’import subvencionat és d’ 1\,50€ per alumne/pel·lícula. El preu per als centres amb subvenció és de 3€/per alumne/pel·lícula. El preu sense subvenció és de 4.50€/alumne/pel·lícula.\n• Les places subvencionades són limitades i per a la subvenció de l’activitat només es tindran en compte les inscripcions rebudes els dies que indiqui el Servei que romandrà oberta la Guia d’Activitats Educatives.\n• Un cop finalitzat aquest termini es valoraran les inscripcions rebudes i s’enviarà a cada centre una notificació amb els grups i número d’alumnat subvencionat.
URL:https://gact2.gact.terrassa.cat/activitat/vine-al-catalunya-zog-dracs-i-heroines-15-04-2021/
LOCATION:Cinema Catalunya\, Carrer Sant Pere\, 9\, Terrassa\, Barcelona\, 08221\, Espanya
CATEGORIES:Educació artística
ATTACH;FMTTYPE=image/jpeg:https://gact2.gact.terrassa.cat/wp-content/uploads/2020/09/Belier-FR.jpg
END:VEVENT
BEGIN:VEVENT
DTSTART;VALUE=DATE:20211116
DTEND;VALUE=DATE:20211117
DTSTAMP:20260421T023534
CREATED:20210730T095115Z
LAST-MODIFIED:20210730T095115Z
UID:9885-1637020800-1637107199@gact2.gact.terrassa.cat
SUMMARY:Vine al Catalunya: EL FILL DE BIGFOOT (The son of Bigfoot)
DESCRIPTION:DESCRIPCIÓ\n\nVersió doblada al català\nDirecció: Jeremy Degruson\, Ben Stassen. Guió: Bob Barlen. Gènere: animació\, fantàstic. Països: Bèlgica\, França i EUA. Any: 2017. Durada: 92 min. \nSinopsi: \nL’Adam\, un noi estrany de 13 anys\, s’embarca en una aventura per descobrir el misteri de la desaparició del seu pare. Aviat esbrina que el pare és el llegendari Bigfoot i que viu amagat al bosc per protegir-se i protegir la família de HairCo\, una gran companyia que vol obtenir mostres dels seus cabells per experimentar amb l’ADN. Quan pare i fill es troben\, el noi comprova que ell també està dotat de poders que mai hauria imaginat. Però HairCo està a punt d’atrapar-los a causa de les empremtes que l’Adam ha anat deixant. \nTRÀILER: https://youtu.be/xGoht22phPM \nInscripcions:\n• Les inscripcions a les projeccions de “VINE AL CATALUNYA” es poden fer al llarg de tot el curs (sense una data límit) omplint i enviant el formulari següent: http://www.cinemaperaestudiants.cat/cat/cicle-de-cinema/inscripcions/\n• Si el nombre d’inscripcions supera la capacitat de la sala per a la hora i data inicialment programades\, s’organitzaran altres sessions en horaris i/o dates diferents. Un cop sapiguem el número final d’inscrits\, us informaríem del dia i horari de la vostra sessió. \nSubvenció de l’activitat:\n• El Servei d’Educació subvenciona una pel·lícula per cicle a cada centre d’entre totes les que formen part del programa de cinema “Vine al Catalunya”.\n• L’import subvencionat és d’ 1\,50€ per alumne/pel·lícula. El preu per als centres amb subvenció és de 3€/per alumne/pel·lícula. El preu sense subvenció és de 4.50€/alumne/pel·lícula.\n• Les places subvencionades són limitades i per a la subvenció de l’activitat només es tindran en compte les inscripcions rebudes els dies que indiqui el Servei que romandrà oberta la Guia d’Activitats Educatives.\n• Un cop finalitzat aquest termini es valoraran les inscripcions rebudes i s’enviarà a cada centre una notificació amb els grups i número d’alumnat subvencionat.
URL:https://gact2.gact.terrassa.cat/activitat/vine-al-catalunya-el-fill-de-bigfoot-the-son-of-bigfoot/
LOCATION:Cinema Catalunya\, Carrer Sant Pere\, 9\, Terrassa\, Barcelona\, 08221\, Espanya
ATTACH;FMTTYPE=image/jpeg:https://gact2.gact.terrassa.cat/wp-content/uploads/2021/07/Bigfoot.jpg
ORGANIZER;CN="Servei d'Educaci%C3%B3":MAILTO:promocio.educativa@terrassa.cat
END:VEVENT
BEGIN:VEVENT
DTSTART;VALUE=DATE:20211029
DTEND;VALUE=DATE:20211030
DTSTAMP:20260421T023534
CREATED:20200922T145522Z
LAST-MODIFIED:20210730T092527Z
UID:3863-1635465600-1635551999@gact2.gact.terrassa.cat
SUMMARY:Vine al Catalunya: THE WALK (El desafiament)
DESCRIPTION:DESCRIPCIÓ\n\nVersió original en anglès subtitulada en català.  \nDirecció: Robert Zemeckis. Interpretació: J. Gordon-Levitt\, Ben Kingsley\, Charlotte Le Bon\, Guió: R. Zemeckis i C. Browne; basat en el llibre de Philippe Petit. Gènere: Drama. País: EUA. Any: 2015. Durada: 123 min. \nSinopsi: \nPel·lícula basada en les memòries escrites per Philippe Petit\, un funàmbul francès que el 1974\, es va proposar un repte mai abans realitzat: recórrer sobre un cable l’espai que separava les Torres Bessones de Nova York\, encara en construcció. \nTRÀILER: https://youtu.be/xJU-tGTXeiQ  \nInscripcions:\n• Les inscripcions a les projeccions de “VINE AL CATALUNYA” es poden fer al llarg de tot el curs (sense una data límit) omplint i enviant el formulari següent: http://www.cinemaperaestudiants.cat/cat/cicle-de-cinema/inscripcions/\n• Si el nombre d’inscripcions supera la capacitat de la sala per a la hora i data inicialment programades\, s’organitzaran altres sessions en horaris i/o dates diferents. Un cop sapiguem el número final d’inscrits\, us informaríem del dia i horari de la vostra sessió. \nSubvenció de l’activitat:\n• El Servei d’Educació subvenciona una pel·lícula per cicle a cada centre d’entre totes les que formen part del programa de cinema “Vine al Catalunya”.\n• L’import subvencionat és d’ 1\,50€ per alumne/pel·lícula. El preu per als centres amb subvenció és de 3€/per alumne/pel·lícula. El preu sense subvenció és de 4.50€/alumne/pel·lícula.\n• Les places subvencionades són limitades i per a la subvenció de l’activitat només es tindran en compte les inscripcions rebudes els dies que indiqui el Servei que romandrà oberta la Guia d’Activitats Educatives.\n• Un cop finalitzat aquest termini es valoraran les inscripcions rebudes i s’enviarà a cada centre una notificació amb els grups i número d’alumnat subvencionat.
URL:https://gact2.gact.terrassa.cat/activitat/vine-al-catalunya-la-vida-den-carbasso/
LOCATION:Cinema Catalunya\, Carrer Sant Pere\, 9\, Terrassa\, Barcelona\, 08221\, Espanya
CATEGORIES:Educació artística
ATTACH;FMTTYPE=image/jpeg:https://gact2.gact.terrassa.cat/wp-content/uploads/2020/09/The-Walk.jpg
ORGANIZER;CN="Servei d'Educaci%C3%B3":MAILTO:promocio.educativa@terrassa.cat
END:VEVENT
END:VCALENDAR