BEGIN:VCALENDAR
VERSION:2.0
PRODID:-//Guia d&#039;activitats (proves) - ECPv6.15.0.1//NONSGML v1.0//EN
CALSCALE:GREGORIAN
METHOD:PUBLISH
X-WR-CALNAME:Guia d&#039;activitats (proves)
X-ORIGINAL-URL:https://gact2.gact.terrassa.cat
X-WR-CALDESC:Esdeveniments per Guia d&#039;activitats (proves)
REFRESH-INTERVAL;VALUE=DURATION:PT1H
X-Robots-Tag:noindex
X-PUBLISHED-TTL:PT1H
BEGIN:VTIMEZONE
TZID:Europe/Madrid
BEGIN:DAYLIGHT
TZOFFSETFROM:+0100
TZOFFSETTO:+0200
TZNAME:CEST
DTSTART:20210328T010000
END:DAYLIGHT
BEGIN:STANDARD
TZOFFSETFROM:+0200
TZOFFSETTO:+0100
TZNAME:CET
DTSTART:20211031T010000
END:STANDARD
BEGIN:DAYLIGHT
TZOFFSETFROM:+0100
TZOFFSETTO:+0200
TZNAME:CEST
DTSTART:20220327T010000
END:DAYLIGHT
BEGIN:STANDARD
TZOFFSETFROM:+0200
TZOFFSETTO:+0100
TZNAME:CET
DTSTART:20221030T010000
END:STANDARD
END:VTIMEZONE
BEGIN:VEVENT
DTSTART;VALUE=DATE:20210927
DTEND;VALUE=DATE:20220618
DTSTAMP:20260420T224446
CREATED:20201026T095207Z
LAST-MODIFIED:20210927T080859Z
UID:5867-1632700800-1655510399@gact2.gact.terrassa.cat
SUMMARY:I si fos terapèuta ocupacional?
DESCRIPTION:DESCRIPCIÓ\n\nA través d’una dinàmica i de manera molt vivencial i dinàmica l’alumnat es convertirà en terapeutes ocupacionals i descobrirà aquesta apassionant professió\, cabdal en el món de la salut\, de l’educació i en la societat.
URL:https://gact2.gact.terrassa.cat/activitat/i-si-fos-terapeuta-ocupacional/
LOCATION:Centre Educatiu\, Terrassa\, Barcelona\, Espanya
CATEGORIES:Orientació i emprenedoria
ATTACH;FMTTYPE=image/jpeg:https://gact2.gact.terrassa.cat/wp-content/uploads/2020/07/logo1-1.jpg
ORGANIZER;CN="Escola Universit%C3%A0ria d'Infermeria i Ter%C3%A0pia Ocupacional de Terrassa UAB-EUIT":MAILTO:manuelayerbes@euit.fdsll.cat
END:VEVENT
BEGIN:VEVENT
DTSTART;VALUE=DATE:20210111
DTEND;VALUE=DATE:20210601
DTSTAMP:20260420T224446
CREATED:20201016T112555Z
LAST-MODIFIED:20210616T113518Z
UID:1675-1610323200-1622505599@gact2.gact.terrassa.cat
SUMMARY:El DNI visual
DESCRIPTION:DESCRIPCIÓ\n\nA través de la visualització d’un DNI\,  fet per l’alumnat amb una cartolina\,  es realitza un role-playing\,  identificant una patologia en la persona i com aquesta pot dificultar l’acompliment ocupacional. Els estudiants incorporaran els diferents rols:\n. Professionals de teràpia ocupacional.\n. Persona afectada per la patologia.\nDesprés es realitzaran unes preguntes enfocades a conèixer les necessitats ocupacionals de la persona; segons el seu acompliment derivat de la patologia i un pla d’intervenció sobre com podrien abordar els objectius perquè la persona pugui ser capaç d’acomplir-los. \n 
URL:https://gact2.gact.terrassa.cat/activitat/el-dni-visual/
LOCATION:Centre Educatiu\, Terrassa\, Barcelona\, Espanya
CATEGORIES:Educació en valors
ATTACH;FMTTYPE=image/jpeg:https://gact2.gact.terrassa.cat/wp-content/uploads/2020/07/logo1.jpg
ORGANIZER;CN="Escola Universit%C3%A0ria d'Infermeria i Ter%C3%A0pia Ocupacional de Terrassa UAB-EUIT":MAILTO:manuelayerbes@euit.fdsll.cat
END:VEVENT
END:VCALENDAR