BEGIN:VCALENDAR
VERSION:2.0
PRODID:-//Guia d&#039;activitats (proves) - ECPv6.15.0.1//NONSGML v1.0//EN
CALSCALE:GREGORIAN
METHOD:PUBLISH
X-ORIGINAL-URL:https://gact2.gact.terrassa.cat
X-WR-CALDESC:Esdeveniments per Guia d&#039;activitats (proves)
REFRESH-INTERVAL;VALUE=DURATION:PT1H
X-Robots-Tag:noindex
X-PUBLISHED-TTL:PT1H
BEGIN:VTIMEZONE
TZID:Europe/Madrid
BEGIN:DAYLIGHT
TZOFFSETFROM:+0100
TZOFFSETTO:+0200
TZNAME:CEST
DTSTART:20210328T010000
END:DAYLIGHT
BEGIN:STANDARD
TZOFFSETFROM:+0200
TZOFFSETTO:+0100
TZNAME:CET
DTSTART:20211031T010000
END:STANDARD
END:VTIMEZONE
BEGIN:VEVENT
DTSTART;VALUE=DATE:20210111
DTEND;VALUE=DATE:20210601
DTSTAMP:20260421T040430
CREATED:20201026T132130Z
LAST-MODIFIED:20201217T102419Z
UID:1720-1610323200-1622505599@gact2.gact.terrassa.cat
SUMMARY:Ajuda en l'elaboració de les pèrdues
DESCRIPTION:DESCRIPCIÓ\n\nSeminari guiat per un terapeuta de la Fundació per treballar junts i de manera solidària\, els seus processos de pèrdua i/o dol. (en cas de necessitar-ho l’alumne es realitzaran també sessions individuals complementàries). Com a eines s’utilitzaran la paraula\, el diàleg\, la lectura\, el comentari de textos\, les lletres de cançons\, poesies\, pel·lícules etc. \nNombre màxim d’alumnat participant a cada sessió: 15 pax.
URL:https://gact2.gact.terrassa.cat/activitat/ajuda-en-lelaboracio-de-les-perdues/
LOCATION:Centre Educatiu\, Terrassa\, Barcelona\, Espanya
CATEGORIES:Educació per la salut
ATTACH;FMTTYPE=image/png:https://gact2.gact.terrassa.cat/wp-content/uploads/2020/07/logo-mans.png
ORGANIZER;CN="Fundaci%C3%B3 Acompanya Ca n'Eva":MAILTO:info@somcaneva.org
END:VEVENT
END:VCALENDAR