BEGIN:VCALENDAR
VERSION:2.0
PRODID:-//Guia d&#039;activitats (proves) - ECPv6.15.0.1//NONSGML v1.0//EN
CALSCALE:GREGORIAN
METHOD:PUBLISH
X-WR-CALNAME:Guia d&#039;activitats (proves)
X-ORIGINAL-URL:https://gact2.gact.terrassa.cat
X-WR-CALDESC:Esdeveniments per Guia d&#039;activitats (proves)
REFRESH-INTERVAL;VALUE=DURATION:PT1H
X-Robots-Tag:noindex
X-PUBLISHED-TTL:PT1H
BEGIN:VTIMEZONE
TZID:Europe/Madrid
BEGIN:DAYLIGHT
TZOFFSETFROM:+0100
TZOFFSETTO:+0200
TZNAME:CEST
DTSTART:20210328T010000
END:DAYLIGHT
BEGIN:STANDARD
TZOFFSETFROM:+0200
TZOFFSETTO:+0100
TZNAME:CET
DTSTART:20211031T010000
END:STANDARD
BEGIN:DAYLIGHT
TZOFFSETFROM:+0100
TZOFFSETTO:+0200
TZNAME:CEST
DTSTART:20220327T010000
END:DAYLIGHT
BEGIN:STANDARD
TZOFFSETFROM:+0200
TZOFFSETTO:+0100
TZNAME:CET
DTSTART:20221030T010000
END:STANDARD
END:VTIMEZONE
BEGIN:VEVENT
DTSTART;TZID=Europe/Madrid:20210909T080000
DTEND;TZID=Europe/Madrid:20220617T170000
DTSTAMP:20260420T224028
CREATED:20210927T125210Z
LAST-MODIFIED:20210927T125210Z
UID:10311-1631174400-1655485200@gact2.gact.terrassa.cat
SUMMARY:La papallona reina: kit de cria i alliberament
DESCRIPTION:DESCRIPCIÓ\n\nArribem un dia a l’escola i tenim 3 nous companys a classe\, quina emoció! Viuen dins d’un refugi de fusta\, són de colors llampants i el més important\, es transformarán en papallones que haurem d’alliberar per ajudar al planeta! El taller consta d’un kit de cria reutilitzable\, d’un joc de la metamorfosi i d’una presentació en Power Point amb la que explicarem les característiques de les papallones\, el seu cicle biològic i la seva importància ecològica com a pol·linitzadors. Coneixerem més a fons la nostra espècie bandera\, la papallona reina\, i explicarem com hem de cuidar les erugues que donarem en custòdia a la classe. Per acabar\, realitzarem una manualitat relacionada amb les papallones. \nTant el refugi de fusta com el joc de la metamorfosi passen a ser propietat de l’escola. \nEl taller es pot repetir tantes vegades com es vulgui obtenint el recanvi de plantes i erugues.
URL:https://gact2.gact.terrassa.cat/activitat/la-papallona-reina-kit-de-cria-i-alliberament/
LOCATION:Centre Educatiu\, Terrassa\, Barcelona\, Espanya
CATEGORIES:Medi ambient i sostenibilitat
ATTACH;FMTTYPE=image/jpeg:https://gact2.gact.terrassa.cat/wp-content/uploads/2021/09/IMG20210630183139-scaled-e1632747063876.jpg
END:VEVENT
END:VCALENDAR