BEGIN:VCALENDAR
VERSION:2.0
PRODID:-//Guia d&#039;activitats (proves) - ECPv6.15.0.1//NONSGML v1.0//EN
CALSCALE:GREGORIAN
METHOD:PUBLISH
X-WR-CALNAME:Guia d&#039;activitats (proves)
X-ORIGINAL-URL:https://gact2.gact.terrassa.cat
X-WR-CALDESC:Esdeveniments per Guia d&#039;activitats (proves)
REFRESH-INTERVAL;VALUE=DURATION:PT1H
X-Robots-Tag:noindex
X-PUBLISHED-TTL:PT1H
BEGIN:VTIMEZONE
TZID:Europe/Madrid
BEGIN:DAYLIGHT
TZOFFSETFROM:+0100
TZOFFSETTO:+0200
TZNAME:CEST
DTSTART:20210328T010000
END:DAYLIGHT
BEGIN:STANDARD
TZOFFSETFROM:+0200
TZOFFSETTO:+0100
TZNAME:CET
DTSTART:20211031T010000
END:STANDARD
BEGIN:DAYLIGHT
TZOFFSETFROM:+0100
TZOFFSETTO:+0200
TZNAME:CEST
DTSTART:20220327T010000
END:DAYLIGHT
BEGIN:STANDARD
TZOFFSETFROM:+0200
TZOFFSETTO:+0100
TZNAME:CET
DTSTART:20221030T010000
END:STANDARD
END:VTIMEZONE
BEGIN:VEVENT
DTSTART;VALUE=DATE:20210909
DTEND;VALUE=DATE:20220618
DTSTAMP:20260421T002242
CREATED:20201029T105212Z
LAST-MODIFIED:20220215T121016Z
UID:6325-1631145600-1655510399@gact2.gact.terrassa.cat
SUMMARY:Irènia\, jocs de pau
DESCRIPTION:DESCRIPCIÓ\n\nTaller – joc d’educació per la pau a escollir entre els diversos que s’ofereixen. \nConsultar amb l’entitat organitzadora tot el referent a aquesta activitat: horaris\, sessions\, preus… \nwww.irenia.net \nNombre màxim d’alumnat participant a cada sessió: 30 pax (1 grup classe) \nCost de l’activitat: Gratuït\, fins a un màxim d’1 taller/escola d’una línia i 2 tallers (escola de dues línies). El nombre de tallers gratuïts és limitat. S’atendran les demandes per estricte ordre d’arribada.  La resta de tallers que se sol·licitin tindran un cost de 120€/taller
URL:https://gact2.gact.terrassa.cat/activitat/irenia-jocs-de-pau/
LOCATION:Centre Educatiu\, Terrassa\, Barcelona\, Espanya
CATEGORIES:Educació en valors
ATTACH;FMTTYPE=image/png:https://gact2.gact.terrassa.cat/wp-content/uploads/2020/10/irenia1.png
ORGANIZER;CN="Ir%C3%A8nia%2C Jocs de Pau":MAILTO:coordinacio@irenia.net
END:VEVENT
END:VCALENDAR