BEGIN:VCALENDAR
VERSION:2.0
PRODID:-//Guia d&#039;activitats (proves) - ECPv6.15.0.1//NONSGML v1.0//EN
CALSCALE:GREGORIAN
METHOD:PUBLISH
X-WR-CALNAME:Guia d&#039;activitats (proves)
X-ORIGINAL-URL:https://gact2.gact.terrassa.cat
X-WR-CALDESC:Esdeveniments per Guia d&#039;activitats (proves)
REFRESH-INTERVAL;VALUE=DURATION:PT1H
X-Robots-Tag:noindex
X-PUBLISHED-TTL:PT1H
BEGIN:VTIMEZONE
TZID:Europe/Madrid
BEGIN:DAYLIGHT
TZOFFSETFROM:+0100
TZOFFSETTO:+0200
TZNAME:CEST
DTSTART:20210328T010000
END:DAYLIGHT
BEGIN:STANDARD
TZOFFSETFROM:+0200
TZOFFSETTO:+0100
TZNAME:CET
DTSTART:20211031T010000
END:STANDARD
BEGIN:DAYLIGHT
TZOFFSETFROM:+0100
TZOFFSETTO:+0200
TZNAME:CEST
DTSTART:20220327T010000
END:DAYLIGHT
BEGIN:STANDARD
TZOFFSETFROM:+0200
TZOFFSETTO:+0100
TZNAME:CET
DTSTART:20221030T010000
END:STANDARD
BEGIN:DAYLIGHT
TZOFFSETFROM:+0100
TZOFFSETTO:+0200
TZNAME:CEST
DTSTART:20230326T010000
END:DAYLIGHT
BEGIN:STANDARD
TZOFFSETFROM:+0200
TZOFFSETTO:+0100
TZNAME:CET
DTSTART:20231029T010000
END:STANDARD
END:VTIMEZONE
BEGIN:VEVENT
DTSTART;VALUE=DATE:20210913
DTEND;VALUE=DATE:20230617
DTSTAMP:20260421T001533
CREATED:20201113T230037Z
LAST-MODIFIED:20210714T120427Z
UID:1445-1631491200-1686959999@gact2.gact.terrassa.cat
SUMMARY:Vine al mNACTEC  I
DESCRIPTION:DESCRIPCIÓ\n\nConcertar dia i hora amb entitat organitzadora (Veure via d’inscripció)\nPreu de les activitats per a grups escolars: en funció de l’activitat escollida. Consulteu a: http://www.mnactec.cat/ofertaeducativa/\nEducació infantil: visites guiades\n.Coneguem el Vapor: recorregut pels espais energètics de la fàbrica.\n.Coneguem el Vapor: Explora 0-6: espai d’experimentació per als més petits. \nTallers:\n. Com es fabrica un teixit: produir un teixit per distingir fibres.\n. Taller del so: experimentacions sonores amb diferents materials. \nTallers teatralitzats:\n. Els colors de la llum: descobrir els colors i les seves propietats.\n. Juguem amb el cos!: aprendre les diferents parts del cos humà. \nEducació Primària: visites guiades\n. Com sóc jo?: exposició interactiva sobre el cos humà.\n. El Tèxtil: procés industrial de la llana.\n. El transport al llarg del temps (cicle mitjà i superior).\n. El Vapor: espais energètics de la fàbrica.\n. Enérgeia: exposició sobre les fonts d’energia (3 opcions).\n. Façana Fotovoltaica i vehicle solar Despertaferro (cicle superior).\n. Gas i petroli: l’energia dels fòssils (cicle superior).\n. L’electricitat (cicle mitjà i superior).\n. L’energia i la vida quotidiana.\n. L’energia al Planeta.\n. L’energia de l’aigua.\n. L’energia solar (cicle mitjà i superior).\n. La fàbrica tèxtil: carboneres; calderes; xemeneia; màquina de vapor i procés industrial de la llana. També en idiomes:castellà; francès i anglès.\n. Tot és química (cicle mitjà i superior). \nVisites i tallers teatralitzats:\n. Bits & bites: el llenguatge dels ordinadors (cicle superior).\n. Gràcies al Sol!: interactius solars (cicle inicial).\n. Juguem amb el cos!: taller (cicle inicial)\n. La vida com a motor!\n. Un passeig per la fàbrica! \nTallers:\n. Com es fabrica un teixit (cicle inicial).\n. Engranatges (cicle mitjà i superior).\n. Física a la Mentora Alsina (cicle mitjà i superior).\n. Investiga com treballaven els obrers i les obreres del tèxtil (cicle superior).\n. La terrassa del Sol: objectes interactius solars (cicle mitjà i superior).\n. Les màquines de Leonardo (cicle superior).\n. Projecte electricitat: electricitat i magnetisme.\n. Taller del so: propietats i percepcions.\n. Vine a fer ciència! (cicle mitjà i superior). \nAltres activitats:\n. Itinerari al Parc de Sant Llorenç del Munt i l’Obac + Visita mNACTEC.\n. Lleure al Parc de Vallparadís + visita mNACTEC.\n. Bateig d’hoquei + visita mNACTEC. \nServei d’atenció al professorat\, prèvia concertació.
URL:https://gact2.gact.terrassa.cat/activitat/vine-al-mnactec-i/
LOCATION:Museu Nacional de la Ciència i la Tècnica -mNACTEC-\, Rambla d'Ègara\, 270\, Terrassa\, Barcelona\, 08221\, Espanya
CATEGORIES:Història i patrimoni
ATTACH;FMTTYPE=image/jpeg:https://gact2.gact.terrassa.cat/wp-content/uploads/2020/11/mnactec.jpg
ORGANIZER;CN="Museu Nacional de la Ci%C3%A8ncia i la T%C3%A8cnica de Catalunya - mNACTEC":MAILTO:rbifet@gencat.cat / efontg@gencat.cat
END:VEVENT
BEGIN:VEVENT
DTSTART;VALUE=DATE:20210913
DTEND;VALUE=DATE:20230617
DTSTAMP:20260421T001533
CREATED:20201111T230014Z
LAST-MODIFIED:20210714T120407Z
UID:1476-1631491200-1686959999@gact2.gact.terrassa.cat
SUMMARY:Vine al mNACTEC  II
DESCRIPTION:DESCRIPCIÓ\n\nConcertar dia i hora amb entitat organitzadora (Veure via d’inscripció)\nPreu de les activitats per a grups escolars: en funció de l’activitat escollida. Consulteu a: http://www.mnactec.cat/ofertaeducativa/\nVisites guiades:\n. El procés tèxtil: procés industrial de la llana.\n. El Vapor: espais energètics de la fàbrica.\n. Enérgeia: exposició sobre les fonts d’energia (3 opcions).\n. Espai d’innovació: noves tecnologies\, impressores 3D\, robots\, drons i realitat augmentada (visita lliure).\n. Façana Fotovoltaica i vehicle solar Despertaferro.\n. Gas i petroli: l’energia dels fòssils.\n. L’aigua com a font d’energia al llarg del temps.\n. L’electricitat: façana fotovoltaica i àmbit d’electricitat.\n. L’energia al Planeta.\n. L’energia solar: façana fotovoltaica i energia al planeta.\n. L’enigma de l’ordinador: l’evolució de l’ordinador.\n. La fàbrica tèxtil: carboneres; calderes; xemeneia; màquina de vapor i procés industrial llaner. També en idiomes: castellà\, francès i anglès.\n. Tot és química. \nTallers:\n. Electricitat\, magnetisme i els seus efectes (ESO).\n. Electricitat i magnetisme (batxillerat i cicles).\n. Els secrets de Leonardo.\n. Engranatges.\n. Es poden detectar les partícules subatòmiques? (3r-4t ESO i batxillerat).\n. Física Mentora Alsina.\n. Investiga com treballaven els obrers i les obreres del tèxtil (ESO).\n. La màgia dels superconductors que leviten (3r-4t ESO i batxillerat).\n. La terrassa del Sol: experiències interactives.\n. Taller de química.\n. Taller del so. \nVisites i tallers teatralitzats:\n. Bits & bites: el llenguatge dels ordinadors (1r-2n ESO).\n. Els obrers fan història! \nAltres activitats:\n. Bateig d’hoquei + visita mNACTEC (ESO).\n. Itinerari al Parc Sant Llorenç del Munt i l’Obac + visita mNACTEC (1r-2n ESO).\n. Ruta pel Patrimoni Industrial de Terrassa.\n. Lleure al Parc de Vallparadís + visita mNACTEC (1r-2n ESO) \nServei d’atenció al professorat\, prèvia concertació.
URL:https://gact2.gact.terrassa.cat/activitat/vine-al-mnactec-ii/
LOCATION:Museu Nacional de la Ciència i la Tècnica -mNACTEC-\, Rambla d'Ègara\, 270\, Terrassa\, Barcelona\, 08221\, Espanya
CATEGORIES:Història i patrimoni
ATTACH;FMTTYPE=image/jpeg:https://gact2.gact.terrassa.cat/wp-content/uploads/2020/11/mnactec.jpg
ORGANIZER;CN="Museu Nacional de la Ci%C3%A8ncia i la T%C3%A8cnica de Catalunya - mNACTEC":MAILTO:rbifet@gencat.cat / efontg@gencat.cat
END:VEVENT
BEGIN:VEVENT
DTSTART;VALUE=DATE:20210909
DTEND;VALUE=DATE:20220613
DTSTAMP:20260421T001533
CREATED:20210727T080951Z
LAST-MODIFIED:20220113T174038Z
UID:9785-1631145600-1655078399@gact2.gact.terrassa.cat
SUMMARY:Visita guiada: Epidèmies i pandèmies. L'enemic invisible
DESCRIPTION:DESCRIPCIÓ\n\nEpidèmies i Pandèmies. L’enemic invisible ( secundària batxillerat) \n\nVisita guiada a l’exposició “Epidèmies i pandèmies”\, per conèixer com han evolucionat els conceptes de malaltia i salut al llarg del temps I com els avenços científics i tecnològics han ajudat a comprendre-les  i tractar-les. Al llarg de la història diverses malalties han provocat estralls a les poblacions. El coneixement dels diferents agents patògens\, bacteris i virus\, ens ajuda a poder combatre’ls. En l’exposició s’analitzen les relacions i evolució constant dels diferents organismes vius i com aquestes ens afecten. Es fa un breu repàs a les aportacions de metges i científics catalans\, sobretot en la figura del Dr. Ferran i Clua\, com un dels científics catalans més rellevants\, creant vacunes com la del còlera\, i salvant la vida de moltes persones. Podrem veure una escenografia del seu lloc de treball: El Laboratori Municipal de Barcelona\, centre insigne de recerca mèdica. \n\n\nDiversos interactius ens mostren les malalties que hi ha hagut a Catalunya i el món\, i també podrem veure com són els microorganismes que ens causen malalties\, bacteris\, virus\, o com funcionen les vacunes. \n\n\n\n\n\nEpidèmies i món invisible ( Cicle Superior de primària) \n\n\nVisita guiada a l’exposició: Epidèmies i Pandèmies que ens permetrà conèixer la resposta preguntes com: Quina és la diferència entre una  epidèmia i una pandèmia? sabies que dins el cos humà hi ha 10 vegades més cèl·lules bacterianes que les del nostre organisme? Quan es van inventar les primeres vacunes?  Sabies que hi ha bacteris beneficiosos pel nostre organisme? Què en sabem dels coronavirus? \n\n  \n  \n 
URL:https://gact2.gact.terrassa.cat/activitat/visita-guiada-epidemies-i-pandemies-lenemic-invisible/
LOCATION:Museu Nacional de la Ciència i la Tècnica -mNACTEC-\, Rambla d'Ègara\, 270\, Terrassa\, Barcelona\, 08221\, Espanya
CATEGORIES:Novetats
ATTACH;FMTTYPE=image/jpeg:https://gact2.gact.terrassa.cat/wp-content/uploads/2020/11/mnactec.jpg
ORGANIZER;CN="Museu Nacional de la Ci%C3%A8ncia i la T%C3%A8cnica de Catalunya - mNACTEC":MAILTO:rbifet@gencat.cat / efontg@gencat.cat
END:VEVENT
END:VCALENDAR