BEGIN:VCALENDAR
VERSION:2.0
PRODID:-//Guia d&#039;activitats (proves) - ECPv6.15.0.1//NONSGML v1.0//EN
CALSCALE:GREGORIAN
METHOD:PUBLISH
X-ORIGINAL-URL:https://gact2.gact.terrassa.cat
X-WR-CALDESC:Esdeveniments per Guia d&#039;activitats (proves)
REFRESH-INTERVAL;VALUE=DURATION:PT1H
X-Robots-Tag:noindex
X-PUBLISHED-TTL:PT1H
BEGIN:VTIMEZONE
TZID:Europe/Madrid
BEGIN:DAYLIGHT
TZOFFSETFROM:+0100
TZOFFSETTO:+0200
TZNAME:CEST
DTSTART:20210328T010000
END:DAYLIGHT
BEGIN:STANDARD
TZOFFSETFROM:+0200
TZOFFSETTO:+0100
TZNAME:CET
DTSTART:20211031T010000
END:STANDARD
BEGIN:DAYLIGHT
TZOFFSETFROM:+0100
TZOFFSETTO:+0200
TZNAME:CEST
DTSTART:20220327T010000
END:DAYLIGHT
BEGIN:STANDARD
TZOFFSETFROM:+0200
TZOFFSETTO:+0100
TZNAME:CET
DTSTART:20221030T010000
END:STANDARD
END:VTIMEZONE
BEGIN:VEVENT
DTSTART;TZID=Europe/Madrid:20210909T080000
DTEND;TZID=Europe/Madrid:20220617T170000
DTSTAMP:20260421T001433
CREATED:20210728T090424Z
LAST-MODIFIED:20210728T090457Z
UID:9812-1631174400-1655485200@gact2.gact.terrassa.cat
SUMMARY:Joc de taula "Recuperem la Terra!"
DESCRIPTION:DESCRIPCIÓ\n\nEndinsem els nois i noies en el món de l’economia circular per mostrar solucions que poden fer front a l’impacte negatiu del sector tèxtil sobre el medi ambient. Amb un joc de taula teixim un pensament sostenible basat en els tres pilars de reduir\, reciclar i reutilitzar\, descobrint accions quotidianes per millor l’impacte individual i col·lectiu. (Taller a càrrec de personal de Formació i Treball – Roba Amiga).
URL:https://gact2.gact.terrassa.cat/activitat/joc-de-taula-recuperem-la-terra/
LOCATION:Centre de Documentació i Museu Tèxtil -CDMT-\, Carrer Salmerón\, 25\, Terrassa\, Barcelona\, 08222
ATTACH;FMTTYPE=image/jpeg:https://gact2.gact.terrassa.cat/wp-content/uploads/2021/07/Jocsostenibilitat.jpg
ORGANIZER;CN="Museu T%C3%A8xtil de Terrassa":MAILTO:auladidactica@admt.cat
END:VEVENT
END:VCALENDAR