BEGIN:VCALENDAR
VERSION:2.0
PRODID:-//Guia d&#039;activitats (proves) - ECPv6.15.0.1//NONSGML v1.0//EN
CALSCALE:GREGORIAN
METHOD:PUBLISH
X-ORIGINAL-URL:https://gact2.gact.terrassa.cat
X-WR-CALDESC:Esdeveniments per Guia d&#039;activitats (proves)
REFRESH-INTERVAL;VALUE=DURATION:PT1H
X-Robots-Tag:noindex
X-PUBLISHED-TTL:PT1H
BEGIN:VTIMEZONE
TZID:Europe/Madrid
BEGIN:DAYLIGHT
TZOFFSETFROM:+0100
TZOFFSETTO:+0200
TZNAME:CEST
DTSTART:20210328T010000
END:DAYLIGHT
BEGIN:STANDARD
TZOFFSETFROM:+0200
TZOFFSETTO:+0100
TZNAME:CET
DTSTART:20211031T010000
END:STANDARD
BEGIN:DAYLIGHT
TZOFFSETFROM:+0100
TZOFFSETTO:+0200
TZNAME:CEST
DTSTART:20220327T010000
END:DAYLIGHT
BEGIN:STANDARD
TZOFFSETFROM:+0200
TZOFFSETTO:+0100
TZNAME:CET
DTSTART:20221030T010000
END:STANDARD
END:VTIMEZONE
BEGIN:VEVENT
DTSTART;VALUE=DATE:20210913
DTEND;VALUE=DATE:20220618
DTSTAMP:20260421T003155
CREATED:20201028T105335Z
LAST-MODIFIED:20210714T112715Z
UID:6164-1631491200-1655510399@gact2.gact.terrassa.cat
SUMMARY:Ofegades pels deutes
DESCRIPTION:DESCRIPCIÓ\n\nL’activitat té una marcada orientació social\, on es problematitza la situació de pobresa energètica que es pateix a moltes llars de Catalunya\, i els impactes que això té sobre les persones a nivell de salut\, social\, emocional\, etc. L’activitat comença amb la projecció d’un vídeo en que hi intervenen dos testimonis que pateixen pobresa energètica i no tenen accés a l’aigua i al sanejament garantit tal com reconeix el Dret Humà a l’Aigua. \nTambé hi intervé l’Aliança contra la Pobresa Energètica i la Plataforma d’Afectades per la Hipoteca tot presentant la llei 24/2015 i l’Agència de Salut Pública de Barcelona que aporten la problemàtica en qüestions de salut i el Col•legi Oficial de Treball Social de Catalunya que parla del seu dia a dia treballant a serveis socials. Una vegada visualitzat el vídeo\, es dividirà l’alumnat en grups per abordar la problemàtica visualitzada mitjançant la participació en un joc de rol i una posada en comú al final. \nUna part de l’alumnat assumirà casos reals de pobresa energètica\, mentre que també hi haurà els rols d’empresa d’aigua privada\, pública\, serveis socials\, ajuntament\, comunitat de veïnes i moviments socials. En finalitzar l’activitat l’estudiantat estarà en condicions de conèixer què és la pobresa energètica i identificar quins impactes té sobre les persones a nivell social i econòmic\, com fer-hi front i quines són les seves causes. \n \n 
URL:https://gact2.gact.terrassa.cat/activitat/ofegades-pels-deutes/
LOCATION:Centre Educatiu\, Terrassa\, Barcelona\, Espanya
CATEGORIES:Medi ambient i sostenibilitat
ATTACH;FMTTYPE=image/png:https://gact2.gact.terrassa.cat/wp-content/uploads/2020/10/foto_logo_observatori.png
ORGANIZER;CN="Observatori de l'Aigua - Taula d'Educaci%C3%B3":MAILTO:info@oat.cat
END:VEVENT
BEGIN:VEVENT
DTSTART;VALUE=DATE:20210913
DTEND;VALUE=DATE:20220618
DTSTAMP:20260421T003156
CREATED:20200914T121101Z
LAST-MODIFIED:20210714T112612Z
UID:1728-1631491200-1655510399@gact2.gact.terrassa.cat
SUMMARY:Tast d'aigua
DESCRIPTION:DESCRIPCIÓ\n\nTaller de tast d’aigua que ens permetrà avaluar i comparar les propietats organolèptiques de l’aigua a partir de quatre mostres diferents: de l’aixeta\, d’una font\, de tractament d’osmosi i d’aigua envasada. Finalment reflexionar com cadascuna d’aquestes procedències suposen un important impacte social\, ambiental i econòmic. \nEstructura del taller:\na) Tast d’aigua.\nb) Avaluació de l’aigua: fase visual\, olfactiva i de boca.\nc) Avaluació dels impactes vers l’entorn i econòmics.\nd) Debat. \n 
URL:https://gact2.gact.terrassa.cat/activitat/tast-daigua/
LOCATION:Centre Educatiu\, Terrassa\, Barcelona\, Espanya
CATEGORIES:Medi ambient i sostenibilitat
ATTACH;FMTTYPE=image/png:https://gact2.gact.terrassa.cat/wp-content/uploads/2020/07/foto_logo_observatori-e1601031125371.png
ORGANIZER;CN="Observatori de l'Aigua - Taula d'Educaci%C3%B3":MAILTO:info@oat.cat
END:VEVENT
BEGIN:VEVENT
DTSTART;VALUE=DATE:20210913
DTEND;VALUE=DATE:20220618
DTSTAMP:20260421T003156
CREATED:20200914T105330Z
LAST-MODIFIED:20210714T115557Z
UID:1726-1631491200-1655510399@gact2.gact.terrassa.cat
SUMMARY:La Visita al Sali de Sallent
DESCRIPTION:DESCRIPCIÓ\n\nPujada a peu al Castell de Sallent \nEls alumnes pugen al Castell de Sallent des d’on poden observar les instal·lacions de les mines\, tot el runam i el riu Llobregat. Explicació per part de Prou Sal dels problemes mediambientals que generen l’acumulació dels residus de sal.\n \nJoc de Rol \nL’alumnat es posarà a la pell de diversos personatges que tenen diferents interessos envers la mina i la contaminació salina. Debat posterior\, amb un alumne com a moderador. \nObservacions:  El transport fins a les instal·lacions va a càrrec del centre escolar.
URL:https://gact2.gact.terrassa.cat/activitat/la-salinitzacio-dels-aquifers/
CATEGORIES:Medi ambient i sostenibilitat
ATTACH;FMTTYPE=image/png:https://gact2.gact.terrassa.cat/wp-content/uploads/2020/07/foto_logo_observatori-e1601031125371.png
ORGANIZER;CN="Observatori de l'Aigua - Taula d'Educaci%C3%B3":MAILTO:info@oat.cat
END:VEVENT
BEGIN:VEVENT
DTSTART;VALUE=DATE:20210913
DTEND;VALUE=DATE:20220618
DTSTAMP:20260421T003156
CREATED:20200914T082420Z
LAST-MODIFIED:20210714T112418Z
UID:1587-1631491200-1655510399@gact2.gact.terrassa.cat
SUMMARY:La princesa de l'Aigua
DESCRIPTION:DESCRIPCIÓ\n\nNarració teatralitzada del conte “la Princesa de l’Aigua” explica com és la vida d’una nena d’un poblat de l’Àfrica; que cada dia amb la seva mare ha de recòrrer molts kilòmetres per arribar al pou a buscar aigua. El conte ens parla del rol tradicional que té la dona com a portadora d’aigua en molts països. I com aquesta tasca tan elemental és alhora invisible com ho són les pròpies dones. \nObservacions:\nAquesta activitat es complementa amb l’exposició “Té gènere l’aigua” per ser col·locada en el vestíbul o en un lloc visible del centre.\nL’objectiu és que pugui ser visitada per les famílies del centre.\nTambé es pot treballar al cicle mitjà i superior de primària i es facilita un llistat de suggeriments per poder-ho treballar.
URL:https://gact2.gact.terrassa.cat/activitat/la-princesa-de-laigua/
LOCATION:Centre Educatiu\, Terrassa\, Barcelona\, Espanya
CATEGORIES:Medi ambient i sostenibilitat
ATTACH;FMTTYPE=image/png:https://gact2.gact.terrassa.cat/wp-content/uploads/2020/07/foto_logo_dones-daigua-de-terrassa-e1601023129391.png
ORGANIZER;CN="Dones d'Aigua de Terrassa":MAILTO:donesdaiguaterrassa@gmail.com
END:VEVENT
BEGIN:VEVENT
DTSTART;TZID=Europe/Madrid:20210909T080000
DTEND;TZID=Europe/Madrid:20220531T170000
DTSTAMP:20260421T003156
CREATED:20210722T100139Z
LAST-MODIFIED:20220113T174506Z
UID:9725-1631174400-1654016400@gact2.gact.terrassa.cat
SUMMARY:La maleta de l'aigua
DESCRIPTION:DESCRIPCIÓ\n\nSón un conjunt de dues maletes que l’escola disposarà al llarg de dues setmanes amb material de suport per treballar el projecte de l’aigua. Aquest material l’haurà d’anar a recollir a ESEIAAT-UPC edifici TR10 Campus de Terrassa.
URL:https://gact2.gact.terrassa.cat/activitat/la-maleta-de-laigua/
LOCATION:Centre Educatiu\, Terrassa\, Barcelona\, Espanya
CATEGORIES:Novetats
ATTACH;FMTTYPE=image/jpeg:https://gact2.gact.terrassa.cat/wp-content/uploads/2021/07/IMG_20210528_100651_869-scaled.jpg
ORGANIZER;CN="Observatori de l'Aigua - Taula d'Educaci%C3%B3":MAILTO:info@oat.cat
END:VEVENT
END:VCALENDAR