BEGIN:VCALENDAR
VERSION:2.0
PRODID:-//Guia d&#039;activitats (proves) - ECPv6.15.0.1//NONSGML v1.0//EN
CALSCALE:GREGORIAN
METHOD:PUBLISH
X-WR-CALNAME:Guia d&#039;activitats (proves)
X-ORIGINAL-URL:https://gact2.gact.terrassa.cat
X-WR-CALDESC:Esdeveniments per Guia d&#039;activitats (proves)
REFRESH-INTERVAL;VALUE=DURATION:PT1H
X-Robots-Tag:noindex
X-PUBLISHED-TTL:PT1H
BEGIN:VTIMEZONE
TZID:Europe/Madrid
BEGIN:DAYLIGHT
TZOFFSETFROM:+0100
TZOFFSETTO:+0200
TZNAME:CEST
DTSTART:20210328T010000
END:DAYLIGHT
BEGIN:STANDARD
TZOFFSETFROM:+0200
TZOFFSETTO:+0100
TZNAME:CET
DTSTART:20211031T010000
END:STANDARD
BEGIN:DAYLIGHT
TZOFFSETFROM:+0100
TZOFFSETTO:+0200
TZNAME:CEST
DTSTART:20220327T010000
END:DAYLIGHT
BEGIN:STANDARD
TZOFFSETFROM:+0200
TZOFFSETTO:+0100
TZNAME:CET
DTSTART:20221030T010000
END:STANDARD
END:VTIMEZONE
BEGIN:VEVENT
DTSTART;VALUE=DATE:20210915
DTEND;VALUE=DATE:20220601
DTSTAMP:20260421T021159
CREATED:20200916T121651Z
LAST-MODIFIED:20210716T100038Z
UID:1451-1631664000-1654041599@gact2.gact.terrassa.cat
SUMMARY:Educació Viària I
DESCRIPTION:DESCRIPCIÓ\n\nContingut de les sessions dels diferents nivells educatius. \n2n: Visionat de diapositives: Audicions de sons del carrer. El joc dels sons. \nDossier: Educació Viària 2n \n4t: Visionat de diapositives: Conèixer els senyals de trànsit. \nDossier: Educacio viaria 4t  \n5è: Classe pràctica de conducció de bicicletes al Decathlon. \nNota: No es podrà fer l’activitat de 5è si prèviament no s’ha fet la de 2n i 4t. \nEl cost del transport fins al Decathlon és a càrrec del centre educatiu.
URL:https://gact2.gact.terrassa.cat/activitat/educacio-viaria-i/
LOCATION:Centre Educatiu\, Terrassa\, Barcelona\, Espanya
CATEGORIES:Medi ambient i sostenibilitat
ATTACH;FMTTYPE=image/gif:https://gact2.gact.terrassa.cat/wp-content/uploads/2020/07/foto_escut_policia_mpal.gif
ORGANIZER;CN="Servei d'Educaci%C3%B3":MAILTO:promocio.educativa@terrassa.cat
END:VEVENT
BEGIN:VEVENT
DTSTART;VALUE=DATE:20210915
DTEND;VALUE=DATE:20220618
DTSTAMP:20260421T021159
CREATED:20210928T102142Z
LAST-MODIFIED:20210928T102142Z
UID:10353-1631664000-1655510399@gact2.gact.terrassa.cat
SUMMARY:Violència? Parlem-ne
DESCRIPTION:DESCRIPCIÓ\n\nPresentem el servei de la Policia Municipal als més petits i de manera molt participativa introduïm un debat molt important al grup classe: Què és ser un bon amic? Què és la violència? \n 
URL:https://gact2.gact.terrassa.cat/activitat/violencia-parlem-ne/
LOCATION:Centre Educatiu\, Terrassa\, Barcelona\, Espanya
CATEGORIES:Educació en valors
ATTACH;FMTTYPE=image/png:https://gact2.gact.terrassa.cat/wp-content/uploads/2021/09/bullying1-e1632824489377.png
END:VEVENT
BEGIN:VEVENT
DTSTART;VALUE=DATE:20210915
DTEND;VALUE=DATE:20220618
DTSTAMP:20260421T021159
CREATED:20210928T101335Z
LAST-MODIFIED:20210928T101335Z
UID:10342-1631664000-1655510399@gact2.gact.terrassa.cat
SUMMARY:Internet: com fer-ne un ús segur i a quins perills ens enfrontem
DESCRIPTION:DESCRIPCIÓ\n\nParlem del bullying aprofundint en les xarxes socials i en l’ús d’internet en una xerrada que no deixarà indiferent a ningú. \n 
URL:https://gact2.gact.terrassa.cat/activitat/internet-com-fer-ne-un-us-segur-i-a-quins-perills-ens-enfrontem/
LOCATION:Centre Educatiu\, Terrassa\, Barcelona\, Espanya
CATEGORIES:Educació en valors
ATTACH;FMTTYPE=image/png:https://gact2.gact.terrassa.cat/wp-content/uploads/2021/09/bullying3.png
END:VEVENT
BEGIN:VEVENT
DTSTART;VALUE=DATE:20210915
DTEND;VALUE=DATE:20220618
DTSTAMP:20260421T021159
CREATED:20210928T095634Z
LAST-MODIFIED:20210928T095634Z
UID:10333-1631664000-1655510399@gact2.gact.terrassa.cat
SUMMARY:Els nostres fills i l'ús del mòbil
DESCRIPTION:DESCRIPCIÓ\n\nInformem als pares i mares sobre els perills que els seus fills poden trobar a la xarxa. \n 
URL:https://gact2.gact.terrassa.cat/activitat/els-nostres-fills-i-lus-del-mobil/
LOCATION:Centre Educatiu\, Terrassa\, Barcelona\, Espanya
CATEGORIES:Educació en valors
ATTACH;FMTTYPE=image/png:https://gact2.gact.terrassa.cat/wp-content/uploads/2021/09/bullying4.png
END:VEVENT
BEGIN:VEVENT
DTSTART;VALUE=DATE:20210915
DTEND;VALUE=DATE:20220624
DTSTAMP:20260421T021159
CREATED:20200928T111137Z
LAST-MODIFIED:20210716T093325Z
UID:4140-1631664000-1656028799@gact2.gact.terrassa.cat
SUMMARY:Utilització d'armes en filmacions-gravacions
DESCRIPTION:DESCRIPCIÓ\n\nXerrades formatives i preventives per conscienciar l’alumnat jove sobre la utilització d’armes en filmacions o gravacions. Prevenir situacions d’inseguretat. Evitar confusions als ciutadans i situacions de risc. Informar sobre els aspectes legals. Demanar-los responsabilitat. Aclarir conceptes i dubtes. Informar sobre la nostra organització i els nostres serveis. Oferir els nostres serveis per tal de donar-les suport i assessorament en situacions de dificultat. \nTemàtiques relacionades amb l’ús de les armes:\n– Utilització de la via pública\n– Reglament d’armes\n– Incidència envers els cossos de seguretat\n– Activitats lúdiques\, airsoft i paint-ball\n– Notificació i comunicació\n– Contacte permanent
URL:https://gact2.gact.terrassa.cat/activitat/utilitzacio-darmes-en-filmacions-gravacions/
LOCATION:Centre Educatiu\, Terrassa\, Barcelona\, Espanya
CATEGORIES:Educació per la salut
ATTACH;FMTTYPE=image/gif:https://gact2.gact.terrassa.cat/wp-content/uploads/2020/07/foto_escut_policia_mpal.gif
END:VEVENT
BEGIN:VEVENT
DTSTART;VALUE=DATE:20210915
DTEND;VALUE=DATE:20220601
DTSTAMP:20260421T021159
CREATED:20200928T110550Z
LAST-MODIFIED:20210716T093424Z
UID:4135-1631664000-1654041599@gact2.gact.terrassa.cat
SUMMARY:Tinença i consum de drogues
DESCRIPTION:DESCRIPCIÓ\n\nXerrades formatives i preventives per conscienciar l’alumnat jove sobre la problemàtica del consum. Minimitzar els factors de risc. Potenciar els factors de protecció dels adolescents. Informar sobre la normativa i la seva repercussió envers els menors.\nAclarir conceptes\, trencar mites i demanar-los responsabilitats. Oferir els nostres serveis per tal de donar-los suport i assessorament en situacions de dificultat. \nTemàtiques relacionades amb el consum i la tinència de drogues:\n– Definició\, tipus\, efectes\, tolerància\n– Alcohol i tabac\n– Infraccions administratives\n– Codi Penal: Faltes i Delictes\n– Responsabilitat penal dels menors \n  \n 
URL:https://gact2.gact.terrassa.cat/activitat/tinenca-i-consum-de-drogues/
LOCATION:Centre Educatiu\, Terrassa\, Barcelona\, Espanya
CATEGORIES:Educació per la salut
ATTACH;FMTTYPE=image/gif:https://gact2.gact.terrassa.cat/wp-content/uploads/2020/07/foto_escut_policia_mpal.gif
END:VEVENT
BEGIN:VEVENT
DTSTART;VALUE=DATE:20210915
DTEND;VALUE=DATE:20220601
DTSTAMP:20260421T021159
CREATED:20200928T105835Z
LAST-MODIFIED:20210927T084135Z
UID:4129-1631664000-1654041599@gact2.gact.terrassa.cat
SUMMARY:Seguretat i ètica a internet
DESCRIPTION:DESCRIPCIÓ\n\nXerrades formatives i preventives per conscienciar l’alumnat jove sobre les circumstàncies i perills de la xarxa. Minimitzar els factors de risc. Potenciar els factors de protecció dels adolescents. Informar sobre les pràctiques més freqüents com a possibles víctimes. Aclarir conceptes\, trencar mites i demanar-los responsabilitats. Oferir els nostres serveis per tal de donar-los suport i assessorament en situacions de dificultat. \nTemàtiques relacionades amb d’utilització de terminals\, ordinadors i d’altres dispositius connectats en xarxa.\n– Informació sobre delictes en la xarxa\n– Amenaces\n– Assetjament\n– Ciberbullying i Grooming\n– Sexting-sextorsió.\n– Infraccions administratives\n– Codi Penal: Faltes i Delictes\n– Responsabilitat penal dels menors \n 
URL:https://gact2.gact.terrassa.cat/activitat/seguretat-i-etica-a-internet/
LOCATION:Centre Educatiu\, Terrassa\, Barcelona\, Espanya
CATEGORIES:Educació per la salut
ATTACH;FMTTYPE=image/gif:https://gact2.gact.terrassa.cat/wp-content/uploads/2020/07/foto_escut_policia_mpal.gif
END:VEVENT
BEGIN:VEVENT
DTSTART;VALUE=DATE:20210915
DTEND;VALUE=DATE:20220601
DTSTAMP:20260421T021159
CREATED:20200928T105222Z
LAST-MODIFIED:20210716T093624Z
UID:4126-1631664000-1654041599@gact2.gact.terrassa.cat
SUMMARY:Diversitat i igualtat
DESCRIPTION:DESCRIPCIÓ\n\nXerrades formatives i preventives per conscienciar l’alumnat jove sobre les situacions relacionades amb la diversitat de individus i col.lectius. Prevenir conflictes i minimitzar els factors de risc. Potenciar la convivència i el civisme. Treballar per l’ integració\, la tolerància i les relacions. Informar sobre la normativa i la seva repercussió. Aclarir conceptes\, trencar mites i demanar-los responsabilitats. Oferir els nostres serveis per tal de donar-los suport i assessorament en situacions de dificultat. \nTemàtiques relacionades la convivència\, el civisme i les normes de bon govern:\n– El comportament a les aules\n– Exercir la convivència dintre de la diversitat\n– El civisme i el respecte\n– La responsabilitat\n– Els drets de les persones i la no discriminació \n 
URL:https://gact2.gact.terrassa.cat/activitat/diversitat-i-igualtat/
LOCATION:Centre Educatiu\, Terrassa\, Barcelona\, Espanya
CATEGORIES:Educació en valors
ATTACH;FMTTYPE=image/gif:https://gact2.gact.terrassa.cat/wp-content/uploads/2020/07/foto_escut_policia_mpal.gif
END:VEVENT
BEGIN:VEVENT
DTSTART;VALUE=DATE:20210915
DTEND;VALUE=DATE:20220601
DTSTAMP:20260421T021159
CREATED:20200928T104104Z
LAST-MODIFIED:20211001T094121Z
UID:4119-1631664000-1654041599@gact2.gact.terrassa.cat
SUMMARY:La seguretat i la prevenció del jovent
DESCRIPTION:DESCRIPCIÓ\n\nXerrades formatives i preventives per conscienciar l’alumnat jove sobre les situacions de risc i minimitzar els factors que els poden generar. Potenciar els factors de protecció dels adolescents. Informar sobre la normativa i la seva repercussió envers els menors. Aclarir conceptes\, trencar mites i demanar-los responsabilitats. Oferir els nostres serveis per tal de donar-los suport i assessorament en situacions de dificultat. \nTemàtiques relacionades amb la seguretat i la prevenció:\n– Baralles\n– Armes i objectes perillosos\n– Lesions\n– Bandes juvenils\n– Infraccions administratives\n– Codi Penal: Delictes\n– Responsabilitat penal dels menors
URL:https://gact2.gact.terrassa.cat/activitat/la-seguretat-i-la-prevencio-del-jovent/
LOCATION:Centre Educatiu\, Terrassa\, Barcelona\, Espanya
CATEGORIES:Educació en valors
ATTACH;FMTTYPE=image/gif:https://gact2.gact.terrassa.cat/wp-content/uploads/2020/07/foto_escut_policia_mpal.gif
END:VEVENT
BEGIN:VEVENT
DTSTART;VALUE=DATE:20210915
DTEND;VALUE=DATE:20220601
DTSTAMP:20260421T021159
CREATED:20200928T103231Z
LAST-MODIFIED:20210716T095127Z
UID:4112-1631664000-1654041599@gact2.gact.terrassa.cat
SUMMARY:Violència de gènere
DESCRIPTION:DESCRIPCIÓ\n\nXerrades formatives i preventives per conscienciar l’alumnat jove sobre determinades situacions sobre les relacions familiars i de parella. Prevenir conflictes i minimitzar els factors de risc. Potenciar els factors de protecció dels adolescents. Informar sobre la normativa i la seva repercussió. Aclarir conceptes\, trencar mites i demanar-los responsabilitats. Oferir els nostres serveis per tal de donar-los suport i assessorament en situacions de dificultat. \nTemàtiques relacionades amb la seguretat i la prevenció:\n– La Violència de Gènere\n– La Violència Domestica\n– Bullying\, assetjament\n– Procediments\n– Codi Penal: Faltes i Delictes\n– Responsabilitat penal dels menors \nSessions impartides per agents de la unitat d’Atenció  a la víctima\, (UAV) amb participació i col·laboració dels policies i dels comandaments de la Divisió d’Investigació (DII). \n 
URL:https://gact2.gact.terrassa.cat/activitat/violencia-de-genere/
LOCATION:Centre Educatiu\, Terrassa\, Barcelona\, Espanya
CATEGORIES:Educació en valors
ATTACH;FMTTYPE=image/gif:https://gact2.gact.terrassa.cat/wp-content/uploads/2020/07/foto_escut_policia_mpal.gif
END:VEVENT
BEGIN:VEVENT
DTSTART;VALUE=DATE:20210915
DTEND;VALUE=DATE:20220601
DTSTAMP:20260421T021159
CREATED:20200928T100936Z
LAST-MODIFIED:20210719T101408Z
UID:4101-1631664000-1654041599@gact2.gact.terrassa.cat
SUMMARY:Tinència responsable de gossos
DESCRIPTION:DESCRIPCIÓ\n\nXerrades formatives i preventives per conscienciar l’alumnat jove sobre la preservació del benestar dels animals. Prevenir conflictes i minimitzar les situacions de risc. Conscienciar els posseïdors de gossos i demanar-los responsabilitat. Incrementar el nivell de civisme i el respecte entre els ciutadans. Aclarir conceptes. Donar a conèixer els aspectes legals sobre la tinença de gossos. Oferir els nostres serveis per tal de donar-les suport i assessorament en situacions de dificultat. \nTemàtiques relacionades amb els animals de companyia:\n– Ordenança Municipal de tinença d’animals de companyia\n– Requisits administratius\n– Normes a la via pública i a les vivendes\n– Gossos perillosos\, races\, condicions\n– Agressions i ferides\n– Zones lliures\n– Infraccions
URL:https://gact2.gact.terrassa.cat/activitat/tinencia-responsable-de-gossos/
LOCATION:Centre Educatiu\, Terrassa\, Barcelona\, Espanya
CATEGORIES:Educació en valors
ATTACH;FMTTYPE=image/gif:https://gact2.gact.terrassa.cat/wp-content/uploads/2020/07/foto_escut_policia_mpal.gif
END:VEVENT
BEGIN:VEVENT
DTSTART;VALUE=DATE:20210915
DTEND;VALUE=DATE:20220601
DTSTAMP:20260421T021159
CREATED:20200928T095634Z
LAST-MODIFIED:20211001T094234Z
UID:4093-1631664000-1654041599@gact2.gact.terrassa.cat
SUMMARY:Proximitat i col·laboració ciutadana
DESCRIPTION:DESCRIPCIÓ\n\nXerrades formatives i preventives per conscienciar l’alumnat jove sobre la importància de la prevenció. Prevenir la comissió de tipus delictius i minimitzar els factors de risc. Potenciar les relacions amb els particulars i amb les entitats ciutadanes.\nIncrementar la percepció de seguretat. Informar sobre la nostra organització i els nostres serveis. Treballar conjuntament envers la seguretat. Oferir els nostres serveis per tal de donar-los suport i assessorament en situacions de dificultat. \nTemàtiques relacionades amb la seguretat: \n– Consells de prevenció i seguretat a les vivendes\, al carrer…\n– Robatoris-furts-estafes\n– Mesures de seguretat\n– Atenció a víctimes\n– Contacte permanent\n– Oficina de denuncies
URL:https://gact2.gact.terrassa.cat/activitat/proximitat-i-collaboracio-ciutadana/
LOCATION:Centre Educatiu\, Terrassa\, Barcelona\, Espanya
CATEGORIES:Educació en valors
ATTACH;FMTTYPE=image/gif:https://gact2.gact.terrassa.cat/wp-content/uploads/2020/07/foto_escut_policia_mpal.gif
END:VEVENT
BEGIN:VEVENT
DTSTART;VALUE=DATE:20210915
DTEND;VALUE=DATE:20220601
DTSTAMP:20260421T021159
CREATED:20200928T084756Z
LAST-MODIFIED:20211001T094035Z
UID:4088-1631664000-1654041599@gact2.gact.terrassa.cat
SUMMARY:Col·lectius de dones immigrants
DESCRIPTION:DESCRIPCIÓ\n\nXerrades formatives i preventives per conscienciar l’alumnat jove\, especialment a les dones de la importància del seu paper en la integració. Prevenir conflictes i minimitzar els factors de risc. Potenciar les relacions veïnals i el civisme. Treballar per la integració i la tolerància Aclarir conceptes\, trencar mites i demanar-les responsabilitats. Donar a conèixer les normes bàsiques de civisme. Informar sobre la nostra organització i els nostres serveis. Oferir els nostres serveis per tal de donar-les suport i\nassessorament en situacions de dificultat. \nTemàtiques relacionades amb la convivència:\n– Els nostres serveis i la nostra organització.\n– Participació i prevenció.\n– Convivència i civisme al carrer\n– El control i la cura dels menors\n– Relacions amb els veïns\n– Mediació\n– Contacte permanent \n  \n  \n 
URL:https://gact2.gact.terrassa.cat/activitat/collectius-de-dones-immigrants/
LOCATION:Centre Educatiu\, Terrassa\, Barcelona\, Espanya
CATEGORIES:Educació en valors
ATTACH;FMTTYPE=image/gif:https://gact2.gact.terrassa.cat/wp-content/uploads/2020/07/foto_escut_policia_mpal.gif
END:VEVENT
BEGIN:VEVENT
DTSTART;VALUE=DATE:20210915
DTEND;VALUE=DATE:20220601
DTSTAMP:20260421T021159
CREATED:20200928T084047Z
LAST-MODIFIED:20211001T093836Z
UID:4085-1631664000-1654041599@gact2.gact.terrassa.cat
SUMMARY:Convivència i civisme entre la població jove
DESCRIPTION:DESCRIPCIÓ\n\nXerrades formatives i preventives per conscienciar l’alumnat jove sobre les situacions relacionades amb el civisme\, dintre de les escoles i als espais públics. Prevenir conflictes i minimitzar els factors de risc. Potenciar les relacions amb els ciutadans i veïns i les conductes cíviques. Treballar per aconseguir pautes de respecte i actituds envers els altres\, i en especial amb la gent gran. Informar sobre la normativa i la seva repercussió. Aclarir conceptes\, trencar mites i demanar-los responsabilitats.\nOferir els nostres serveis per tal de donar-los suport i assessorament en situacions de dificultat \nTemàtiques relacionades la convivència\, el civisme i les normes de bon govern:\n– El comportament amb relació amb les pares.\n– Les relacions amb les veïnes i els veïns així\ncom amb la resta de ciutadans.\n– El civisme a les places i als carrers.\n– El respecte al mobiliari urbà.\n– Responsabilitats.
URL:https://gact2.gact.terrassa.cat/activitat/convivencia-i-civisme-entre-la-poblacio-jove/
LOCATION:Centre Educatiu\, Terrassa\, Barcelona\, Espanya
CATEGORIES:Educació en valors
ATTACH;FMTTYPE=image/gif:https://gact2.gact.terrassa.cat/wp-content/uploads/2020/07/foto_escut_policia_mpal.gif
END:VEVENT
BEGIN:VEVENT
DTSTART;VALUE=DATE:20210915
DTEND;VALUE=DATE:20220601
DTSTAMP:20260421T021159
CREATED:20200928T083630Z
LAST-MODIFIED:20211001T093922Z
UID:4081-1631664000-1654041599@gact2.gact.terrassa.cat
SUMMARY:Convivència i civisme comunitari
DESCRIPTION:DESCRIPCIÓ\n\nXerrades formatives i preventives per conscienciar l’alumnat  sobre els diversos col·lectius que conviuen en una comunitat\, i les situacions que sorgeixen de la convivència relacionades amb el civisme\, especialment en l’àmbit de les comunitats veïnals. \nPrevenir conflictes i minimitzar els factors de risc. Potenciar les relacions veïnals. Treballar per d’integració\, la tolerància i les relacions. Informar sobre la normativa i la seva repercussió. Aclarir conceptes\, trencar mites i demanar-los responsabilitats.\nOferir els nostres serveis per tal de donar-los suport i assessorament en situacions de dificultat. \nTemàtiques relacionades la convivència\, el civisme i les normes de bon govern:\n– El comportament a les vivendes.\n– Relacions en les comunitats de propietaris i veïns.\n– El civisme a les places i als carrers.\n– El respecte al mobiliari urbà.\n– Responsabilitats \n  \n 
URL:https://gact2.gact.terrassa.cat/activitat/convivencia-i-civisme-comunitari/
LOCATION:Centre Educatiu\, Terrassa\, Barcelona\, Espanya
CATEGORIES:Educació en valors
ATTACH;FMTTYPE=image/gif:https://gact2.gact.terrassa.cat/wp-content/uploads/2020/07/foto_escut_policia_mpal.gif
END:VEVENT
BEGIN:VEVENT
DTSTART;VALUE=DATE:20210909
DTEND;VALUE=DATE:20220618
DTSTAMP:20260421T021159
CREATED:20200928T101713Z
LAST-MODIFIED:20211105T083028Z
UID:4105-1631145600-1655510399@gact2.gact.terrassa.cat
SUMMARY:Tribus urbanes
DESCRIPTION:DESCRIPCIÓ\n\nXerrades formatives i preventives per conscienciar l’alumnat jove sobre les relacions grupals. Minimitzar els factors de risc. Potenciar els factors de protecció dels adolescents. Informar sobre l’àmbit legal dels grups i la seva repercussió envers els joves.\nAclarir conceptes\, trencar mites i demanar-los responsabilitats. Oferir els nostres les nostres intervencions per tal de donar-los suport i assessorament en situacions de dificultat. \nTemàtiques relacionades amb la seguretat i la prevenció:\n– Baralles\n– Grups juvenils: Bandes llatines\, Antisistema\, Extrema dreta i esquerra\, Nous grups Organitzats i violents\, Graffiters\n– Captació i integració\n– Infraccions administratives\n– Codi Penal: Faltes i Delictes \nSessions impartides per agents de la unitat d’Informació (UDUI) amb la col·laboració dels agents de la URMEC.
URL:https://gact2.gact.terrassa.cat/activitat/tribus-urbanes/
LOCATION:Centre Educatiu\, Terrassa\, Barcelona\, Espanya
CATEGORIES:Educació en valors
ATTACH;FMTTYPE=image/gif:https://gact2.gact.terrassa.cat/wp-content/uploads/2020/07/foto_escut_policia_mpal.gif
END:VEVENT
BEGIN:VEVENT
DTSTART;VALUE=DATE:20210909
DTEND;VALUE=DATE:20220618
DTSTAMP:20260421T021159
CREATED:20200928T100148Z
LAST-MODIFIED:20211105T082928Z
UID:4097-1631145600-1655510399@gact2.gact.terrassa.cat
SUMMARY:Seguretat i conducció
DESCRIPTION:DESCRIPCIÓ\n\nXerrades formatives i preventives per conscienciar l’alumnat jove sobre els accidents i les seves conseqüències. Millorar els hàbits en la conducció. Informar sobre la normativa i la seva repercussió envers els joves conductors. Aclarir conceptes i demanar-los responsabilitats. Oferir els nostres serveis per tal de donar-los suport i assessorament en situacions de dificultat. \nTemàtiques relacionades amb la seguretat viària i la conducció:\n– Velocitats\n– Alcohol i substàncies\n– Conduccions temeràries\n– Carnet per punts\n– Infraccions administratives\n– Infraccions Penals \n  \n  \n  \n 
URL:https://gact2.gact.terrassa.cat/activitat/seguretat-i-conduccio/
LOCATION:Centre Educatiu\, Terrassa\, Barcelona\, Espanya
CATEGORIES:Educació en valors
ATTACH;FMTTYPE=image/gif:https://gact2.gact.terrassa.cat/wp-content/uploads/2020/07/foto_escut_policia_mpal.gif
END:VEVENT
BEGIN:VEVENT
DTSTART;VALUE=DATE:20210111
DTEND;VALUE=DATE:20210601
DTSTAMP:20260421T021159
CREATED:20200928T080926Z
LAST-MODIFIED:20200930T080318Z
UID:1397-1610323200-1622505599@gact2.gact.terrassa.cat
SUMMARY:No te la juguis!
DESCRIPTION:DESCRIPCIÓ\n\na campanya GAME OVER; es la renovació de la campanya “STOP AL COP”\, que l’Institut Guttmann porta a terme des de 1991. Les sessions són realitzades per monitors amb lesió medul·lar que es desplacen al centre i\, amb ajut de material audiovisual\, propicien entre el jovent un intens debat entorn els accidents\,  les seves causes i la manera de prevenir-los.
URL:https://gact2.gact.terrassa.cat/activitat/no-te-la-juguis/
LOCATION:Centre Educatiu\, Terrassa\, Barcelona\, Espanya
CATEGORIES:Medi ambient i sostenibilitat
ATTACH;FMTTYPE=image/gif:https://gact2.gact.terrassa.cat/wp-content/uploads/2020/07/foto_escut_policia_mpal.gif
ORGANIZER;CN="Servei d'Educaci%C3%B3":MAILTO:promocio.educativa@terrassa.cat
END:VEVENT
END:VCALENDAR