BEGIN:VCALENDAR
VERSION:2.0
PRODID:-//Guia d&#039;activitats (proves) - ECPv6.15.0.1//NONSGML v1.0//EN
CALSCALE:GREGORIAN
METHOD:PUBLISH
X-WR-CALNAME:Guia d&#039;activitats (proves)
X-ORIGINAL-URL:https://gact2.gact.terrassa.cat
X-WR-CALDESC:Esdeveniments per Guia d&#039;activitats (proves)
REFRESH-INTERVAL;VALUE=DURATION:PT1H
X-Robots-Tag:noindex
X-PUBLISHED-TTL:PT1H
BEGIN:VTIMEZONE
TZID:Europe/Madrid
BEGIN:DAYLIGHT
TZOFFSETFROM:+0100
TZOFFSETTO:+0200
TZNAME:CEST
DTSTART:20210328T010000
END:DAYLIGHT
BEGIN:STANDARD
TZOFFSETFROM:+0200
TZOFFSETTO:+0100
TZNAME:CET
DTSTART:20211031T010000
END:STANDARD
BEGIN:DAYLIGHT
TZOFFSETFROM:+0100
TZOFFSETTO:+0200
TZNAME:CEST
DTSTART:20220327T010000
END:DAYLIGHT
BEGIN:STANDARD
TZOFFSETFROM:+0200
TZOFFSETTO:+0100
TZNAME:CET
DTSTART:20221030T010000
END:STANDARD
END:VTIMEZONE
BEGIN:VEVENT
DTSTART;TZID=Europe/Madrid:20210927T080000
DTEND;TZID=Europe/Madrid:20220606T170000
DTSTAMP:20260421T040424
CREATED:20210722T114503Z
LAST-MODIFIED:20210927T083658Z
UID:9425-1632729600-1654534800@gact2.gact.terrassa.cat
SUMMARY:Què\, cuines?
DESCRIPTION:DESCRIPCIÓ\n\nA través d’una petita explicació que faran el grup d’atenció al client (guies) sobre què és Prodis\, què és el SOI\, quines activitats estan fent; què estan aprenent; els infants i/o joves que vinguin podran conèixer una mica més el nostre dia a dia. Després\, els explicarem una recepta senzilla: la de les magdalenes que fem a Prodis\, i us acompanyarem en l’aprenentatge directe: junts farem la vostra magdalena i finalment anirem a la nostra cantina (ubicada a les mateixes instal·lacions) on podreu tastar la magdalena i acompanyar-la si voleu\, amb una beguda.
URL:https://gact2.gact.terrassa.cat/activitat/que-cuines/
LOCATION:Prodiscapacitats Fundació Privada Terrassenca – PRODIS\, Prat de la Riba\, 133\, 3r\, 3a\, Terrassa\, Barcelona\, 08224
ATTACH;FMTTYPE=image/jpeg:https://gact2.gact.terrassa.cat/wp-content/uploads/2021/06/IMG_3697-2-scaled.jpg
ORGANIZER;CN="PRODIS":MAILTO:sto.ajustaments@prodis.cat
END:VEVENT
BEGIN:VEVENT
DTSTART;TZID=Europe/Madrid:20210927T080000
DTEND;TZID=Europe/Madrid:20220606T170000
DTSTAMP:20260421T040424
CREATED:20210722T111757Z
LAST-MODIFIED:20210927T083512Z
UID:9417-1632729600-1654534800@gact2.gact.terrassa.cat
SUMMARY:SI VENS\, T’EXPLICO
DESCRIPTION:DESCRIPCIÓ\n\nMitjançant una visita a les nostres instal·lacions ens endinsarem en el coneixement de Prodis i la seva gent. Podreu conèixer el nostre centre de la mà de les persones amb discapacitat que formen el nostre equip de guies\, elles us explicaran tots els nostres secrets. Mitjançant el diàleg\, la visita i les activitats que us proposarem aproparem el món de la discapacitat als infants i joves que ens visitin. Coneixeran de forma directa i a través de les activitats compartides a les persones que atenem. Tenim preparats diversos circuits:\nLa ruta de l’hostaleria: podent fer una ruta pels diferents espais d’hostaleria que tenim ubicats a Terrassa (podem anar caminant i gaudint dels espais de Terrassa).\nLa ruta del CET: visita al cementiri\, la deixalleria\, taller del llibre i altres espais de l’entitat on treballen les persones amb discapacitat de Prodis (cal transport propi)\,\nRuta Serveis Essencials: visita a les nostres llars ubicades a Torresana i també el nostre espai de tallers ubicats a la plaça del Tint (cal transport propi). Passarem per la Cantina( podreu fer un petit esmorzar) \nEns podem adaptar al temps i necessitat de cada escola. Es farà una sessió per setmana.
URL:https://gact2.gact.terrassa.cat/activitat/si-vens-texplico/
LOCATION:Prodiscapacitats Fundació Privada Terrassenca – PRODIS\, Prat de la Riba\, 133\, 3r\, 3a\, Terrassa\, Barcelona\, 08224
ATTACH;FMTTYPE=image/jpeg:https://gact2.gact.terrassa.cat/wp-content/uploads/2021/06/WhatsApp-Image-2020-02-20-at-13.49.00.jpeg
ORGANIZER;CN="PRODIS":MAILTO:sto.ajustaments@prodis.cat
END:VEVENT
BEGIN:VEVENT
DTSTART;VALUE=DATE:20210909
DTEND;VALUE=DATE:20220701
DTSTAMP:20260421T040424
CREATED:20201116T230059Z
LAST-MODIFIED:20210720T101624Z
UID:1399-1631145600-1656633599@gact2.gact.terrassa.cat
SUMMARY:Inventem amb les deixalles
DESCRIPTION:DESCRIPCIÓ\n\nA partir de material molt visual i de sessions interactives sensibilitzar als nens de la importància de la classificació dels residus (reciclatge) i del impacte mediambiental que suposa el fet de no separar totes les deixalles. Com activitat complementària a l’explicació cada nen realitzarà un objecte amb material de rebuig.
URL:https://gact2.gact.terrassa.cat/activitat/inventem-amb-les-deixalles/
LOCATION:Centre Educatiu\, Terrassa\, Barcelona\, Espanya
CATEGORIES:Medi ambient i sostenibilitat
ATTACH;FMTTYPE=image/jpeg:https://gact2.gact.terrassa.cat/wp-content/uploads/2020/07/inventem_deixalles-e1603217337990.jpg
ORGANIZER;CN="PRODIS":MAILTO:sto.ajustaments@prodis.cat
END:VEVENT
END:VCALENDAR