BEGIN:VCALENDAR
VERSION:2.0
PRODID:-//Guia d&#039;activitats (proves) - ECPv6.15.0.1//NONSGML v1.0//EN
CALSCALE:GREGORIAN
METHOD:PUBLISH
X-WR-CALNAME:Guia d&#039;activitats (proves)
X-ORIGINAL-URL:https://gact2.gact.terrassa.cat
X-WR-CALDESC:Esdeveniments per Guia d&#039;activitats (proves)
REFRESH-INTERVAL;VALUE=DURATION:PT1H
X-Robots-Tag:noindex
X-PUBLISHED-TTL:PT1H
BEGIN:VTIMEZONE
TZID:Europe/Madrid
BEGIN:DAYLIGHT
TZOFFSETFROM:+0100
TZOFFSETTO:+0200
TZNAME:CEST
DTSTART:20210328T010000
END:DAYLIGHT
BEGIN:STANDARD
TZOFFSETFROM:+0200
TZOFFSETTO:+0100
TZNAME:CET
DTSTART:20211031T010000
END:STANDARD
BEGIN:DAYLIGHT
TZOFFSETFROM:+0100
TZOFFSETTO:+0200
TZNAME:CEST
DTSTART:20220327T010000
END:DAYLIGHT
BEGIN:STANDARD
TZOFFSETFROM:+0200
TZOFFSETTO:+0100
TZNAME:CET
DTSTART:20221030T010000
END:STANDARD
END:VTIMEZONE
BEGIN:VEVENT
DTSTART;VALUE=DATE:20210913
DTEND;VALUE=DATE:20220618
DTSTAMP:20260421T001259
CREATED:20200918T112803Z
LAST-MODIFIED:20211005T103401Z
UID:3725-1631491200-1655510399@gact2.gact.terrassa.cat
SUMMARY:Artistes del Segle XX : Frida Kahlo
DESCRIPTION:DESCRIPCIÓ\n\nAtenció: Un màxim de 30 pax per taller. El preu del taller és per grup.\nEl taller comença amb un conte que ens explica la vida de l’artista i les temàtiques de la seva obra. Un joc associatiu ens permet reconèixer l’univers de Frida Kahlo i el seu significat. Amb diverses tècniques reproduirem un retrat de la nostra protagonista. \n 
URL:https://gact2.gact.terrassa.cat/activitat/artistes-del-segle-xx-frida-kahlo/
LOCATION:Centre Educatiu\, Terrassa\, Barcelona\, Espanya
CATEGORIES:Educació artística
ATTACH;FMTTYPE=image/jpeg:https://gact2.gact.terrassa.cat/wp-content/uploads/2020/07/frida_kahlo_1-e1600427902553.jpg
ORGANIZER;CN="Schola Did%C3%A0ctica Activa":MAILTO:scholactiva@scholactiva.com
END:VEVENT
BEGIN:VEVENT
DTSTART;VALUE=DATE:20210913
DTEND;VALUE=DATE:20220618
DTSTAMP:20260421T001259
CREATED:20200918T110949Z
LAST-MODIFIED:20210915T123350Z
UID:3719-1631491200-1655510399@gact2.gact.terrassa.cat
SUMMARY:Artistes del Segle XX : Andy Warhol
DESCRIPTION:DESCRIPCIÓ\n\nAtenció: S’accepten un màxim de 10 tallers. Per als centres de dues línies o més es podran fer 2 tallers simultàniament el mateix dia amb màxim 30 pax/taller. El preu del taller és per grup.\nA partir de mitjans gràfics explicarem la vida de l’artista i farem un primer contacte amb la seva personalitat. Mitjançant un joc relacionarem les obres de Warhol amb els elements reals. Veurem diferents maneres de representar la realitat i experimentarem amb la serigrafia per reproduir una de les obres de Warhol. \n 
URL:https://gact2.gact.terrassa.cat/activitat/artistes-del-segle-xx-andy-warhol/
LOCATION:Centre Educatiu\, Terrassa\, Barcelona\, Espanya
CATEGORIES:Educació artística
ATTACH;FMTTYPE=image/jpeg:https://gact2.gact.terrassa.cat/wp-content/uploads/2020/07/warhol_1.jpg
ORGANIZER;CN="Schola Did%C3%A0ctica Activa":MAILTO:scholactiva@scholactiva.com
END:VEVENT
BEGIN:VEVENT
DTSTART;VALUE=DATE:20210913
DTEND;VALUE=DATE:20220618
DTSTAMP:20260421T001259
CREATED:20200918T105140Z
LAST-MODIFIED:20211006T105746Z
UID:3706-1631491200-1655510399@gact2.gact.terrassa.cat
SUMMARY:Artistes del Segle XX : Vassili Kandinski
DESCRIPTION:DESCRIPCIÓ\n\nAtenció: S’accepten un màxim de 12 tallers.  Per als centres de dues línies o més es podran fer 2 tallers simultàniament el mateix dia amb màxim 30 pax/taller. El preu del taller és per grup.\nA partir de mitjans gràfics explicarem la vida de l’artista i farem un primer contacte amb la seva obra. Treballarem les formes i colors emprats i els sentiments que desperten i experimentarem amb aquests colors i formes amb la creació d’una obra inspirada en Kandinski. \n 
URL:https://gact2.gact.terrassa.cat/activitat/artistes-del-segle-xx-vassili-kandinski/
LOCATION:Centre Educatiu\, Terrassa\, Barcelona\, Espanya
CATEGORIES:Educació artística
ATTACH;FMTTYPE=image/jpeg:https://gact2.gact.terrassa.cat/wp-content/uploads/2020/07/kandinsky-e1600426162823.jpg
ORGANIZER;CN="Schola Did%C3%A0ctica Activa":MAILTO:scholactiva@scholactiva.com
END:VEVENT
BEGIN:VEVENT
DTSTART;VALUE=DATE:20210913
DTEND;VALUE=DATE:20220618
DTSTAMP:20260421T001259
CREATED:20200918T103733Z
LAST-MODIFIED:20211005T103521Z
UID:3691-1631491200-1655510399@gact2.gact.terrassa.cat
SUMMARY:Artistes del Segle XX : Joan Miró
DESCRIPTION:DESCRIPCIÓ\n\nAtenció: Només s’admet la inscripció d’1 centre per dia amb un màxim de 20 pax/taller. Per als centres de dues línies o més es podran fer 2 tallers simultàniament el mateix dia amb màxim 30 pax/taller. El preu del taller és per grup.\nEl taller comença amb un conte que ens explica la vida de l’artista a partir de l’aparició d’elements del seu llenguatge artístic. També treballarem els seus símbols i pintarem inspirant-nos en l’univers mironià. \n 
URL:https://gact2.gact.terrassa.cat/activitat/artistes-del-segle-xx-joan-miro/
LOCATION:Centre Educatiu\, Terrassa\, Barcelona\, Espanya
CATEGORIES:Educació artística
ATTACH;FMTTYPE=image/jpeg:https://gact2.gact.terrassa.cat/wp-content/uploads/2020/07/miro_2-e1600425302541.jpg
ORGANIZER;CN="Schola Did%C3%A0ctica Activa":MAILTO:scholactiva@scholactiva.com
END:VEVENT
BEGIN:VEVENT
DTSTART;VALUE=DATE:20210909
DTEND;VALUE=DATE:20220618
DTSTAMP:20260421T001259
CREATED:20210729T091236Z
LAST-MODIFIED:20211004T125417Z
UID:9856-1631145600-1655510399@gact2.gact.terrassa.cat
SUMMARY:Artistes del Segle XX : Sonia Delaunay
DESCRIPTION:DESCRIPCIÓ\n\nAtenció: S’accepten un màxim de 10 tallers. Per als centres de dues línies o més es podran fer 2 tallers simultàniament el mateix dia amb màxim 30 pax/taller. El preu del taller és per grup.\nEl taller comença amb un conte que ens explica la vida de la Sònia i com la dificultat de poder viure de l’art pel fet de ser una dona\, la va portar a posar color a tota la casa i també a la roba que vestia. A través de la participació activa\, l’alumnat veurà com la Sònia va transformar el seu món i com gràcies a aquest fet\, va esdevenir una artista important. Colors i formes de l’art abstracte inundaran l’aula igual com van inundar la casa de la Sònia.
URL:https://gact2.gact.terrassa.cat/activitat/artistes-del-segle-xx-sonia-delaunay/
LOCATION:Centre Educatiu\, Terrassa\, Barcelona\, Espanya
ORGANIZER;CN="Schola Did%C3%A0ctica Activa":MAILTO:scholactiva@scholactiva.com
END:VEVENT
BEGIN:VEVENT
DTSTART;VALUE=DATE:20210909
DTEND;VALUE=DATE:20220618
DTSTAMP:20260421T001259
CREATED:20200918T101958Z
LAST-MODIFIED:20211006T105621Z
UID:708-1631145600-1655510399@gact2.gact.terrassa.cat
SUMMARY:Artistes del Segle XX : Antoni Gaudí
DESCRIPTION:DESCRIPCIÓ\n\nAtenció: Per als centres de dues línies o més es podran fer 2 tallers simultàniament el mateix dia amb màxim 30 pax/taller. El preu del taller és per grup.\nTaller de descoberta de la vida i l’obra d’Antoni Gaudí. Treballarem aspectes de la natura\, font de la seva inspiració\, a partir de la construcció figurada d’un dels seus edificis.
URL:https://gact2.gact.terrassa.cat/activitat/artistes-del-segle-xx-gaudi/
LOCATION:Centre Educatiu\, Terrassa\, Barcelona\, Espanya
CATEGORIES:Educació artística
ATTACH;FMTTYPE=image/jpeg:https://gact2.gact.terrassa.cat/wp-content/uploads/2020/07/drac-gaudi-e1594375351534.jpg
ORGANIZER;CN="Servei d'Educaci%C3%B3":MAILTO:promocio.educativa@terrassa.cat
END:VEVENT
END:VCALENDAR