BEGIN:VCALENDAR
VERSION:2.0
PRODID:-//Guia d&#039;activitats (proves) - ECPv6.15.0.1//NONSGML v1.0//EN
CALSCALE:GREGORIAN
METHOD:PUBLISH
X-ORIGINAL-URL:https://gact2.gact.terrassa.cat
X-WR-CALDESC:Esdeveniments per Guia d&#039;activitats (proves)
REFRESH-INTERVAL;VALUE=DURATION:PT1H
X-Robots-Tag:noindex
X-PUBLISHED-TTL:PT1H
BEGIN:VTIMEZONE
TZID:Europe/Madrid
BEGIN:DAYLIGHT
TZOFFSETFROM:+0100
TZOFFSETTO:+0200
TZNAME:CEST
DTSTART:20210328T010000
END:DAYLIGHT
BEGIN:STANDARD
TZOFFSETFROM:+0200
TZOFFSETTO:+0100
TZNAME:CET
DTSTART:20211031T010000
END:STANDARD
END:VTIMEZONE
BEGIN:VEVENT
DTSTART;VALUE=DATE:20210111
DTEND;VALUE=DATE:20210601
DTSTAMP:20260421T021457
CREATED:20201021T155533Z
LAST-MODIFIED:20201021T155546Z
UID:5691-1610323200-1622505599@gact2.gact.terrassa.cat
SUMMARY:Visita guiada a l’oratori de Terrassa
DESCRIPTION:DESCRIPCIÓ\n\nVisita guiada per conèixer de primera mà com és un oratori i quines accions es duen a terme per la convivència de la diversitat cultural i de culte a la ciutat de Terrassa.
URL:https://gact2.gact.terrassa.cat/activitat/visita-guiada-a-loratori-de-terrassa/
LOCATION:Mesquita badr\, c/ Doctor Pearson 149 Terrassa\, Terrassa\, Barcelona\, 08222\, Espanya
CATEGORIES:Educació en valors
ATTACH;FMTTYPE=image/jpeg:https://gact2.gact.terrassa.cat/wp-content/uploads/2020/10/Ciutadania-i-Convivencia-H.jpg
ORGANIZER;CN="Servei de Ciutadania":MAILTO:ciutadania@terrassa.cat
END:VEVENT
BEGIN:VEVENT
DTSTART;VALUE=DATE:20210111
DTEND;VALUE=DATE:20210601
DTSTAMP:20260421T021457
CREATED:20201021T151439Z
LAST-MODIFIED:20201021T151709Z
UID:5687-1610323200-1622505599@gact2.gact.terrassa.cat
SUMMARY:Totes les persones tenim la sang vermella
DESCRIPTION:DESCRIPCIÓ\n\n“Todos tenemos la sangre roja” és el títol d’un curtmetratge d’Akwaba que visibilitza el racisme patit de forma reiterada i quotidiana. A partir de la visualització del curtmetratge creat per un grup de joves\, que amb el guió denuncien els tractes discriminatoris i reclamen més empatia\, és treballa el racisme com a quotidià\, quines expressions pot tenir\, quines “excuses” se solen aplicar per justificar el racisme (no sols el color de pell… també: accent\, país de naixement\, fenotips\, estil del cabell\, vestimenta\, etc.) i quines conseqüències genera.\nEn triar una situació racista vista o viscuda per l’alumnat\, es proposa realitzar una interpretació teatral per tal de pensar i posar en escena abordatges no racistes.
URL:https://gact2.gact.terrassa.cat/activitat/totes-les-persones-tenim-la-sang-vermella/
LOCATION:Centre Educatiu\, Terrassa\, Barcelona\, Espanya
CATEGORIES:Educació en valors
ATTACH;FMTTYPE=image/jpeg:https://gact2.gact.terrassa.cat/wp-content/uploads/2020/10/Ciutadania-i-Convivencia-H.jpg
ORGANIZER;CN="Servei de Ciutadania":MAILTO:ciutadania@terrassa.cat
END:VEVENT
BEGIN:VEVENT
DTSTART;VALUE=DATE:20210111
DTEND;VALUE=DATE:20210601
DTSTAMP:20260421T021457
CREATED:20201021T150830Z
LAST-MODIFIED:20201021T151102Z
UID:5683-1610323200-1622505599@gact2.gact.terrassa.cat
SUMMARY:El Ramadà: molt més que un temps de dejú
DESCRIPTION:DESCRIPCIÓ\n\nSessió en la qual es partirà dels coneixements i les experiències de les persones participants per fer les explicacions sobre el Ramadà i obrir el debat per treballar entre tots i totes els dubtes i les inquietuds que puguin sorgir. Es crea un espai de diàleg intercultural a través del qual fomentar els principis del respecte i el reconeixement de la diversitat cultural i religiosa\, fent visible el seu valor positiu a la nostra ciutat.
URL:https://gact2.gact.terrassa.cat/activitat/el-ramada-molt-mes-que-un-temps-de-deju/
LOCATION:Centre Educatiu\, Terrassa\, Barcelona\, Espanya
CATEGORIES:Educació en valors
ATTACH;FMTTYPE=image/jpeg:https://gact2.gact.terrassa.cat/wp-content/uploads/2020/10/Ciutadania-i-Convivencia-H.jpg
ORGANIZER;CN="Servei de Ciutadania":MAILTO:ciutadania@terrassa.cat
END:VEVENT
BEGIN:VEVENT
DTSTART;VALUE=DATE:20210111
DTEND;VALUE=DATE:20210601
DTSTAMP:20260421T021457
CREATED:20201021T145522Z
LAST-MODIFIED:20201021T145736Z
UID:1734-1610323200-1622505599@gact2.gact.terrassa.cat
SUMMARY:Coneix el SAiD - Servei d'atenció i denúncia per a víctimes de racisme
DESCRIPTION:DESCRIPCIÓ\n\nSessió que s’adapta a les necessitats dels centres educatius. Hi ha l’opció d’explicar el SAiD per conèixer el funcionament del servei i com derivar casos que es puguin donar en l’àmbit educatiu o de ciutat. A més\, de manera opcional\, es proposa poder obrir un espai per compartir casos concrets o coneguts per tal de valorar quina és la millor via per abordar-lo. També s’aportaran eines per prevenir discriminacions i fer un efecte multiplicador de la igualtat i la no discriminació.
URL:https://gact2.gact.terrassa.cat/activitat/coneix-el-said-servei-datencio-i-denuncia-per-a-victimes-de-racisme/
LOCATION:Centre Educatiu\, Terrassa\, Barcelona\, Espanya
CATEGORIES:Educació en valors
ATTACH;FMTTYPE=image/jpeg:https://gact2.gact.terrassa.cat/wp-content/uploads/2020/10/Ciutadania-i-Convivencia-H.jpg
ORGANIZER;CN="Servei de Ciutadania":MAILTO:ciutadania@terrassa.cat
END:VEVENT
BEGIN:VEVENT
DTSTART;VALUE=DATE:20210111
DTEND;VALUE=DATE:20210601
DTSTAMP:20260421T021457
CREATED:20201021T102710Z
LAST-MODIFIED:20201021T135042Z
UID:1715-1610323200-1622505599@gact2.gact.terrassa.cat
SUMMARY:Els perills del volcà de l'odi
DESCRIPTION:DESCRIPCIÓ\n\nXerrada amb diferents dinàmiques participatives que parteixen dels coneixements i experiències de les participants\, s’abordarà la problemàtica del discurs de l’odi\, amb especial atenció a aquells missatges basats en prejudici i estereotips basats en racisme. A més\, s’aportaran eines per generar respostes i contra narratives que promoguin els drets humans\, la igualtat de tracte i la no discriminació. \n 
URL:https://gact2.gact.terrassa.cat/activitat/els-perills-del-volca-de-lodi/
LOCATION:Centre Educatiu\, Terrassa\, Barcelona\, Espanya
CATEGORIES:Educació en valors
ATTACH;FMTTYPE=image/jpeg:https://gact2.gact.terrassa.cat/wp-content/uploads/2020/10/Ciutadania-i-Convivencia-H.jpg
ORGANIZER;CN="Servei de Ciutadania":MAILTO:ciutadania@terrassa.cat
END:VEVENT
END:VCALENDAR