BEGIN:VCALENDAR
VERSION:2.0
PRODID:-//Guia d&#039;activitats (proves) - ECPv6.15.0.1//NONSGML v1.0//EN
CALSCALE:GREGORIAN
METHOD:PUBLISH
X-ORIGINAL-URL:https://gact2.gact.terrassa.cat
X-WR-CALDESC:Esdeveniments per Guia d&#039;activitats (proves)
REFRESH-INTERVAL;VALUE=DURATION:PT1H
X-Robots-Tag:noindex
X-PUBLISHED-TTL:PT1H
BEGIN:VTIMEZONE
TZID:Europe/Madrid
BEGIN:DAYLIGHT
TZOFFSETFROM:+0100
TZOFFSETTO:+0200
TZNAME:CEST
DTSTART:20210328T010000
END:DAYLIGHT
BEGIN:STANDARD
TZOFFSETFROM:+0200
TZOFFSETTO:+0100
TZNAME:CET
DTSTART:20211031T010000
END:STANDARD
BEGIN:DAYLIGHT
TZOFFSETFROM:+0100
TZOFFSETTO:+0200
TZNAME:CEST
DTSTART:20220327T010000
END:DAYLIGHT
BEGIN:STANDARD
TZOFFSETFROM:+0200
TZOFFSETTO:+0100
TZNAME:CET
DTSTART:20221030T010000
END:STANDARD
END:VTIMEZONE
BEGIN:VEVENT
DTSTART;VALUE=DATE:20210927
DTEND;VALUE=DATE:20220618
DTSTAMP:20260420T223819
CREATED:20200903T091039Z
LAST-MODIFIED:20210927T081947Z
UID:2419-1632700800-1655510399@gact2.gact.terrassa.cat
SUMMARY:Xerrada sobre consum responsable i economia social i solidària
DESCRIPTION:DESCRIPCIÓ\n\nLa xerrada pretén conscienciar a l’alumnat sobre quins productes es consumeixen diàriament\, de quina manera es produeixen aquests i quines alternatives de producció i consum existeixen actualment a Terrassa.
URL:https://gact2.gact.terrassa.cat/activitat/xerrada-sobre-consum-responsable-i-economia-social-i-solidaria/
CATEGORIES:Educació per la salut
ATTACH;FMTTYPE=image/jpeg:https://gact2.gact.terrassa.cat/wp-content/uploads/2020/09/foto_consum_responsable.jpg
ORGANIZER;CN="Servei de Consum":MAILTO:consum@terrassa.cat
END:VEVENT
BEGIN:VEVENT
DTSTART;VALUE=DATE:20210927
DTEND;VALUE=DATE:20220618
DTSTAMP:20260420T223819
CREATED:20200903T084942Z
LAST-MODIFIED:20210927T081801Z
UID:1750-1632700800-1655510399@gact2.gact.terrassa.cat
SUMMARY:Un conte en una càpsula
DESCRIPTION:DESCRIPCIÓ\n\nA càrrec de: Pedagogia de l’Espectacle. \nLa Crisspeta ens explicarà “Un conte en una càpsula”; una curiosa història que té dos protagonistes entranyables; el senyor Ka i el senyor Fi.El senyor Ka viu dins de casa seva atapeït d’objectes: roba; mobles; estris de cuina. El senyor Fi; just el veí de la casa del davant té només allò que necessita i l’és d’utilitat. La Crisspeta; a través de la veu i petits objectes; titelles o il·lustracions; ens engrescarà amb aquest conte; creatiu i original; que ens parla del consumisme i el canvi d’actituds vers el consum.
URL:https://gact2.gact.terrassa.cat/activitat/un-conte-en-una-capsula/
LOCATION:Centre Educatiu\, Terrassa\, Barcelona\, Espanya
CATEGORIES:Educació per la salut
ATTACH;FMTTYPE=image/jpeg:https://gact2.gact.terrassa.cat/wp-content/uploads/2020/07/foto_un_conte_capsula-e1599122787424.jpg
ORGANIZER;CN="Servei de Consum":MAILTO:consum@terrassa.cat
END:VEVENT
BEGIN:VEVENT
DTSTART;VALUE=DATE:20210927
DTEND;VALUE=DATE:20220618
DTSTAMP:20260420T223819
CREATED:20200903T082156Z
LAST-MODIFIED:20210927T081402Z
UID:1591-1632700800-1655510399@gact2.gact.terrassa.cat
SUMMARY:Oh! La joguina no juga
DESCRIPTION:DESCRIPCIÓ\n\nSessió pràctica on es realitzarà un simulacre de compravenda; reclamació i mediació. El taller constarà de dos blocs: \n1. Adquiriran un producte. L’aula es convertirà en una botiga de joguines on els nens i nenes seran els encarregats d’etiquetar els productes; triar-los i pagar-los a caixa. \n2. L’alumnat detecta que el seu producte no és conforme i es realitzarà una reclamació on apareix la figura de l’OMIC com a organisme que els ajudarà a exercir els seus drets com a consumidors. \nAspectes que es treballaran: el dret a estar informat (etiquetatge; identificació del preu…); dret a la seguretat (conformitat del producte) i dret a reclamar (atenció al client i servei de consum). \n 
URL:https://gact2.gact.terrassa.cat/activitat/oh-la-joguina-no-juga/
LOCATION:Centre Educatiu\, Terrassa\, Barcelona\, Espanya
CATEGORIES:Educació per la salut
ATTACH;FMTTYPE=image/jpeg:https://gact2.gact.terrassa.cat/wp-content/uploads/2020/09/foto_joguina_No_juga-e1599121195308.jpg
ORGANIZER;CN="Servei de Consum":MAILTO:consum@terrassa.cat
END:VEVENT
BEGIN:VEVENT
DTSTART;VALUE=DATE:20210927
DTEND;VALUE=DATE:20220618
DTSTAMP:20260420T223819
CREATED:20200903T080656Z
LAST-MODIFIED:20210927T081514Z
UID:1590-1632700800-1655510399@gact2.gact.terrassa.cat
SUMMARY:La publicitat
DESCRIPTION:DESCRIPCIÓ\n\nTaller distribuït en dues parts: \n1a part: es tractaran els següents conceptes: \n. Concepte de publicitat.\n. Funcions de la publicitat.\n. Principis bàsics de la publicitat.\n. L’anunci i els seus formats.\n. Normativa reguladora.\n. Publicitat il·lícita (incidint especialment en la publicitat enganyosa). \n2a part: proposta d’activitats als participants sobre suport audiovisual.
URL:https://gact2.gact.terrassa.cat/activitat/la-publicitat/
LOCATION:Centre Educatiu\, Terrassa\, Barcelona\, Espanya
CATEGORIES:Educació per la salut
ATTACH;FMTTYPE=image/jpeg:https://gact2.gact.terrassa.cat/wp-content/uploads/2020/07/foto_la_publicitat.jpg
ORGANIZER;CN="Servei de Consum":MAILTO:consum@terrassa.cat
END:VEVENT
BEGIN:VEVENT
DTSTART;VALUE=DATE:20210921
DTEND;VALUE=DATE:20220209
DTSTAMP:20260420T223819
CREATED:20200903T075809Z
LAST-MODIFIED:20210921T085229Z
UID:1749-1632182400-1644364799@gact2.gact.terrassa.cat
SUMMARY:Els remeis de l'àvia
DESCRIPTION:DESCRIPCIÓ\n\nA càrrec de: Pedagogia de l’Espectacle. \nLa Crisspeta ens explicarà el conte “Els remeis de l’àvia”. I vaja quina sorpresa que tindrem en veure que l’àvia protagonista de la història és ni més ni menys que l’àvia de la Caputxeta Vermella!En aquest conte; La Caputxeta viu a ciutat; i la seva àvia; que viu al camp; decideix anar a visitar-la. Durant el viatge; coneix en Jan; la Sara i en Pau; tres infants que tenen un petit problema…I l’àvia; amb la seva saviesa i bona mà per als petits; els ajuda a trobar la solució.\nLa Crisspeta ens engrescarà amb aquesta bonica història; que ens parla del consumisme i el canvi d’actituds; a través de la veu i petits objectes; titelles o il·lustracions.
URL:https://gact2.gact.terrassa.cat/activitat/els-remeis-de-lavia/
LOCATION:Centre Educatiu\, Terrassa\, Barcelona\, Espanya
CATEGORIES:Educació per la salut
ATTACH;FMTTYPE=image/jpeg:https://gact2.gact.terrassa.cat/wp-content/uploads/2020/07/foto_remeis_avia-e1599119715939.jpg
ORGANIZER;CN="Servei de Consum":MAILTO:consum@terrassa.cat
END:VEVENT
BEGIN:VEVENT
DTSTART;TZID=Europe/Madrid:20210318T103000
DTEND;TZID=Europe/Madrid:20210318T113000
DTSTAMP:20260420T223819
CREATED:20200714T111935Z
LAST-MODIFIED:20210921T125656Z
UID:906-1616063400-1616067000@gact2.gact.terrassa.cat
SUMMARY:La botigueta
DESCRIPTION:DESCRIPCIÓ\n\nTeatre i titelles. \nA càrrec de: Tanaka Teatre \nA la botigueta de l’Amàlia es ven de tot: verdures\, cafè\, llegums a granel\, productes gourmet… Tot de clients estrafolaris necessitaran l’ajuda del públic per descobrir allò que s’amaga rere de cada producte i el que cal saber per fer una bona compra. I és que La botigueta no és un comerç qualsevol\, perquè entre les caixes i pots del magatzem s’amaguen sorpreses. Podrà la botigueta seguir oberta gaire temps? Aguantarà la competència de les grans companyies? Suportarà l’Amàlia les extravagàncies dels seus clients?\nAtreveix-te a entrar a la seva botiga màgica i diverteix-te aprenent els drets i deures dels consumidors per convertir-te en un comprador amb súper poders! \nS’haurà d’estar al teatre a les 10 hores.
URL:https://gact2.gact.terrassa.cat/activitat/la-botigueta/
LOCATION:Teatre Principal\, Plaça Pi i Maragall\, 2\, Terrassa\, Barcelona\, 08221\, Espanya
CATEGORIES:Educació artística
ATTACH;FMTTYPE=image/jpeg:https://gact2.gact.terrassa.cat/wp-content/uploads/2020/07/la_botigueta.jpg
ORGANIZER;CN="Servei de Consum":MAILTO:consum@terrassa.cat
END:VEVENT
END:VCALENDAR