BEGIN:VCALENDAR
VERSION:2.0
PRODID:-//Guia d&#039;activitats (proves) - ECPv6.15.0.1//NONSGML v1.0//EN
CALSCALE:GREGORIAN
METHOD:PUBLISH
X-WR-CALNAME:Guia d&#039;activitats (proves)
X-ORIGINAL-URL:https://gact2.gact.terrassa.cat
X-WR-CALDESC:Esdeveniments per Guia d&#039;activitats (proves)
REFRESH-INTERVAL;VALUE=DURATION:PT1H
X-Robots-Tag:noindex
X-PUBLISHED-TTL:PT1H
BEGIN:VTIMEZONE
TZID:Europe/Madrid
BEGIN:DAYLIGHT
TZOFFSETFROM:+0100
TZOFFSETTO:+0200
TZNAME:CEST
DTSTART:20210328T010000
END:DAYLIGHT
BEGIN:STANDARD
TZOFFSETFROM:+0200
TZOFFSETTO:+0100
TZNAME:CET
DTSTART:20211031T010000
END:STANDARD
BEGIN:DAYLIGHT
TZOFFSETFROM:+0100
TZOFFSETTO:+0200
TZNAME:CEST
DTSTART:20220327T010000
END:DAYLIGHT
BEGIN:STANDARD
TZOFFSETFROM:+0200
TZOFFSETTO:+0100
TZNAME:CET
DTSTART:20221030T010000
END:STANDARD
END:VTIMEZONE
BEGIN:VEVENT
DTSTART;VALUE=DATE:20210909
DTEND;VALUE=DATE:20220618
DTSTAMP:20260421T021405
CREATED:20201023T102356Z
LAST-MODIFIED:20210923T114505Z
UID:1465-1631145600-1655510399@gact2.gact.terrassa.cat
SUMMARY:Reciclem el paper
DESCRIPTION:DESCRIPCIÓ\n\nCada dia tots nosaltres fem servir paper en moltes activitats de la vida quotidiana però no som conscients de quin impacte té la seva fabricació sobre el medi ambient. En aquest taller aprendrem d’on ve el paper\, què passa als ecosistemes si en fem servir molt i quines maneres existeixen per reduir-ne el consum. Per acabar\, fabricarem el nostre paper reciclat amb fulls usats i el podrem decorar com vulguem!
URL:https://gact2.gact.terrassa.cat/activitat/reciclem-el-paper/
LOCATION:Centre Educatiu\, Terrassa\, Barcelona\, Espanya
CATEGORIES:Medi ambient i sostenibilitat
ATTACH;FMTTYPE=image/png:https://gact2.gact.terrassa.cat/wp-content/uploads/2020/07/foto_reciclem_paper-e1603448593426.png
ORGANIZER;CN="Servei de Medi Ambient":MAILTO:medi.ambient@terrassa.cat
END:VEVENT
BEGIN:VEVENT
DTSTART;VALUE=DATE:20210909
DTEND;VALUE=DATE:20220618
DTSTAMP:20260421T021405
CREATED:20201020T120314Z
LAST-MODIFIED:20210923T114400Z
UID:1578-1631145600-1655510399@gact2.gact.terrassa.cat
SUMMARY:Fem joguines ecològiques
DESCRIPTION:DESCRIPCIÓ\n\nLes societats que formen part del món desenvolupat generen un elevadíssim nombre de residus de tota mena. A través d’aquest taller es fomenta en un primer lloc l’estalvi com a eina per a solidaritzar-se amb aquelles persones que no poden disposar\, com nosaltres\, de molts productes que ens faciliten la vida. \nA més\, el taller de joguines ecològiques és una activitat que farà treballar la imaginació i l’habilitat manual dels alumnes a l’hora de fabricar les joguines i així adonar-se de la importància de la Reducció\, Reutilització i el Reciclatge dels residus. \nEn una primera part es fa una reflexió sobre la gran producció de deixalles a les nostres ciutats i la dificultat dels seu tractament. Tot seguit s’aprofundeix en “la regla de les tres R: Reduir\, Reutilitzar i Reciclar” per poder-la aplicar cadascun de nosaltres a casa\, a l’escola\, a la feina…\nA continuació cada nen i cada nena començarà a fer la seva pròpia joguina amb les deixalles que hagi portat a l’aula. \nEl taller finalitza amb la classificació en diferents recipients o sacs de plàstic\, de les deixalles que no hem fet servir. Així facilitem la seva recollida selectiva en els contenidors especials de l’escola o bé del carrer.
URL:https://gact2.gact.terrassa.cat/activitat/fem-joguines-ecologiques/
LOCATION:Centre Educatiu\, Terrassa\, Barcelona\, Espanya
CATEGORIES:Medi ambient i sostenibilitat
ATTACH;FMTTYPE=image/png:https://gact2.gact.terrassa.cat/wp-content/uploads/2020/07/logo_fundació_sigea-e1603195337961.png
ORGANIZER;CN="Servei de Medi Ambient":MAILTO:medi.ambient@terrassa.cat
END:VEVENT
BEGIN:VEVENT
DTSTART;VALUE=DATE:20210909
DTEND;VALUE=DATE:20220618
DTSTAMP:20260421T021405
CREATED:20201016T112624Z
LAST-MODIFIED:20210923T114300Z
UID:1568-1631145600-1655510399@gact2.gact.terrassa.cat
SUMMARY:Parlem gos?
DESCRIPTION:DESCRIPCIÓ\n\nPoder expressar-se és molt important\, que sentim quan no ens podem comunicar? No es passa gaire bé. Ens convertirem en gossos per una estona i “parlarem” com ells.\nTaller dinàmic\, amb molts jocs d’imitació\, on els infants aprendran a veure els senyals que els animals els fan per expressar-se i saber actuar com cal. Utilitzarem la llengua de signes com a vehicle per demostrar que solament amb l’expressió facial i els gestos es poden dir moltes coses\, de la mateixa manera que els animals\, que també utilitzen la seva expressió\, els sons i el cos per comunicar-se.
URL:https://gact2.gact.terrassa.cat/activitat/parlem-gos/
LOCATION:Centre Educatiu\, Terrassa\, Barcelona\, Espanya
CATEGORIES:Medi ambient i sostenibilitat
ATTACH;FMTTYPE=image/jpeg:https://gact2.gact.terrassa.cat/wp-content/uploads/2020/07/foto_parlem_gos-e1602847497850.jpg
ORGANIZER;CN="Servei de Medi Ambient":MAILTO:medi.ambient@terrassa.cat
END:VEVENT
BEGIN:VEVENT
DTSTART;VALUE=DATE:20210909
DTEND;VALUE=DATE:20220618
DTSTAMP:20260421T021405
CREATED:20201016T111748Z
LAST-MODIFIED:20210923T114211Z
UID:1668-1631145600-1655510399@gact2.gact.terrassa.cat
SUMMARY:Els animals de companyia ens necessiten!
DESCRIPTION:DESCRIPCIÓ\n\nUna simpàtica infermera d’animals va a l’aula per demanar ajuda als infants\, ja que ha vist que els animals no es troben bé. Les seves necessitats bàsiques no estan satisfetes i necessiten que els infants els puguin ajudar.\nMitjançant preguntes i jocs intentarem conscienciar de quins son els animals que podem tenir a casa\, així com conèixer les seves necessitats bàsiques: com hem de cuidar la seva salut\, temps que els hi hem de dedicar\, llocs on han de viure.
URL:https://gact2.gact.terrassa.cat/activitat/els-animals-de-companyia-ens-necessiten/
LOCATION:Centre Educatiu\, Terrassa\, Barcelona\, Espanya
CATEGORIES:Medi ambient i sostenibilitat
ATTACH;FMTTYPE=image/jpeg:https://gact2.gact.terrassa.cat/wp-content/uploads/2020/07/foto_animals_necessiten-e1602846999530.jpg
ORGANIZER;CN="Servei de Medi Ambient":MAILTO:medi.ambient@terrassa.cat
END:VEVENT
BEGIN:VEVENT
DTSTART;VALUE=DATE:20210909
DTEND;VALUE=DATE:20220618
DTSTAMP:20260421T021405
CREATED:20201016T110218Z
LAST-MODIFIED:20210923T114114Z
UID:1696-1631145600-1655510399@gact2.gact.terrassa.cat
SUMMARY:El gos Tico i la gateta Rita tenen una nova casa
DESCRIPTION:DESCRIPCIÓ\n\nUn gos i una gateta una mica entremaliats son adoptats per diferents famílies però sempre tornen a la protectora. Després de passar forces aventures i conèixer a diferents amics a cada casa\, finalment troben un propietari que els entén i els estima de veritat i on troben un lloc molt bonic per viure. Un conte dinàmic on participen els infants amb les accions dels animals i acabaran fent un personatge del conte amb materials reciclats. \n 
URL:https://gact2.gact.terrassa.cat/activitat/el-gos-tico-i-la-gateta-rita-tenen-una-nova-casa/
LOCATION:Centre Educatiu\, Terrassa\, Barcelona\, Espanya
CATEGORIES:Medi ambient i sostenibilitat
ATTACH;FMTTYPE=image/png:https://gact2.gact.terrassa.cat/wp-content/uploads/2020/07/foto_el_gos_tico-e1602846090801.png
ORGANIZER;CN="Servei de Medi Ambient":MAILTO:medi.ambient@terrassa.cat
END:VEVENT
BEGIN:VEVENT
DTSTART;VALUE=DATE:20210909
DTEND;VALUE=DATE:20220618
DTSTAMP:20260421T021405
CREATED:20201016T093516Z
LAST-MODIFIED:20210923T114010Z
UID:1416-1631145600-1655510399@gact2.gact.terrassa.cat
SUMMARY:SSShh! El soroll a la nostra ciutat
DESCRIPTION:DESCRIPCIÓ\n\nS’inicia amb una activitat experimental en la que s’organitza una orquestra amb el grup on cada alumne tracta de reproduir el so de l’instrument seleccionat. El resultat permetrà una primera descripció participativa sobre les sensacions que generen els sons. S’elabora un paisatge sonor per grups\, a partir d’un llistat de sons i sorolls que s’escolten des de l’aula. Es visualitza la diferència entre so i soroll\, es coneix la unitat de mesura i l’aparell que s’utilitza per mesurar.\nCada grup presenta el seu paisatge a la resta i aporten propostes per tal de transformar-lo i millorar-lo. \nMaterial a càrrec del professional que fa l’activitat. El centre educatiu pot descarregar en el mòbil dels adults acompanyants una aplicació digital de mesura del so facilitada per l’entitat.  \n 
URL:https://gact2.gact.terrassa.cat/activitat/ssshh-el-soroll-a-la-nostra-ciutat/
LOCATION:Centre Educatiu\, Terrassa\, Barcelona\, Espanya
CATEGORIES:Medi ambient i sostenibilitat
ATTACH;FMTTYPE=image/jpeg:https://gact2.gact.terrassa.cat/wp-content/uploads/2020/10/soroll_a_la_nostra_ciutat-e1602840833473.jpg
ORGANIZER;CN="Servei de Medi Ambient":MAILTO:medi.ambient@terrassa.cat
END:VEVENT
BEGIN:VEVENT
DTSTART;VALUE=DATE:20210909
DTEND;VALUE=DATE:20220618
DTSTAMP:20260421T021405
CREATED:20201016T090156Z
LAST-MODIFIED:20210923T113911Z
UID:1686-1631145600-1655510399@gact2.gact.terrassa.cat
SUMMARY:Mesurem la contaminació
DESCRIPTION:DESCRIPCIÓ\n\nL’activitat a l’aire lliure que es basa la realització de 5 proves en les que l’alumnat podrà mesurar diferents paràmetres ambientals (soroll\, temperatura\, concentració de diòxid de carboni\, etc.) que permetran entendre quins són els tipus de contaminació ambiental presents a l’entorn\, quina relació tenen amb els nostres hàbits quotidians i quins efectes tenen sobre la nostra salut\, la biodiversitat i l’entorn.\nUna de les proves consisteix en visitar l’estació de mesurament de la qualitat de l’aire de la Xarxa de Prevenció i Vigilància de la contaminació atmosfèrica de la Generalitat de Catalunya.\nLa posada en comú final permetrà assolir una visió global de la nostra ciutat i treballar per millorar la qualitat ambiental del nostre entorn.\nÉs imprescindible la presència de 2 docents perquè les proves es reparteixen en 2 espais diferents. \nNombre màxim d’alumnat que pot participar: 1 grup classe. Es poden fer 2 grups consecutius en el mateix matí.
URL:https://gact2.gact.terrassa.cat/activitat/mesurem-la-contaminacio/
LOCATION:Plaça Parc dels Catalans\, Plaça Parc dels Catalans\, Terrassa\, Barcelona\, 08221\, Espanya
CATEGORIES:Medi ambient i sostenibilitat
ATTACH;FMTTYPE=image/jpeg:https://gact2.gact.terrassa.cat/wp-content/uploads/2020/07/mesurem-la-contaminacio_2-e1602838784157.jpg
ORGANIZER;CN="Servei de Medi Ambient":MAILTO:medi.ambient@terrassa.cat
END:VEVENT
BEGIN:VEVENT
DTSTART;VALUE=DATE:20210909
DTEND;VALUE=DATE:20220618
DTSTAMP:20260421T021405
CREATED:20201008T104846Z
LAST-MODIFIED:20210923T113045Z
UID:1575-1631145600-1655510399@gact2.gact.terrassa.cat
SUMMARY:Les aventures d'una llavor
DESCRIPTION:DESCRIPCIÓ\n\nActivitat que possibilita una primera aproximació a l’ecosistema de l’hort ecològic mitjançant la descoberta dels seus elements principals: les llavors. La descoberta es realitza a través d’un conte inicial i del contacte directe amb diferents llavors d’hortalisses. La proposta educativa contempla 3 parts diferenciades: el conte\, el reconeixement i descoberta de diferents llavors i la sembra d’una llavor de temporada. La metodologia de treball varia en els diferents moments de la sessió\, possibilitant les relacions dels infants a través del treball en grup i el reconeixement de les pròpies capacitats mitjançant l’experimentació individual.
URL:https://gact2.gact.terrassa.cat/activitat/les-aventures-duna-llavor/
LOCATION:Centre Educatiu\, Terrassa\, Barcelona\, Espanya
CATEGORIES:Medi ambient i sostenibilitat
ATTACH;FMTTYPE=image/jpeg:https://gact2.gact.terrassa.cat/wp-content/uploads/2020/07/llavors_1-e1602154062560.jpg
ORGANIZER;CN="Servei de Medi Ambient":MAILTO:medi.ambient@terrassa.cat
END:VEVENT
BEGIN:VEVENT
DTSTART;VALUE=DATE:20210909
DTEND;VALUE=DATE:20220618
DTSTAMP:20260421T021405
CREATED:20201008T084301Z
LAST-MODIFIED:20210923T112842Z
UID:1581-1631145600-1655510399@gact2.gact.terrassa.cat
SUMMARY:L'hort a l'escola
DESCRIPTION:DESCRIPCIÓ\n\nConferencia oral a càrrec de l’educador on es fa una introducció a la horticultura: s’explica què és un hort\, els animals que hi podem trobar\, les eines que es fan servir\, els passos que cal seguir per fer i mantenir un hort\, les hortalisses més comuns\, les parts que ens mengem d’aquestes hortalisses\, etc. Els alumnes per grups sembren i planten diferents hortalisses amb l’ajut de l’educador/a. L’alumne aprèn a sembrar\, regar i tenir cura d’aquestes plantes\, podent recollir la collita en el futur. El kit de taller consta de jardineres\, terra\, llavors de diverses hortalisses\, regadora i dibuixos d’hortalisses o una fitxa per l’equip de pagesos o un calendari de pagès. \n 
URL:https://gact2.gact.terrassa.cat/activitat/lhort-a-lescola/
LOCATION:Centre Educatiu\, Terrassa\, Barcelona\, Espanya
CATEGORIES:Medi ambient i sostenibilitat
ATTACH;FMTTYPE=image/png:https://gact2.gact.terrassa.cat/wp-content/uploads/2020/07/foto_hort_escola-e1602145904714.png
ORGANIZER;CN="Servei de Medi Ambient":MAILTO:medi.ambient@terrassa.cat
END:VEVENT
BEGIN:VEVENT
DTSTART;VALUE=DATE:20210909
DTEND;VALUE=DATE:20220618
DTSTAMP:20260421T021405
CREATED:20201002T104650Z
LAST-MODIFIED:20210923T112708Z
UID:1642-1631145600-1655510399@gact2.gact.terrassa.cat
SUMMARY:Eco-escola: com cuidar el medi ambient
DESCRIPTION:DESCRIPCIÓ\n\nA tots ens agrada tenir boscs prop de la ciutat\, respirar aire net i veure animals salvatges prop de casa\, per això contribuïm a tenir cura del medi ambient. Però\, ho estem fent bé? En aquest taller aprendrem què podem fer cada un de nosaltres a l’escola per millorar el nostre entorn\, com reciclar\, com reduir els residus que generem a classe\, com estalviar aigua quan anem al wc i llum a l’aula\, etc. Farem un petit estudi de l’impacte que tenim sobre el medi que ens rodeja i quines tècniques que apliquem a l’escola podem aplicar també a casa. Per acabar\, realitzarem una dinàmica per a obtenir solucions als problemes que hem detectat i rebrem de regal un raspall de dents biodegradable de bambú! \n 
URL:https://gact2.gact.terrassa.cat/activitat/eco-escola-com-cuidar-el-medi-ambient/
LOCATION:Centre Educatiu\, Terrassa\, Barcelona\, Espanya
CATEGORIES:Medi ambient i sostenibilitat
ATTACH;FMTTYPE=image/png:https://gact2.gact.terrassa.cat/wp-content/uploads/2020/07/bosc_de_llum_eco_escola.png
ORGANIZER;CN="Servei de Medi Ambient":MAILTO:medi.ambient@terrassa.cat
END:VEVENT
BEGIN:VEVENT
DTSTART;VALUE=DATE:20210909
DTEND;VALUE=DATE:20220618
DTSTAMP:20260421T021405
CREATED:20200928T121228Z
LAST-MODIFIED:20210923T112549Z
UID:1462-1631145600-1655510399@gact2.gact.terrassa.cat
SUMMARY:Coneguem els nostres parcs
DESCRIPTION:DESCRIPCIÓ\n\nItinerari de descoberta de la natura guiat a la Casa Nova de l’Obac. \nPossibilitat d’inscripció de més d’un grup classe.
URL:https://gact2.gact.terrassa.cat/activitat/coneguem-els-nostres-parcs/
LOCATION:Casa Nova de l’Obac\, Ctra. de Terrassa a Rellinars\, km 10\, Terrassa\, Barcelona\, 08222
CATEGORIES:Medi ambient i sostenibilitat
ATTACH;FMTTYPE=image/jpeg:https://gact2.gact.terrassa.cat/wp-content/uploads/2020/09/Casa_Nova_Obac-e1601294657946.jpg
ORGANIZER;CN="Servei de Medi Ambient":MAILTO:medi.ambient@terrassa.cat
END:VEVENT
BEGIN:VEVENT
DTSTART;VALUE=DATE:20210909
DTEND;VALUE=DATE:20220618
DTSTAMP:20260421T021405
CREATED:20200916T122453Z
LAST-MODIFIED:20210923T111724Z
UID:1593-1631145600-1655510399@gact2.gact.terrassa.cat
SUMMARY:Vehicles elèctrics
DESCRIPTION:DESCRIPCIÓ\n\nTaller pràctic i dinàmic que consta de dues parts. A l’aula s’expliquen els avantatges dels vehicles elèctrics davant dels de benzina\, en quant al soroll\, la contaminació i el canvi climàtic. I al pati de l’escola es mostra una bicicleta elèctrica i l’alumnat pot provar com funciona. \n  \n  \n 
URL:https://gact2.gact.terrassa.cat/activitat/vehicles-electrics/
LOCATION:Centre Educatiu\, Terrassa\, Barcelona\, Espanya
CATEGORIES:Medi ambient i sostenibilitat
ATTACH;FMTTYPE=image/jpeg:https://gact2.gact.terrassa.cat/wp-content/uploads/2020/07/ventajas-vehiculos-electricos-1400x800-1-e1601031918513.jpg
ORGANIZER;CN="Servei de Medi Ambient":MAILTO:medi.ambient@terrassa.cat
END:VEVENT
BEGIN:VEVENT
DTSTART;VALUE=DATE:20210909
DTEND;VALUE=DATE:20220618
DTSTAMP:20260421T021405
CREATED:20200916T115801Z
LAST-MODIFIED:20210923T093723Z
UID:1572-1631145600-1655510399@gact2.gact.terrassa.cat
SUMMARY:Camí Escolar\, trepitgem la ciutat
DESCRIPTION:L’activitat s’inicia amb un debat a l’aula per definir el camí escolar particular del centre\, els avantatges i inconvenients de la seva situació i usuaris\, i plantejar possibilitats de canvi a través dels propis hàbits per tendir a la mobilitat sostenible. \nDesprés es fa un itinerari de descoberta de l’entorn del centre. On el grup classe surt al carrer per representar escenes que es poden donar durant el seu camí escolar i analitzar-les críticament. Finalment\, en grups\, es plantegen propostes de millora de l’entorn\, en benefici de la pròpia autonomia i dels desplaçaments amb mitjans actius\, que queden plasmades a una senyal de trànsit que poden exposar públicament a l’aula o al centre \nDurada: 2 h
URL:https://gact2.gact.terrassa.cat/activitat/cami-escolar-trepitgem-la-ciutat/
LOCATION:Centre Educatiu\, Terrassa\, Barcelona\, Espanya
CATEGORIES:Medi ambient i sostenibilitat
ATTACH;FMTTYPE=image/jpeg:https://gact2.gact.terrassa.cat/wp-content/uploads/2020/07/Camins-escolars-1-scaled-e1600257346188.jpg
ORGANIZER;CN="Servei de Medi Ambient":MAILTO:medi.ambient@terrassa.cat
END:VEVENT
BEGIN:VEVENT
DTSTART;VALUE=DATE:20210111
DTEND;VALUE=DATE:20210601
DTSTAMP:20260421T021405
CREATED:20201029T085134Z
LAST-MODIFIED:20210512T113122Z
UID:1401-1610323200-1622505599@gact2.gact.terrassa.cat
SUMMARY:Els oficis de l'Anella Verda
DESCRIPTION:DESCRIPCIÓ\n\nL’activitat s’introdueix amb un joc audiovisual per presentar l’Anella verda i els espais agraris que s’hi conserven. A traves d’una dinàmica de joc\, ens organitzarem en gremis\, ens guarnirem per a l’ocasió i anirem realitzant proves per passar d’aprenents a oficials\, i d’oficials a mestres. Treballarem amb objectes del passat agrari i tèxtil del nostre territori per identificar processos de treball antics\, des de la matèria primera al producte acabat. Cada participant decorarà una de les rajoles catalanes d’arts i oficis que tan de moda es van posar a l’època. \nAquesta activitat també es pot realitzar en format ON-LINE. \n 
URL:https://gact2.gact.terrassa.cat/activitat/els-oficis-de-lanella-verda/
LOCATION:Centre Educatiu\, Terrassa\, Barcelona\, Espanya
CATEGORIES:Medi ambient i sostenibilitat
ATTACH;FMTTYPE=image/jpeg:https://gact2.gact.terrassa.cat/wp-content/uploads/2020/07/tiet_miquel-e1603961435160.jpg
ORGANIZER;CN="Servei de Medi Ambient":MAILTO:medi.ambient@terrassa.cat
END:VEVENT
BEGIN:VEVENT
DTSTART;VALUE=DATE:20210111
DTEND;VALUE=DATE:20210619
DTSTAMP:20260421T021405
CREATED:20201027T104141Z
LAST-MODIFIED:20210512T120859Z
UID:1662-1610323200-1624060799@gact2.gact.terrassa.cat
SUMMARY:En Blauet
DESCRIPTION:DESCRIPCIÓ\n\nConte amb titelles de gran format per explicar la història d’en Blauet\, un ocell que viu als torrents de l’Anella Verda de Terrassa. En Blauet està content que la ciutat hagi recuperat aquest espai però es va trobant amics que li fan veure que encara queda feina per fer. Amb l’activitat els infants descobreixen l’Anella Verda i busquen solucions per ajudar a preservar el nostre entorn natural. Al final de l’activitat\, cada infant fa una petita titella per endur-se a casa. \nLloc de realització: A l’aula de l’escola (durant la crisi del COVID19 també es podrà fer ON-LINE). \n 
URL:https://gact2.gact.terrassa.cat/activitat/en-blauet/
LOCATION:Centre Educatiu\, Terrassa\, Barcelona\, Espanya
CATEGORIES:Medi ambient i sostenibilitat
ATTACH;FMTTYPE=image/jpeg:https://gact2.gact.terrassa.cat/wp-content/uploads/2020/07/en-blauet-i-el-follet-scaled-e1603795245747.jpg
ORGANIZER;CN="Servei de Medi Ambient":MAILTO:medi.ambient@terrassa.cat
END:VEVENT
END:VCALENDAR