BEGIN:VCALENDAR
VERSION:2.0
PRODID:-//Guia d&#039;activitats (proves) - ECPv6.15.0.1//NONSGML v1.0//EN
CALSCALE:GREGORIAN
METHOD:PUBLISH
X-WR-CALNAME:Guia d&#039;activitats (proves)
X-ORIGINAL-URL:https://gact2.gact.terrassa.cat
X-WR-CALDESC:Esdeveniments per Guia d&#039;activitats (proves)
REFRESH-INTERVAL;VALUE=DURATION:PT1H
X-Robots-Tag:noindex
X-PUBLISHED-TTL:PT1H
BEGIN:VTIMEZONE
TZID:Europe/Madrid
BEGIN:DAYLIGHT
TZOFFSETFROM:+0100
TZOFFSETTO:+0200
TZNAME:CEST
DTSTART:20210328T010000
END:DAYLIGHT
BEGIN:STANDARD
TZOFFSETFROM:+0200
TZOFFSETTO:+0100
TZNAME:CET
DTSTART:20211031T010000
END:STANDARD
BEGIN:DAYLIGHT
TZOFFSETFROM:+0100
TZOFFSETTO:+0200
TZNAME:CEST
DTSTART:20220327T010000
END:DAYLIGHT
BEGIN:STANDARD
TZOFFSETFROM:+0200
TZOFFSETTO:+0100
TZNAME:CET
DTSTART:20221030T010000
END:STANDARD
END:VTIMEZONE
BEGIN:VEVENT
DTSTART;VALUE=DATE:20210913
DTEND;VALUE=DATE:20220618
DTSTAMP:20260421T020955
CREATED:20200914T130840Z
LAST-MODIFIED:20210927T120033Z
UID:1559-1631491200-1655510399@gact2.gact.terrassa.cat
SUMMARY:Ambicia't a l'institut
DESCRIPTION:DESCRIPCIÓ\n\nL’AMBICIA’T és un curs de conducció en bicicleta de 6 hores de durada que pretén fomentar l’ús de la bicicleta com a mitjà de transport urbà habitual en l’alumnat escolar . S’estructura en 3 nivells de formació: \n1. Aprendre a controlar i dominar la bicicleta amb seguretat. La formació es farà al pati de l’escola o llocs similars sense trànsit.\n2. Circuit d’habilitats. Es treballen diferents obstacles físics que simulen en molts casos situacions normals de la via pública.\n3. Conducció bàsica al carrer. De manera que siguin capaços de pedalar amb el trànsit en trajectes curts i poc transitats.\nEls participants utilitzaran la seva bicicleta i casc i se’ls hi donarà un certificat d’aptitud. \nNombre màxim d’alumnat que pot participar:\n– Grups entre un màxim de 24 alumnes i un mínim de 10 per als nivells formatius 1.1 i 3.1\n– Grups entre un màxim de 12 i un mínim de 6 alumnes per als nivells formatius 1.2 i 2.\n– Grups entre un màxim de 8 i un mínim de 4 alumnes per al nivell formatius 3.2. \n 
URL:https://gact2.gact.terrassa.cat/activitat/ambiciat-a-linstitut/
LOCATION:Centre Educatiu\, Terrassa\, Barcelona\, Espanya
CATEGORIES:Medi ambient i sostenibilitat
ATTACH;FMTTYPE=image/jpeg:https://gact2.gact.terrassa.cat/wp-content/uploads/2020/07/ambiciat_terrassa-e1600088953554.jpg
END:VEVENT
END:VCALENDAR