BEGIN:VCALENDAR
VERSION:2.0
PRODID:-//Guia d&#039;activitats (proves) - ECPv6.15.0.1//NONSGML v1.0//EN
CALSCALE:GREGORIAN
METHOD:PUBLISH
X-WR-CALNAME:Guia d&#039;activitats (proves)
X-ORIGINAL-URL:https://gact2.gact.terrassa.cat
X-WR-CALDESC:Esdeveniments per Guia d&#039;activitats (proves)
REFRESH-INTERVAL;VALUE=DURATION:PT1H
X-Robots-Tag:noindex
X-PUBLISHED-TTL:PT1H
BEGIN:VTIMEZONE
TZID:Europe/Madrid
BEGIN:DAYLIGHT
TZOFFSETFROM:+0100
TZOFFSETTO:+0200
TZNAME:CEST
DTSTART:20210328T010000
END:DAYLIGHT
BEGIN:STANDARD
TZOFFSETFROM:+0200
TZOFFSETTO:+0100
TZNAME:CET
DTSTART:20211031T010000
END:STANDARD
BEGIN:DAYLIGHT
TZOFFSETFROM:+0100
TZOFFSETTO:+0200
TZNAME:CEST
DTSTART:20220327T010000
END:DAYLIGHT
BEGIN:STANDARD
TZOFFSETFROM:+0200
TZOFFSETTO:+0100
TZNAME:CET
DTSTART:20221030T010000
END:STANDARD
END:VTIMEZONE
BEGIN:VEVENT
DTSTART;VALUE=DATE:20210909
DTEND;VALUE=DATE:20220618
DTSTAMP:20260421T001441
CREATED:20201006T162618Z
LAST-MODIFIED:20210726T121229Z
UID:1563-1631145600-1655510399@gact2.gact.terrassa.cat
SUMMARY:Cinefòrum:  Prevenció de les relacions abusives en l'àmbit de la parella
DESCRIPTION:DESCRIPCIÓ\n\nVisionat d’una pel·lícula que aborda aspectes relacionats amb la violència masclista en l’àmbit de la parella i sessió de debat amb l’alumnat per reflexionar sobre:\n– el concepte de violència masclista\n– el cicle de la violència en les relacions de parella\n– tipus de violència en les relacions de parella\n– el mite de l’amor romàntic\n– els rols de gènere en les relacions de parella\n– diferents models de masculinitat \nCal escollir entre les pel·lícules “No estás sola Sara” (2009) de Carlos Sedes i “Yo soy la Juani” (2006) de Bigas Luna\, i assegurar que l’alumnat la visioni prèviament a la realització de l’activitat.
URL:https://gact2.gact.terrassa.cat/activitat/cineforum-prevencio-de-les-relacions-abusives-en-lambit-de-la-parella/
LOCATION:Centre Educatiu\, Terrassa\, Barcelona\, Espanya
CATEGORIES:Educació en valors
ATTACH;FMTTYPE=image/jpeg:https://gact2.gact.terrassa.cat/wp-content/uploads/2020/10/politiques_genere.jpg
ORGANIZER;CN="Servei de Pol%C3%ADtiques de G%C3%A8nere":MAILTO:polgenere@terrassa.cat
END:VEVENT
BEGIN:VEVENT
DTSTART;VALUE=DATE:20210909
DTEND;VALUE=DATE:20220618
DTSTAMP:20260421T001441
CREATED:20201006T162128Z
LAST-MODIFIED:20210726T120613Z
UID:1588-1631145600-1655510399@gact2.gact.terrassa.cat
SUMMARY:El meu cos no entén de cànons
DESCRIPTION:DESCRIPCIÓ\n\nEs tracta d’un taller presencial\, on es potencia la participació activa de l’alumnat per crear un espai educatiu d’intercanvi i aprenentatge col•lectiu.\nConceptes:\n– Influència externa sobre la nostra pròpia imatge.\n– Construcció d’ideals de bellesa que depenen de l’època i la cultura.\n– Publicitat sexista i indústria de la bellesa.\n– Rebuig del propi cos. Trastorns alimentaris (anorèxia i bulímia).\n– Autoestima i referents positius de cossos apoderats.
URL:https://gact2.gact.terrassa.cat/activitat/el-meu-cos-no-enten-de-canons/
LOCATION:Centre Educatiu\, Terrassa\, Barcelona\, Espanya
CATEGORIES:Educació en valors
ATTACH;FMTTYPE=image/jpeg:https://gact2.gact.terrassa.cat/wp-content/uploads/2020/10/politiques_genere.jpg
ORGANIZER;CN="Servei de Pol%C3%ADtiques de G%C3%A8nere":MAILTO:polgenere@terrassa.cat
END:VEVENT
BEGIN:VEVENT
DTSTART;VALUE=DATE:20210909
DTEND;VALUE=DATE:20220618
DTSTAMP:20260421T001441
CREATED:20201006T161037Z
LAST-MODIFIED:20210727T090318Z
UID:1503-1631145600-1655510399@gact2.gact.terrassa.cat
SUMMARY:Sexualitat: tu decideixes
DESCRIPTION:DESCRIPCIÓ\n\nEs tracta d’un taller presencial\, on es potencia la participació activa de l’alumnat per crear un espai educatiu d’intercanvi i aprenentatge col•lectiu.\nContinguts: En aquest taller abordarem la socialització de gènere i els rols sexuals\, els mites i falses creences associades a la sexualitat i la identitat de gènere i les preferències sexuals per potenciar una vivència alliberadora de la sexualitat i les relacions afectives. Alhora que tractarem els aspectes biològics i psicològics de la sexualitat\, com el coneixement del propi cos\, l’autoestima\, el desig i el plaer. Generarem un ambient de confiança i respecte on sentir-nos lliures per parlar\, preguntar i compartir.
URL:https://gact2.gact.terrassa.cat/activitat/sexualitat-tu-decideixes/
LOCATION:Centre Educatiu\, Terrassa\, Barcelona\, Espanya
CATEGORIES:Educació per la salut
ATTACH;FMTTYPE=image/jpeg:https://gact2.gact.terrassa.cat/wp-content/uploads/2020/10/politiques_genere.jpg
ORGANIZER;CN="Servei de Pol%C3%ADtiques de G%C3%A8nere":MAILTO:polgenere@terrassa.cat
END:VEVENT
BEGIN:VEVENT
DTSTART;VALUE=DATE:20210909
DTEND;VALUE=DATE:20220618
DTSTAMP:20260421T001441
CREATED:20201006T160223Z
LAST-MODIFIED:20210727T090653Z
UID:1557-1631145600-1655510399@gact2.gact.terrassa.cat
SUMMARY:Si m'estima... em donarà el seu password
DESCRIPTION:DESCRIPCIÓ\n\nEs tracta d’un taller presencial\, on es potencia la participació activa per crear un espai educatiu d’intercanvi i aprenentatge col•lectiu.\nContinguts:\nRiscs a Internet\, les xarxes socials i la telefonia mòbil. Drets i responsabilitats a la xarxa. Fer un bon ús de la xarxa i les noves tecnologies. Causes de la violència estructural i simbòlica vers les dones i a les relacions interpersonals. Desigualtats de gènere. Mites i falses creences associades a la violència de gènere entre joves.\nSexting\, sextorsió\, grooming i ciberassetjament. Bons usos i referents positius. \n 
URL:https://gact2.gact.terrassa.cat/activitat/si-mestima-em-donara-el-seu-password/
LOCATION:Centre Educatiu\, Terrassa\, Barcelona\, Espanya
CATEGORIES:Educació en valors
ATTACH;FMTTYPE=image/jpeg:https://gact2.gact.terrassa.cat/wp-content/uploads/2020/10/politiques_genere.jpg
ORGANIZER;CN="Servei de Pol%C3%ADtiques de G%C3%A8nere":MAILTO:polgenere@terrassa.cat
END:VEVENT
BEGIN:VEVENT
DTSTART;VALUE=DATE:20210909
DTEND;VALUE=DATE:20220618
DTSTAMP:20260421T001441
CREATED:20201006T155339Z
LAST-MODIFIED:20210726T121638Z
UID:1530-1631145600-1655510399@gact2.gact.terrassa.cat
SUMMARY:Igualtat d'oportunitats al món laboral
DESCRIPTION:DESCRIPCIÓ\n\nEs tracta d’un taller presencial\, de reflexió i debat sobre les motivacions i els estereotips que ens porten a escollir una formació o carrera professional i la discriminació que encara poden patir les dones en el món laboral. Prenent com a objectiu principal promocionar l’accés d’homes i dones a qualsevol tipus d’ocupació de forma positiva\, tenint en compte les seves habilitats\, competències i motivacions personals i descartant estereotips i divisions del treball per raó de sexe.
URL:https://gact2.gact.terrassa.cat/activitat/igualtat-doportunitats-al-mon-laboral/
LOCATION:Centre Educatiu\, Terrassa\, Barcelona\, Espanya
CATEGORIES:Educació en valors
ATTACH;FMTTYPE=image/jpeg:https://gact2.gact.terrassa.cat/wp-content/uploads/2020/10/politiques_genere.jpg
ORGANIZER;CN="Servei de Pol%C3%ADtiques de G%C3%A8nere":MAILTO:polgenere@terrassa.cat
END:VEVENT
BEGIN:VEVENT
DTSTART;VALUE=DATE:20210909
DTEND;VALUE=DATE:20220618
DTSTAMP:20260421T001441
CREATED:20201005T124835Z
LAST-MODIFIED:20210727T072634Z
UID:1511-1631145600-1655510399@gact2.gact.terrassa.cat
SUMMARY:Implica't a casa\, tu hi guanyes!
DESCRIPTION:DESCRIPCIÓ\n\nEs tracta d’un taller presencial\, participatiu i dinàmic\, mitjançant role-playing i suports audiovisuals\, que permeten la reflexió conjunta de les diferents responsabilitats i implicacions familiars derivades de les tasques domèstiques i manteniment d’una llar. \n 
URL:https://gact2.gact.terrassa.cat/activitat/implicat-a-casa-tu-hi-guanyes/
LOCATION:Centre Educatiu\, Terrassa\, Barcelona\, Espanya
CATEGORIES:Educació en valors
ATTACH;FMTTYPE=image/jpeg:https://gact2.gact.terrassa.cat/wp-content/uploads/2020/10/politiques_genere.jpg
ORGANIZER;CN="Servei de Pol%C3%ADtiques de G%C3%A8nere":MAILTO:polgenere@terrassa.cat
END:VEVENT
BEGIN:VEVENT
DTSTART;VALUE=DATE:20210909
DTEND;VALUE=DATE:20220618
DTSTAMP:20260421T001441
CREATED:20201005T093924Z
LAST-MODIFIED:20210727T085230Z
UID:1504-1631145600-1655510399@gact2.gact.terrassa.cat
SUMMARY:Relacionar-se sense violència en la parella
DESCRIPTION:DESCRIPCIÓ\n\nActivitat interactiva tipus taller en la qual l’alumnat participi en el propi procés d’aprenentatge sobre els següents continguts:\n. Conèixer els conceptes de gènere; masclisme i patriarcat.\n. Mecanismes de la manipulació i l’abús en la relació afectiu-sexual.\n. Identificar com a maltractes conductes que atempten contra la integritat mental o física d’una altra persona.\n. Conèixer les conseqüències de la violència en la salut física i emocional en l’àmbit familiar i en les relacions socials.\n. Reflexionar entorn els models de feminitat i masculinitat que apareixen representats en la música i les sèries televisives.\n. Identificar nous mecanismes de control i assetjament a partir de les xarxes socials.\n. Conèixer quines són les “App’s” i altres recursos als quals adreçar-se quan es coneix o pateix una situació de violència de parella. \n 
URL:https://gact2.gact.terrassa.cat/activitat/relacionar-se-sense-violencia/
LOCATION:Centre Educatiu\, Terrassa\, Barcelona\, Espanya
CATEGORIES:Educació en valors
ATTACH;FMTTYPE=image/jpeg:https://gact2.gact.terrassa.cat/wp-content/uploads/2020/10/politiques_genere.jpg
ORGANIZER;CN="Servei de Pol%C3%ADtiques de G%C3%A8nere":MAILTO:polgenere@terrassa.cat
END:VEVENT
BEGIN:VEVENT
DTSTART;VALUE=DATE:20210909
DTEND;VALUE=DATE:20220618
DTSTAMP:20260421T001441
CREATED:20201005T092335Z
LAST-MODIFIED:20210727T073100Z
UID:1498-1631145600-1655510399@gact2.gact.terrassa.cat
SUMMARY:Tinc una amiga que diu que li agrades. Maneres de lligar...tot s’hi val?”
DESCRIPTION:DESCRIPCIÓ\n\nEs tracta d’un taller presencial\, on parlarem de tots aquells estereotips i desigualtats de gènere que s’activen en el moment de lligar. Reflexionarem sobre les emocions que es posen en joc i sobre quin tipus de relacions volem construir\, fomentant unes relacions afectives i sexuals sanes i unes habilitats comunicatives que ens permetin relacionar-nos lliurement\nContinguts:\nQuè és lligar? Anàlisi de maneres de lligar estereotipades.\nAutoestima i deconstrucció dels cànons de bellesa.\nEl llenguatge emocional i la comunicació assertiva.\nEls límits personals. Saber dir no.
URL:https://gact2.gact.terrassa.cat/activitat/tinc-una-amiga-que-diu-que-li-agrades-maneres-de-lligar-tot-shi-val/
LOCATION:Centre Educatiu\, Terrassa\, Barcelona\, Espanya
CATEGORIES:Educació en valors
ATTACH;FMTTYPE=image/jpeg:https://gact2.gact.terrassa.cat/wp-content/uploads/2020/10/politiques_genere.jpg
ORGANIZER;CN="Servei de Pol%C3%ADtiques de G%C3%A8nere":MAILTO:polgenere@terrassa.cat
END:VEVENT
END:VCALENDAR