BEGIN:VCALENDAR
VERSION:2.0
PRODID:-//Guia d&#039;activitats (proves) - ECPv6.15.0.1//NONSGML v1.0//EN
CALSCALE:GREGORIAN
METHOD:PUBLISH
X-ORIGINAL-URL:https://gact2.gact.terrassa.cat
X-WR-CALDESC:Esdeveniments per Guia d&#039;activitats (proves)
REFRESH-INTERVAL;VALUE=DURATION:PT1H
X-Robots-Tag:noindex
X-PUBLISHED-TTL:PT1H
BEGIN:VTIMEZONE
TZID:Europe/Madrid
BEGIN:DAYLIGHT
TZOFFSETFROM:+0100
TZOFFSETTO:+0200
TZNAME:CEST
DTSTART:20210328T010000
END:DAYLIGHT
BEGIN:STANDARD
TZOFFSETFROM:+0200
TZOFFSETTO:+0100
TZNAME:CET
DTSTART:20211031T010000
END:STANDARD
BEGIN:DAYLIGHT
TZOFFSETFROM:+0100
TZOFFSETTO:+0200
TZNAME:CEST
DTSTART:20220327T010000
END:DAYLIGHT
BEGIN:STANDARD
TZOFFSETFROM:+0200
TZOFFSETTO:+0100
TZNAME:CET
DTSTART:20221030T010000
END:STANDARD
END:VTIMEZONE
BEGIN:VEVENT
DTSTART;VALUE=DATE:20210927
DTEND;VALUE=DATE:20220618
DTSTAMP:20260420T221948
CREATED:20201026T074744Z
LAST-MODIFIED:20210927T082241Z
UID:5843-1632700800-1655510399@gact2.gact.terrassa.cat
SUMMARY:Llavors al vent
DESCRIPTION:DESCRIPCIÓ\n\nTaller participatiu i experimental. Com és que milions de persones no tenen accés als aliments quan en cap moment de la història de la humanitat s’havia produït tant? Som el que mengem. Sabem bé què mengem? Hi ha un munt de decisions que podem prendre i que afecten la nostra salut.\nToquem i experimentem amb llavors de veritat. acabem la sessió amb una petita experiència creativa que recull les impressions i reflexions viscudes i observades.
URL:https://gact2.gact.terrassa.cat/activitat/llavors-al-vent/
LOCATION:Centre Educatiu\, Terrassa\, Barcelona\, Espanya
CATEGORIES:Educació per la salut
ATTACH;FMTTYPE=image/jpeg:https://gact2.gact.terrassa.cat/wp-content/uploads/2020/07/logo_Ombu_accio.jpg
ORGANIZER;CN="Servei de Solidaritat i Cooperaci%C3%B3 Internacional":MAILTO:solidaritat@terrassa.cat
END:VEVENT
BEGIN:VEVENT
DTSTART;VALUE=DATE:20210909
DTEND;VALUE=DATE:20220618
DTSTAMP:20260420T221948
CREATED:20201029T105212Z
LAST-MODIFIED:20220215T121016Z
UID:6325-1631145600-1655510399@gact2.gact.terrassa.cat
SUMMARY:Irènia\, jocs de pau
DESCRIPTION:DESCRIPCIÓ\n\nTaller – joc d’educació per la pau a escollir entre els diversos que s’ofereixen. \nConsultar amb l’entitat organitzadora tot el referent a aquesta activitat: horaris\, sessions\, preus… \nwww.irenia.net \nNombre màxim d’alumnat participant a cada sessió: 30 pax (1 grup classe) \nCost de l’activitat: Gratuït\, fins a un màxim d’1 taller/escola d’una línia i 2 tallers (escola de dues línies). El nombre de tallers gratuïts és limitat. S’atendran les demandes per estricte ordre d’arribada.  La resta de tallers que se sol·licitin tindran un cost de 120€/taller
URL:https://gact2.gact.terrassa.cat/activitat/irenia-jocs-de-pau/
LOCATION:Centre Educatiu\, Terrassa\, Barcelona\, Espanya
CATEGORIES:Educació en valors
ATTACH;FMTTYPE=image/png:https://gact2.gact.terrassa.cat/wp-content/uploads/2020/10/irenia1.png
ORGANIZER;CN="Ir%C3%A8nia%2C Jocs de Pau":MAILTO:coordinacio@irenia.net
END:VEVENT
BEGIN:VEVENT
DTSTART;VALUE=DATE:20210909
DTEND;VALUE=DATE:20220618
DTSTAMP:20260420T221948
CREATED:20201026T073021Z
LAST-MODIFIED:20220215T124353Z
UID:1737-1631145600-1655510399@gact2.gact.terrassa.cat
SUMMARY:Silencis
DESCRIPTION:DESCRIPCIÓ\n\nA partir d’imatges d’àlbums il·lustrat posem en evidència situacions en què es limita la llibertat d’expressió en diferents temps i llocs. Es treballa amb les emocions. Els infants treballen un supòsit de denúncia d’alguna cosa que els afecta i elaboren materials de comunicació creatius per fer-ho arribar a la resta del grup.
URL:https://gact2.gact.terrassa.cat/activitat/silencis/
LOCATION:Centre Educatiu\, Terrassa\, Barcelona\, Espanya
CATEGORIES:Educació en valors
ATTACH;FMTTYPE=image/jpeg:https://gact2.gact.terrassa.cat/wp-content/uploads/2020/07/logo_Ombu_accio.jpg
ORGANIZER;CN="Servei de Solidaritat i Cooperaci%C3%B3 Internacional":MAILTO:solidaritat@terrassa.cat
END:VEVENT
BEGIN:VEVENT
DTSTART;VALUE=DATE:20210909
DTEND;VALUE=DATE:20220618
DTSTAMP:20260420T221948
CREATED:20201015T103204Z
LAST-MODIFIED:20220215T121258Z
UID:1584-1631145600-1655510399@gact2.gact.terrassa.cat
SUMMARY:Aus migratòries
DESCRIPTION:DESCRIPCIÓ\n\nAus Migratòries ens parla de la Saída i la Eloïsa\, dues nenes que han de deixar les seves cases per arribar a un lloc que els és totalment desconegut. També ens parla de les vivències de milers de nenes i nens que cada any fan el camí com a emigrants; en solitud i d’amagat\,  lluny de les seves famílies\, i de les migracions al llarg de la història.\nTaller per sensibilitzar del fenomen de la migració mitjançant la lectura d’àlbums il·lustrats i una presentació audiovisual.\nEs proposa una activitat plàstica amb objectes simbòlics de la natura; que van creant com a recull de les emocions viscudes per allò compartit en relació a les migracions.
URL:https://gact2.gact.terrassa.cat/activitat/aus-migratories/
LOCATION:Centre Educatiu\, Terrassa\, Barcelona\, Espanya
CATEGORIES:Educació en valors
ATTACH;FMTTYPE=image/jpeg:https://gact2.gact.terrassa.cat/wp-content/uploads/2020/07/logo_Ombu_accio.jpg
ORGANIZER;CN="Servei de Solidaritat i Cooperaci%C3%B3 Internacional":MAILTO:solidaritat@terrassa.cat
END:VEVENT
BEGIN:VEVENT
DTSTART;VALUE=DATE:20210909
DTEND;VALUE=DATE:20220618
DTSTAMP:20260420T221948
CREATED:20201007T081612Z
LAST-MODIFIED:20220215T121527Z
UID:1542-1631145600-1655510399@gact2.gact.terrassa.cat
SUMMARY:Habitant el món
DESCRIPTION:DESCRIPCIÓ\n\nTaller plàstic sobre el dret a l’habitatge en el que l’alumnat descobrirà com viuen les nenes i els nens en barris de barraques o faveles. A través d’un treball basat en l’empatia l’alumnat reflexionarà sobre què és l’essencial per ser un habitatge digne. L’alumnat elaborarà una maqueta d’una ciutat.
URL:https://gact2.gact.terrassa.cat/activitat/habitant-el-mon/
LOCATION:Centre Educatiu\, Terrassa\, Barcelona\, Espanya
CATEGORIES:Educació en valors
ATTACH;FMTTYPE=image/jpeg:https://gact2.gact.terrassa.cat/wp-content/uploads/2020/07/foto_habitant_el_mon-e1602058542705.jpg
ORGANIZER;CN="Servei de Solidaritat i Cooperaci%C3%B3 Internacional":MAILTO:solidaritat@terrassa.cat
END:VEVENT
BEGIN:VEVENT
DTSTART;VALUE=DATE:20210909
DTEND;VALUE=DATE:20220618
DTSTAMP:20260420T221948
CREATED:20201007T080003Z
LAST-MODIFIED:20220215T121716Z
UID:1541-1631145600-1655510399@gact2.gact.terrassa.cat
SUMMARY:La Nur i en Llorenç cerquen un pais en pau
DESCRIPTION:DESCRIPCIÓ\n\nTaller plàstic que a través de la conversa i l’anàlisi d’imatges de llibres il·lustrats portarà l’alumnat a elaborar un petit llibre d’artista. L’objectiu és treballar sobre les emocions i l’expressió lliure. L’empatia envers les persones refugiades i exiliades.
URL:https://gact2.gact.terrassa.cat/activitat/la-nur-i-en-llorenc-cerquen-un-pais-en-pau/
LOCATION:Centre Educatiu\, Terrassa\, Barcelona\, Espanya
CATEGORIES:Educació en valors
ATTACH;FMTTYPE=image/jpeg:https://gact2.gact.terrassa.cat/wp-content/uploads/2020/07/La_Nur_Llorenç_Aquest.jpg
ORGANIZER;CN="Servei de Solidaritat i Cooperaci%C3%B3 Internacional":MAILTO:solidaritat@terrassa.cat
END:VEVENT
BEGIN:VEVENT
DTSTART;VALUE=DATE:20210909
DTEND;VALUE=DATE:20211202
DTSTAMP:20260420T221948
CREATED:20210720T111301Z
LAST-MODIFIED:20210720T111301Z
UID:9681-1631145600-1638403199@gact2.gact.terrassa.cat
SUMMARY:Taller de piruletes de xocolata de Comerç Just
DESCRIPTION:DESCRIPCIÓ\nConeixerem el procés d’elaboració de la xocolata a partir de la història del Kevin i la seva família\, a Costa d’Ivori. A més\, tocarem\, olorarem i tastarem el cacau I acabarem fent una piruleta de xocolata decorada. \n 
URL:https://gact2.gact.terrassa.cat/activitat/taller-de-piruletes-de-xocolata-de-comerc-just/
LOCATION:Centre Educatiu\, Terrassa\, Barcelona\, Espanya
ATTACH;FMTTYPE=image/png:https://gact2.gact.terrassa.cat/wp-content/uploads/2020/07/logo_alternativa3.png
ORGANIZER;CN="Servei de Solidaritat i Cooperaci%C3%B3 Internacional":MAILTO:solidaritat@terrassa.cat
END:VEVENT
BEGIN:VEVENT
DTSTART;VALUE=DATE:20210909
DTEND;VALUE=DATE:20211202
DTSTAMP:20260420T221948
CREATED:20210720T105517Z
LAST-MODIFIED:20210720T105707Z
UID:9676-1631145600-1638403199@gact2.gact.terrassa.cat
SUMMARY:Tast de cafè de Comerç Just
DESCRIPTION:DESCRIPCIÓ\nEl tast de cafè de Comerç Just vol donar a conèixer les diferències entre el Comerç just i el comerç convencional\, a partir d’una activitat innovadora i atraient.\nS’explica el procés d’elaboració del cafè de Comerç Just\, des de l’arbre fins el producte final\, donant informació a cada part del procés de les diferències entre el comerç just i el comerç convencional. Durant l’explicació es va passant informació gràfica\, així com material tàctil i visual i per degustar.\nAportem materials per donar un toc dinàmic i actiu a aquesta activitat.\nL’experiència ens demostra que és una activitat amb una gran acceptació arreu del territori.
URL:https://gact2.gact.terrassa.cat/activitat/tast-de-cafe-de-comerc-just/
LOCATION:Centre Educatiu\, Terrassa\, Barcelona\, Espanya
ATTACH;FMTTYPE=image/png:https://gact2.gact.terrassa.cat/wp-content/uploads/2020/07/logo_alternativa3.png
ORGANIZER;CN="Servei de Solidaritat i Cooperaci%C3%B3 Internacional":MAILTO:solidaritat@terrassa.cat
END:VEVENT
BEGIN:VEVENT
DTSTART;VALUE=DATE:20210909
DTEND;VALUE=DATE:20220601
DTSTAMP:20260420T221948
CREATED:20201026T092233Z
LAST-MODIFIED:20220113T173453Z
UID:5858-1631145600-1654041599@gact2.gact.terrassa.cat
SUMMARY:Dinàmiques participatives de Comerç Just
DESCRIPTION:DESCRIPCIÓ\nOferim un taller de dinàmiques participatives per conèixer el Comerç Just. Una manera dinàmica i divertida per aprendre i reflexionar sobre les desigualtats Nord –Sud Global i les opcions que la ciutadania tenim per canviar les coses.\nAquest taller es connecta amb l’àmbit de coneixement del medi i l’àmbit d’educació en valors\, i desenvolupa les següents competències:\n1) Àmbit de coneixement del medi\n-Plantejar-se preguntes sobre el medi\n-Valorar problemes socials rellevants interpretant-ne les causes i les conseqüències per plantejar propostes de futur.\n-Adoptar hàbits sobre l’adquisció i l’ús de bens i serveis\, amb coneixements científics i socials per practicar un consum responsable.\n-Participar en la vida col·lectiva a partir de valors democràtics\, per millorar la convivència i per afavorir un entorn més just i solidari.\n2) Àmbit d’educació en valors:\n-Qüestionar-se i usar l’argumentació per superar prejudicis i consolidar el pensament propi.\n-Analitzar l’entorn amb criteris ètics per cercar solucions alternatives als problemes.\n-Mostrar actituds de servei i de compromís social\, especialment davant les situacions d’injustícia.
URL:https://gact2.gact.terrassa.cat/activitat/comerc-just/
LOCATION:Centre Educatiu\, Terrassa\, Barcelona\, Espanya
CATEGORIES:Educació en valors,Novetats
ATTACH;FMTTYPE=image/png:https://gact2.gact.terrassa.cat/wp-content/uploads/2020/07/logo_alternativa3.png
ORGANIZER;CN="Servei de Solidaritat i Cooperaci%C3%B3 Internacional":MAILTO:solidaritat@terrassa.cat
END:VEVENT
BEGIN:VEVENT
DTSTART;VALUE=DATE:20210909
DTEND;VALUE=DATE:20211202
DTSTAMP:20260420T221948
CREATED:20201026T091759Z
LAST-MODIFIED:20210720T101731Z
UID:5851-1631145600-1638403199@gact2.gact.terrassa.cat
SUMMARY:Tast de cacau de Comerç Just
DESCRIPTION:DESCRIPCIÓ\nEl tast de cacau de Comerç Just vol donar a conèixer les diferències entre el Comerç just i el comerç convencional\, a partir d’una activitat innovadora i atraient.\nS’explica el procés d’elaboració del cacau de Comerç Just\, des de l’arbre fins el producte final\, donant informació a cada part del procés de les diferències entre el comerç just i el comerç convencional. Durant l’explicació es va passant informació gràfica\, així com material tàctil i per degustar.\nAportem materials per donar un toc dinàmic i actiu a aquesta activitat.\nL’experiència ens demostra que és una activitat amb una gran acceptació arreu del territori.\nAquest taller es connecta amb l’àmbit de coneixement del medi i l’àmbit d’educació en valors\, i desenvolupa les següents competències:\n1) Àmbit de coneixement del medi\n-Plantejar-se preguntes sobre el medi\n-Valorar problemes socials rellevants interpretant-ne les causes i les conseqüències per plantejar propostes de futur.\n-Adoptar hàbits sobre l’adquisció i l’ús de bens i serveis\, amb coneixements científics i socials per practicar un consum responsable.\n-Participar en la vida col·lectiva a partir de valors democràtics\, per millorar la convivència i per afavorir un entorn més just i solidari.\n2) Àmbit d’educació en valors:\n-Qüestionar-se i usar l’argumentació per superar prejudicis i consolidar el pensament propi.\n-Analitzar l’entorn amb criteris ètics per cercar solucions alternatives als problemes.\n-Mostrar actituds de servei i de compromís social\, especialment davant les situacions d’injustícia.\n* Relacions amb les disciplines del currículum:\nAprendre a ser una ciutadania responsable en un món global\nContinguts relacionats amb l’àmbit de Medi:\nBiodiversitat i sostenibilitat\nConsum responsable\nEconomia i sostenibilitat\nOrganització social
URL:https://gact2.gact.terrassa.cat/activitat/tast-de-cafe-o-cacau-de-comerc-just/
LOCATION:Centre Educatiu\, Terrassa\, Barcelona\, Espanya
CATEGORIES:Educació en valors
ATTACH;FMTTYPE=image/png:https://gact2.gact.terrassa.cat/wp-content/uploads/2020/07/logo_alternativa3.png
ORGANIZER;CN="Servei de Solidaritat i Cooperaci%C3%B3 Internacional":MAILTO:solidaritat@terrassa.cat
END:VEVENT
END:VCALENDAR