BEGIN:VCALENDAR
VERSION:2.0
PRODID:-//Guia d&#039;activitats (proves) - ECPv6.15.0.1//NONSGML v1.0//EN
CALSCALE:GREGORIAN
METHOD:PUBLISH
X-WR-CALNAME:Guia d&#039;activitats (proves)
X-ORIGINAL-URL:https://gact2.gact.terrassa.cat
X-WR-CALDESC:Esdeveniments per Guia d&#039;activitats (proves)
REFRESH-INTERVAL;VALUE=DURATION:PT1H
X-Robots-Tag:noindex
X-PUBLISHED-TTL:PT1H
BEGIN:VTIMEZONE
TZID:Europe/Madrid
BEGIN:DAYLIGHT
TZOFFSETFROM:+0100
TZOFFSETTO:+0200
TZNAME:CEST
DTSTART:20210328T010000
END:DAYLIGHT
BEGIN:STANDARD
TZOFFSETFROM:+0200
TZOFFSETTO:+0100
TZNAME:CET
DTSTART:20211031T010000
END:STANDARD
BEGIN:DAYLIGHT
TZOFFSETFROM:+0100
TZOFFSETTO:+0200
TZNAME:CEST
DTSTART:20220327T010000
END:DAYLIGHT
BEGIN:STANDARD
TZOFFSETFROM:+0200
TZOFFSETTO:+0100
TZNAME:CET
DTSTART:20221030T010000
END:STANDARD
END:VTIMEZONE
BEGIN:VEVENT
DTSTART;VALUE=DATE:20211216
DTEND;VALUE=DATE:20211217
DTSTAMP:20260421T001312
CREATED:20201014T103714Z
LAST-MODIFIED:20211116T124204Z
UID:1502-1639612800-1639699199@gact2.gact.terrassa.cat
SUMMARY:Trobada escolar de nadales
DESCRIPTION:L’alumnat treballa una Nadala popular; catalana o de qualsevol altra cultura\, que cantaran en públic el dia de la trobada.El programa de la Cantada constarà d’un màxim de 20 Nadales.\nEl concert s’emetrà en diferit per Canal Terrassa TV i per la Ràdio Municipal\, durant les festes de Nadal. \nCalendari: 16 de desembre a les 10h a la Sala Vallhonrat de la Factoria Social de Terrassa- LaFACT (Centre Cultural)
URL:https://gact2.gact.terrassa.cat/activitat/__trashed-99/
LOCATION:Centre Cultural de Terrassa\, Rambla d'Ègara\, 340\, Terrassa\, Barcelona\, 08221\, Espanya
CATEGORIES:Educació artística
ORGANIZER;CN="Servei d'Educaci%C3%B3":MAILTO:promocio.educativa@terrassa.cat
END:VEVENT
BEGIN:VEVENT
DTSTART;VALUE=DATE:20211015
DTEND;VALUE=DATE:20220618
DTSTAMP:20260421T001312
CREATED:20200904T103012Z
LAST-MODIFIED:20211015T080610Z
UID:1682-1634256000-1655510399@gact2.gact.terrassa.cat
SUMMARY:Visita virtual al Canal Terrassa
DESCRIPTION:  \nVisita virtual per les instal.lacions de Canal Terrassa i la Ràdio Municipal; per conèixer la redacció\, els controls de ràdio i TV\,  la web terrassadigital\, el plató\, el locutori\, la sala de maquillatge i la sala d’edició. També coneixerem els processos bàsics per a fer una notícia per televisió i ràdio de la mà dels periodistes. \n 
URL:https://gact2.gact.terrassa.cat/activitat/__trashed-4/
LOCATION:Centre Educatiu\, Terrassa\, Barcelona\, Espanya
CATEGORIES:Ciutat i territori
ATTACH;FMTTYPE=image/jpeg:https://gact2.gact.terrassa.cat/wp-content/uploads/2020/07/foto_logo-e1634285154842.jpg
END:VEVENT
BEGIN:VEVENT
DTSTART;VALUE=DATE:20210514
DTEND;VALUE=DATE:20210515
DTSTAMP:20260421T001312
CREATED:20201115T230037Z
LAST-MODIFIED:20210616T132811Z
UID:3936-1620950400-1621036799@gact2.gact.terrassa.cat
SUMMARY:Dia Internacional de la Llum: La Llum a la Televisió
DESCRIPTION:DESCRIPCIÓ\n\nVisita a les instal•lacions de Canal Terrassa i la Ràdio Municipal de Terrassa\, per veure el procés de producció de notícies i programes\, amb especial atenció a aspectes pràctics vinculats a la importància de la llum en l’àmbit audiovisual. \nActivitat  que s’emmarca en els actes de la celebració de l’Acte Central a Espanya de la commemoració del Dia Internacional de la Llum declarat per la UNESCO el dia 15 de maig\, i que es farà a Terrassa. \nL’assignació de l’activitat es realitzarà per ordre d’arribada de les sol·licituds\, fins a ocupar-ne les sessions disponibles. \nSi cal transport per arribar al lloc de l’activitat\, el Centre Educatiu s’ha de fer càrrec d’aquesta despesa.
URL:https://gact2.gact.terrassa.cat/activitat/dia-internacional-de-la-llum-la-llum-a-la-televisio/
LOCATION:Canal Terrassa Vallès\, Plaça de la Farinera\, 5\, Terrassa\, Barcelona\, 08222
CATEGORIES:STEM
ATTACH;FMTTYPE=image/jpeg:https://gact2.gact.terrassa.cat/wp-content/uploads/2020/09/Logo_foot-300x154-1.jpg
ORGANIZER;CN="Universitat Polit%C3%A8cnica de Catalunya d'%C3%92ptica i Optometria":MAILTO:elisabet.perez@upc.edu
END:VEVENT
END:VCALENDAR