BEGIN:VCALENDAR
VERSION:2.0
PRODID:-//Guia d&#039;activitats (proves) - ECPv6.15.0.1//NONSGML v1.0//EN
CALSCALE:GREGORIAN
METHOD:PUBLISH
X-WR-CALNAME:Guia d&#039;activitats (proves)
X-ORIGINAL-URL:https://gact2.gact.terrassa.cat
X-WR-CALDESC:Esdeveniments per Guia d&#039;activitats (proves)
REFRESH-INTERVAL;VALUE=DURATION:PT1H
X-Robots-Tag:noindex
X-PUBLISHED-TTL:PT1H
BEGIN:VTIMEZONE
TZID:Europe/Madrid
BEGIN:DAYLIGHT
TZOFFSETFROM:+0100
TZOFFSETTO:+0200
TZNAME:CEST
DTSTART:20210328T010000
END:DAYLIGHT
BEGIN:STANDARD
TZOFFSETFROM:+0200
TZOFFSETTO:+0100
TZNAME:CET
DTSTART:20211031T010000
END:STANDARD
BEGIN:DAYLIGHT
TZOFFSETFROM:+0100
TZOFFSETTO:+0200
TZNAME:CEST
DTSTART:20220327T010000
END:DAYLIGHT
BEGIN:STANDARD
TZOFFSETFROM:+0200
TZOFFSETTO:+0100
TZNAME:CET
DTSTART:20221030T010000
END:STANDARD
END:VTIMEZONE
BEGIN:VEVENT
DTSTART;VALUE=DATE:20210909
DTEND;VALUE=DATE:20220618
DTSTAMP:20260421T001032
CREATED:20201015T123135Z
LAST-MODIFIED:20220113T173441Z
UID:5135-1631145600-1655510399@gact2.gact.terrassa.cat
SUMMARY:Redescobrint els cavalls
DESCRIPTION:DESCRIPCIÓ\n\nTenir contacte amb els cavalls peu a terra (sense munta). \nLa primera part constaria de raspallat\, aprendre les parts del cos\, saber què mengen i altres cures bàsiques. \nLa segona part consta d’una dinàmica de joc en equip amb els cavalls aprenent a jugar amb ells sense necessitat de muntar. \nInfants amb mobilitat reduïda avisar amb antelació. \nPreu: 9.90 € per nen (incloent impostos). Pagament del 50% per reservar la data de l´activitat. L´altre 50% fins a tres dies abans de realitzar l’activitat. En cas de cancel·lació per força major (pluja\, etc) es buscarà un altre dia.
URL:https://gact2.gact.terrassa.cat/activitat/redescobrint-els-cavalls/
LOCATION:Hípica La Vinya\, Masia Cal Jaume\, s/n\, Ullastrell\, Barcelona\, 08231\, Espanya
CATEGORIES:Medi ambient i sostenibilitat,Novetats
ATTACH;FMTTYPE=image/jpeg:https://gact2.gact.terrassa.cat/wp-content/uploads/2020/07/maxresdefault-1-e1602764963598.jpg
ORGANIZER;CN="Som Alaire":MAILTO:info@somalaire.com
END:VEVENT
END:VCALENDAR