BEGIN:VCALENDAR
VERSION:2.0
PRODID:-//Guia d&#039;activitats (proves) - ECPv6.15.0.1//NONSGML v1.0//EN
CALSCALE:GREGORIAN
METHOD:PUBLISH
X-WR-CALNAME:Guia d&#039;activitats (proves)
X-ORIGINAL-URL:https://gact2.gact.terrassa.cat
X-WR-CALDESC:Esdeveniments per Guia d&#039;activitats (proves)
REFRESH-INTERVAL;VALUE=DURATION:PT1H
X-Robots-Tag:noindex
X-PUBLISHED-TTL:PT1H
BEGIN:VTIMEZONE
TZID:Europe/Madrid
BEGIN:DAYLIGHT
TZOFFSETFROM:+0100
TZOFFSETTO:+0200
TZNAME:CEST
DTSTART:20210328T010000
END:DAYLIGHT
BEGIN:STANDARD
TZOFFSETFROM:+0200
TZOFFSETTO:+0100
TZNAME:CET
DTSTART:20211031T010000
END:STANDARD
END:VTIMEZONE
BEGIN:VEVENT
DTSTART;VALUE=DATE:20210113
DTEND;VALUE=DATE:20210603
DTSTAMP:20260421T023309
CREATED:20201112T230000Z
LAST-MODIFIED:20210616T113014Z
UID:1611-1610496000-1622678399@gact2.gact.terrassa.cat
SUMMARY:Vine a l'Olímpic
DESCRIPTION:DESCRIPCIÓ\n\nEl Terrassa FC SAD ofereix la possibilitat de visitar les instal·lacions de l’Estadi Olímpic de Terrassa i de conèixer a les jugadores o als jugadors del primer equip de la nostra ciutat.\n. Visita guiada a les instal·lacions esportives: oficines\, museu\, sala centenari\, sala vip\, llotja presidencial i vestidors.\n. Xerrada col·loqui a la sala tècnica impartida per personal del club i jugadors o jugadores de la primera plantilla del Terrassa FC.\n. Sortida al terreny de joc i organització d’un partit entre l’alumnat participant. \nNota:  L’Estadi Olímpic és accessible per a persones amb mobilitat reduïda a les oficines i al passadís superior de les grades. Per accedir al camp parlar amb els responsables de l’activitat. \nATENCIÓ: Només s’admet la inscripció d’1 centre per dia\, amb un màxim de 60 pax\, (2 grups classe).
URL:https://gact2.gact.terrassa.cat/activitat/vine-a-lolimpic/
LOCATION:Estadi Olímpic de Terrassa\, Carrer Jocs Olímpics\, s/n\, Terrassa\, Barcelona\, 08225\, Espanya
CATEGORIES:Ciutat i territori
ATTACH;FMTTYPE=image/jpeg:https://gact2.gact.terrassa.cat/wp-content/uploads/2020/07/Terrassa_Futbol_Club_logo_on_stadium_wall.jpg
ORGANIZER;CN="Terrassa FC":MAILTO:premsa@terrassafc.com / tostjaume@hotmail.com
END:VEVENT
END:VCALENDAR