BEGIN:VCALENDAR
VERSION:2.0
PRODID:-//Guia d&#039;activitats (proves) - ECPv6.15.0.1//NONSGML v1.0//EN
CALSCALE:GREGORIAN
METHOD:PUBLISH
X-ORIGINAL-URL:https://gact2.gact.terrassa.cat
X-WR-CALDESC:Esdeveniments per Guia d&#039;activitats (proves)
REFRESH-INTERVAL;VALUE=DURATION:PT1H
X-Robots-Tag:noindex
X-PUBLISHED-TTL:PT1H
BEGIN:VTIMEZONE
TZID:Europe/Madrid
BEGIN:DAYLIGHT
TZOFFSETFROM:+0100
TZOFFSETTO:+0200
TZNAME:CEST
DTSTART:20210328T010000
END:DAYLIGHT
BEGIN:STANDARD
TZOFFSETFROM:+0200
TZOFFSETTO:+0100
TZNAME:CET
DTSTART:20211031T010000
END:STANDARD
END:VTIMEZONE
BEGIN:VEVENT
DTSTART;VALUE=DATE:20210412
DTEND;VALUE=DATE:20210413
DTSTAMP:20260421T020707
CREATED:20201201T133537Z
LAST-MODIFIED:20201201T133823Z
UID:6815-1618185600-1618271999@gact2.gact.terrassa.cat
SUMMARY:Elmet\, the patchwork elephant
DESCRIPTION:DESCRIPCIÓ\n\nElmer\, és un elefant gens avorrit. A diferència dels seus amics\, ell és multicolor.\nAquest clàssic infantil creat per David Mackee\, explica la història d’aquest elefant i el seu dia a dia\, en un món on tots els seus amics són de color “elefant”. Un espectacle on el convencional queda de costat\, s’ensenya la importància de ser un mateix\, transmetent valors positius tan importants com el respecte\, l’acceptació i la diversitat.
URL:https://gact2.gact.terrassa.cat/activitat/elmet-the-patchwork-elephant/
LOCATION:Sala Crespi\, Carrer Major de Sant Pere\, 59\, Terrassa\, Barcelona\, 08221\, Espanya
CATEGORIES:Educació artística
ATTACH;FMTTYPE=image/jpeg:https://gact2.gact.terrassa.cat/wp-content/uploads/2020/12/Elmet_.jpg
ORGANIZER;CN="Transeduca":MAILTO:mireia@transeduca.com
END:VEVENT
BEGIN:VEVENT
DTSTART;VALUE=DATE:20210317
DTEND;VALUE=DATE:20210318
DTSTAMP:20260421T020707
CREATED:20200902T130222Z
LAST-MODIFIED:20201201T134007Z
UID:1386-1615939200-1616025599@gact2.gact.terrassa.cat
SUMMARY:El monstre de colors
DESCRIPTION:DESCRIPCIÓ\n\nEl Monstre de Colors és un espectacle de titelles\, música i colors per als més petits amb el qual viatjarem al món de les emocions. Veurem al monstre confós\, content\, confús\, enfadat\, trist\, acovardit i enamorat; i al costat d’ell aprendrem a ordenar i a posar nom a cada emoció. \nAdaptació teatral de “El Monstre de Colors” obra d’Anna Llenas.
URL:https://gact2.gact.terrassa.cat/activitat/el-monstre-de-colors/
LOCATION:Sala Crespi\, Carrer Major de Sant Pere\, 59\, Terrassa\, Barcelona\, 08221\, Espanya
CATEGORIES:Educació artística
ATTACH;FMTTYPE=image/jpeg:https://gact2.gact.terrassa.cat/wp-content/uploads/2020/07/1541691385monstree_1-e1594384994640.jpg
ORGANIZER;CN="Transeduca":MAILTO:mireia@transeduca.com
END:VEVENT
END:VCALENDAR