BEGIN:VCALENDAR
VERSION:2.0
PRODID:-//Guia d&#039;activitats (proves) - ECPv6.15.0.1//NONSGML v1.0//EN
CALSCALE:GREGORIAN
METHOD:PUBLISH
X-ORIGINAL-URL:https://gact2.gact.terrassa.cat
X-WR-CALDESC:Esdeveniments per Guia d&#039;activitats (proves)
REFRESH-INTERVAL;VALUE=DURATION:PT1H
X-Robots-Tag:noindex
X-PUBLISHED-TTL:PT1H
BEGIN:VTIMEZONE
TZID:Europe/Madrid
BEGIN:DAYLIGHT
TZOFFSETFROM:+0100
TZOFFSETTO:+0200
TZNAME:CEST
DTSTART:20210328T010000
END:DAYLIGHT
BEGIN:STANDARD
TZOFFSETFROM:+0200
TZOFFSETTO:+0100
TZNAME:CET
DTSTART:20211031T010000
END:STANDARD
BEGIN:DAYLIGHT
TZOFFSETFROM:+0100
TZOFFSETTO:+0200
TZNAME:CEST
DTSTART:20220327T010000
END:DAYLIGHT
BEGIN:STANDARD
TZOFFSETFROM:+0200
TZOFFSETTO:+0100
TZNAME:CET
DTSTART:20221030T010000
END:STANDARD
END:VTIMEZONE
BEGIN:VEVENT
DTSTART;VALUE=DATE:20210913
DTEND;VALUE=DATE:20220617
DTSTAMP:20260421T001109
CREATED:20201112T230044Z
LAST-MODIFIED:20210917T123906Z
UID:1712-1631491200-1655423999@gact2.gact.terrassa.cat
SUMMARY:Terrassa\, barri a barri
DESCRIPTION:DESCRIPCIÓ\n\nL’activitat s’inicia amb una visita a les instal·lacions de l’Arxiu per conèixer quines són les seves funcions. El grup\, en equips\, haurà d’utilitzar el fons documental de l’Arxiu per fer una cerca relacionada amb l’origen\, l’evolució i l’ús ideològic dels noms dels barris de Terrassa. L’activitat finalitza amb una exposició conjunta dels resultats de la recerca i el muntatge d’un plafó-resum de l’evolució urbanística i històrica de la ciutat. \n 
URL:https://gact2.gact.terrassa.cat/activitat/terrassa-barri-a-barri/
LOCATION:Arxiu Històric de Terrassa – Arxiu Comarcal del Vallès Occidental\, Carrer de Baldrich\, 268\, Terrassa\, Barcelona\, 08223\, Espanya
CATEGORIES:Història i patrimoni
ATTACH;FMTTYPE=image/jpeg:https://gact2.gact.terrassa.cat/wp-content/uploads/2020/09/Arxiu.jpg
END:VEVENT
BEGIN:VEVENT
DTSTART;TZID=Europe/Madrid:20210909T080000
DTEND;TZID=Europe/Madrid:20220617T170000
DTSTAMP:20260421T001109
CREATED:20210722T122859Z
LAST-MODIFIED:20210915T125335Z
UID:9739-1631174400-1655485200@gact2.gact.terrassa.cat
SUMMARY:Un poblat de l'Edat de Pedra
DESCRIPTION:DESCRIPCIÓ\n\nUs imagineu la classe convertida en un poblat de la prehistòria? A través d’un conte participatiu descobrim com es vivia a la prehistòria\, quins materials s’utilitzaven i com s’ho feien els nostres avantpassats per poder sobreviure sense tot el que tenim al segle XXI. Acabem l’activitat amb una demostració d’encesa de foc i la confecció d’una titella. \nEs realitzaran un màxim de 10 tallers
URL:https://gact2.gact.terrassa.cat/activitat/un-poblat-de-ledat-de-pedra/
LOCATION:Centre Educatiu\, Terrassa\, Barcelona\, Espanya
ATTACH;FMTTYPE=image/jpeg:https://gact2.gact.terrassa.cat/wp-content/uploads/2021/07/encesa-foc.jpg
END:VEVENT
BEGIN:VEVENT
DTSTART;VALUE=DATE:20210909
DTEND;VALUE=DATE:20220618
DTSTAMP:20260421T001109
CREATED:20210729T074348Z
LAST-MODIFIED:20220113T174102Z
UID:9850-1631145600-1655510399@gact2.gact.terrassa.cat
SUMMARY:L'Agnès i les epidèmies
DESCRIPTION:DESCRIPCIÓ\n\nFem un recorregut per les instal·lacions de l’Arxiu i descobrim els secrets del nostre bagul de les pandèmies amb l’ajuda d’una nissaga llarguíssima de terrassenques dedicades a guarir\, la nissaga de l’Agnès Menzilla\, cirurgiana. \nMaterial de suport: \n– Maleta didàctica “La Pandèmica” amb nombrosos materials relacionats amb les pandèmies que ha patit Terrassa des de la pesta a la covid19.\n– Plafó amb fitxes imantades amb les diferents imatges de l’Agnès al llarg del temps.
URL:https://gact2.gact.terrassa.cat/activitat/lagnes-i-les-epidemies/
LOCATION:Arxiu Històric de Terrassa – Arxiu Comarcal del Vallès Occidental\, Carrer de Baldrich\, 268\, Terrassa\, Barcelona\, 08223\, Espanya
CATEGORIES:Novetats
ATTACH;FMTTYPE=image/png:https://gact2.gact.terrassa.cat/wp-content/uploads/2021/07/imatge-1-3.png
ORGANIZER;CN="Arxiu Comarcal del Vall%C3%A8s Occidental i Arxiu Hist%C3%B2ric de Terrassa -ACVO-AHT":MAILTO:arxiu.historic@terrassa.cat
END:VEVENT
BEGIN:VEVENT
DTSTART;VALUE=DATE:20210909
DTEND;VALUE=DATE:20220618
DTSTAMP:20260421T001109
CREATED:20210728T123347Z
LAST-MODIFIED:20220113T174055Z
UID:9837-1631145600-1655510399@gact2.gact.terrassa.cat
SUMMARY:Vila closa\, una història de pandèmies
DESCRIPTION:DESCRIPCIÓ\n\nL’activitat s’inicia amb una visita a les instal·lacions de l’Arxiu per conèixer quines són les seves funcions. Després el grup haurà de fer una activitat de cerca en base a documentació original relacionada amb les epidèmies que han assolat Terrassa del segle XIV al XX i a nombroses reproduccions de materials vinculats a malalties infeccioses i cures. \nMaterial de suport: \n– Selecció de documents originals de l’Arxiu\, del segle XIV al XXI\, de la pesta negra a la covid19.\n– Bagul mèdic amb diferents materials vinculats a les malalties infeccioses.\n– Plafons amb il·lustracions de suport per a la cerca.\n– Fitxes didàctiques il·lustrades.\n– Podeu consultar en PDF el llibre “Històries morboses” de Joan Soler.
URL:https://gact2.gact.terrassa.cat/activitat/vila-closa-una-historia-de-pandemies/
LOCATION:Arxiu Històric de Terrassa – Arxiu Comarcal del Vallès Occidental\, Carrer de Baldrich\, 268\, Terrassa\, Barcelona\, 08223\, Espanya
CATEGORIES:Novetats
ATTACH;FMTTYPE=image/png:https://gact2.gact.terrassa.cat/wp-content/uploads/2021/07/imatge-2-2.png
ORGANIZER;CN="Arxiu Comarcal del Vall%C3%A8s Occidental i Arxiu Hist%C3%B2ric de Terrassa -ACVO-AHT":MAILTO:arxiu.historic@terrassa.cat
END:VEVENT
BEGIN:VEVENT
DTSTART;VALUE=DATE:20210909
DTEND;VALUE=DATE:20220618
DTSTAMP:20260421T001109
CREATED:20210728T121451Z
LAST-MODIFIED:20220113T174050Z
UID:9831-1631145600-1655510399@gact2.gact.terrassa.cat
SUMMARY:Una masia al Vallès
DESCRIPTION:DESCRIPCIÓ\n\nFem un recorregut per les instal·lacions de l’Arxiu acompanyats de les titelles de la Pubilla i l’Hereu. Aquests dos personatges ens explicaran perquè és tan important la informació que es guarda i s’estudia a l’Arxiu i ens faran viatjar a l’època en que les vinyes cobrien bona part del territori de Terrassa.
URL:https://gact2.gact.terrassa.cat/activitat/una-masia-al-valles/
LOCATION:Arxiu Històric de Terrassa – Arxiu Comarcal del Vallès Occidental\, Carrer de Baldrich\, 268\, Terrassa\, Barcelona\, 08223\, Espanya
CATEGORIES:Novetats
ATTACH;FMTTYPE=image/png:https://gact2.gact.terrassa.cat/wp-content/uploads/2021/07/imatge-1.png
ORGANIZER;CN="Arxiu Comarcal del Vall%C3%A8s Occidental i Arxiu Hist%C3%B2ric de Terrassa -ACVO-AHT":MAILTO:arxiu.historic@terrassa.cat
END:VEVENT
BEGIN:VEVENT
DTSTART;VALUE=DATE:20210909
DTEND;VALUE=DATE:20220618
DTSTAMP:20260421T001109
CREATED:20210726T115607Z
LAST-MODIFIED:20220113T174002Z
UID:9766-1631145600-1655510399@gact2.gact.terrassa.cat
SUMMARY:Scriptorium. Món medieval
DESCRIPTION:DESCRIPCIÓ\n\nIntroducció amb suport visual al món medieval i a la vida als monestirs i viles de l’edat mitjana\, fent especial esment a la Vila de Palau de Terrassa i als monestirs de Santa Maria i la Cartoixa de Vallparadís. Recreem l’ambient d’un scriptorium terrassenc de l’edat mitjana per fer un manuscrit utilitzant plomes i tinters\, a la llum de les llànties. \nHi ha disponibles un màxim de 10 tallers \n 
URL:https://gact2.gact.terrassa.cat/activitat/scriptorium-mon-medieval/
LOCATION:Centre Educatiu\, Terrassa\, Barcelona\, Espanya
CATEGORIES:Novetats
ATTACH;FMTTYPE=image/jpeg:https://gact2.gact.terrassa.cat/wp-content/uploads/2021/07/scritorium.jpg
END:VEVENT
BEGIN:VEVENT
DTSTART;VALUE=DATE:20210909
DTEND;VALUE=DATE:20220618
DTSTAMP:20260421T001109
CREATED:20210726T115017Z
LAST-MODIFIED:20220113T173649Z
UID:9763-1631145600-1655510399@gact2.gact.terrassa.cat
SUMMARY:Món antic. Som un taller MUSIVAR
DESCRIPTION:DESCRIPCIÓ\n\nDescobrim amb suport visual quines cultures han poblat el nostre territori a l’època antiga i quin ha estat el llegat cultural dels pobles ibers\, grecs i romans. Recreem el funcionament d’un taller musivar en el que cada participant farà un mosaic inspirant-se en els dissenys que s’han recuperat de l’antiga Ègara. \nHi ha disponibles un màxim de 10 tallers. \n  \n  \n 
URL:https://gact2.gact.terrassa.cat/activitat/mon-antic-som-un-taller-musivar/
LOCATION:Centre Educatiu\, Terrassa\, Barcelona\, Espanya
CATEGORIES:Novetats
ATTACH;FMTTYPE=image/jpeg:https://gact2.gact.terrassa.cat/wp-content/uploads/2021/07/tesselles.jpg
END:VEVENT
END:VCALENDAR