BEGIN:VCALENDAR
VERSION:2.0
PRODID:-//Guia d&#039;activitats (proves) - ECPv6.15.0.1//NONSGML v1.0//EN
CALSCALE:GREGORIAN
METHOD:PUBLISH
X-WR-CALNAME:Guia d&#039;activitats (proves)
X-ORIGINAL-URL:https://gact2.gact.terrassa.cat
X-WR-CALDESC:Esdeveniments per Guia d&#039;activitats (proves)
REFRESH-INTERVAL;VALUE=DURATION:PT1H
X-Robots-Tag:noindex
X-PUBLISHED-TTL:PT1H
BEGIN:VTIMEZONE
TZID:Europe/Madrid
BEGIN:DAYLIGHT
TZOFFSETFROM:+0100
TZOFFSETTO:+0200
TZNAME:CEST
DTSTART:20210328T010000
END:DAYLIGHT
BEGIN:STANDARD
TZOFFSETFROM:+0200
TZOFFSETTO:+0100
TZNAME:CET
DTSTART:20211031T010000
END:STANDARD
BEGIN:DAYLIGHT
TZOFFSETFROM:+0100
TZOFFSETTO:+0200
TZNAME:CEST
DTSTART:20220327T010000
END:DAYLIGHT
BEGIN:STANDARD
TZOFFSETFROM:+0200
TZOFFSETTO:+0100
TZNAME:CET
DTSTART:20221030T010000
END:STANDARD
END:VTIMEZONE
BEGIN:VEVENT
DTSTART;VALUE=DATE:20210909
DTEND;VALUE=DATE:20220601
DTSTAMP:20260421T002133
CREATED:20201129T230004Z
LAST-MODIFIED:20211102T080835Z
UID:1402-1631145600-1654041599@gact2.gact.terrassa.cat
SUMMARY:Coneix l'atletisme!
DESCRIPTION:DESCRIPCIÓ\n\nPràctica de les diferents modalitats d’atletisme i del funcionament d’una pista d’atletisme amb diferents materials d’entrenament:\n. Stantings o blocs de sortida per les curses de velocitat.\n. Javelina\, pes\, martell i disc d’iniciació. \nNomés es podrà fer 2 tallers simultàniament al dia i per a un mateix centre i amb un màxim de 30 alumnes cada taller.\n 
URL:https://gact2.gact.terrassa.cat/activitat/practica-latletisme/
LOCATION:Pista d’Atletisme del ZEM de Can Jofresa\, C/ Badalona\, 4\, Terrassa\, Barcelona\, 08223\, Espanya
CATEGORIES:Educació per la salut
ATTACH;FMTTYPE=image/png:https://gact2.gact.terrassa.cat/wp-content/uploads/2020/07/logo_uat.png
ORGANIZER;CN="Uni%C3%B3 Atl%C3%A8tica de Terrasa - UAT":MAILTO:secretariaunioatleticaterrasssa@gmail.com
END:VEVENT
END:VCALENDAR